BEGIN:VCALENDAR
VERSION:2.0
PRODID:-//A&#039;Lelia Bundles - ECPv6.15.20//NONSGML v1.0//EN
CALSCALE:GREGORIAN
METHOD:PUBLISH
X-ORIGINAL-URL:https://aleliabundles.com
X-WR-CALDESC:Events for A&#039;Lelia Bundles
REFRESH-INTERVAL;VALUE=DURATION:PT1H
X-Robots-Tag:noindex
X-PUBLISHED-TTL:PT1H
BEGIN:VTIMEZONE
TZID:UTC
BEGIN:STANDARD
TZOFFSETFROM:+0000
TZOFFSETTO:+0000
TZNAME:UTC
DTSTART:20240101T000000
END:STANDARD
END:VTIMEZONE
BEGIN:VEVENT
DTSTART;TZID=UTC:20250612T180000
DTEND;TZID=UTC:20250612T200000
DTSTAMP:20260422T032156
CREATED:20250404T231800Z
LAST-MODIFIED:20250513T232504Z
UID:30512-1749751200-1749758400@aleliabundles.com
SUMMARY:Joy Goddess in Phildelphia (Barnes & Noble)
DESCRIPTION:A’Lelia will talk about Joy Goddess: A’Lelia Walker and the Harlem Renaissance in conversation with Rutgers Professor Tiffany Gill at the Philadelphia Barnes & Noble.\nThe event is free but registration is recommended
URL:https://aleliabundles.com/event/joy-goddess-in-phildelphia-barnes-noble/
LOCATION:Barnes & Noble Philadelphia\, 1708 Chestnut Street\, Philadelphia\, PA\, 19103\, United States
END:VEVENT
END:VCALENDAR