BEGIN:VCALENDAR
VERSION:2.0
PRODID:-//A&#039;Lelia Bundles - ECPv6.15.20//NONSGML v1.0//EN
CALSCALE:GREGORIAN
METHOD:PUBLISH
X-ORIGINAL-URL:https://aleliabundles.com
X-WR-CALDESC:Events for A&#039;Lelia Bundles
REFRESH-INTERVAL;VALUE=DURATION:PT1H
X-Robots-Tag:noindex
X-PUBLISHED-TTL:PT1H
BEGIN:VTIMEZONE
TZID:UTC
BEGIN:STANDARD
TZOFFSETFROM:+0000
TZOFFSETTO:+0000
TZNAME:UTC
DTSTART:20240101T000000
END:STANDARD
END:VTIMEZONE
BEGIN:VEVENT
DTSTART;TZID=UTC:20250925T173000
DTEND;TZID=UTC:20250925T203000
DTSTAMP:20260422T083715
CREATED:20250920T172313Z
LAST-MODIFIED:20250920T172313Z
UID:30661-1758821400-1758832200@aleliabundles.com
SUMMARY:NGAAP/The Soul of Philanthropy 10th Anniversary - Charlotte\, NC
DESCRIPTION:God Given: The HeART & Soul of Black Philanthropy\n“Any form of art is a form of power; it has impact\, it can affect change – it can not only move us\, it makes us move.” — Ossie Davis\, Actor\, Playwright\, and Civil Rights Advocate \nA look at Black creativity and cultural expression\, specifically how Black artists and art patrons—past\, present and future—give back\, using their gifts and resources to foster shared visions\, resiliency\, and novel solutions in response to community and global issues. \nIn the spirit of Sankofa\, this program\, presented in conjunction with The Soul of Philanthropy • CLT Homecoming exhibition\, will: Look back with A’Lelia Bundles\, author of the newly released book Joy Goddess: A’Lelia Walker and the Harlem Renaissance; Examine contemporary times over the past two decades with community-rooted artists from the God City Collective; and Look forward by building upon lessons from the past to shape a future that brings greater visibility\, investments and influence for social impact. \n• A complimentry copy of Joy Goddess will be provided to attendees. \n• Preceding the program will be a social reception with food and beverages. \n• Following the program will be a book signing with A’Lelia Bundles and participating artists.
URL:https://aleliabundles.com/event/ngaap-the-soul-of-philanthropy-10th-anniversary-charlotte-nc/
LOCATION:Wray Ward\, 2317 Thrift Road\, Charlotte\, North Carolina\, 28208\, United States
END:VEVENT
END:VCALENDAR