BEGIN:VCALENDAR
VERSION:2.0
PRODID:-//A&#039;Lelia Bundles - ECPv6.15.20//NONSGML v1.0//EN
CALSCALE:GREGORIAN
METHOD:PUBLISH
X-WR-CALNAME:A&#039;Lelia Bundles
X-ORIGINAL-URL:https://aleliabundles.com
X-WR-CALDESC:Events for A&#039;Lelia Bundles
REFRESH-INTERVAL;VALUE=DURATION:PT1H
X-Robots-Tag:noindex
X-PUBLISHED-TTL:PT1H
BEGIN:VTIMEZONE
TZID:UTC
BEGIN:STANDARD
TZOFFSETFROM:+0000
TZOFFSETTO:+0000
TZNAME:UTC
DTSTART:20240101T000000
END:STANDARD
END:VTIMEZONE
BEGIN:VEVENT
DTSTART;TZID=UTC:20251004T100000
DTEND;TZID=UTC:20251004T110000
DTSTAMP:20260422T083504
CREATED:20250920T173943Z
LAST-MODIFIED:20251017T163719Z
UID:30674-1759572000-1759575600@aleliabundles.com
SUMMARY:Six Bridges Book Festival - Little Rock\, Arkansas
DESCRIPTION:Click here to listen to A’Lelia’s conversation with Juanita Tolliver and Jessica McDaniels. \nPRESENTERS: A’Lelia Bundles & Juanita Tolliver\nBOOKS: Joy Goddess: A’Lelia Walker and the Harlem Renaissance & A More Perfect Party: The Night Shirley Chisholm and Diahann Carroll Reshaped Politics \n\n\n\n\n\n\nModerator: Jessica McDaniels \nAbout the authors:\nA’Lelia Bundles is the author of Joy Goddess: A’Lelia Walker and the Harlem Renaissance\, the first major biography of her great-grandmother\, and of On Her Own Ground: The Life and Times of Madam C. J. Walker\, a New York Times Notable Book about her entrepreneurial great-great-grandmother. Bundles is a former ABC News executive\, an Emmy-winning NBC News producer\, founder of the Madam Walker Family Archives\, and a member of several nonprofit boards including Harvard’s Schlesinger Library. \nJuanita Tolliver is an MSNBC political analyst\, an opinion contributor for TheGrio\, and a contributor for SiriusXM Progress. Previously\, she served as the director of campaigns at the Center for American Progress. She is a graduate of the Fletcher School of Law and Diplomacy at Tufts University\, and the University of North Carolina at Chapel Hill. \nAbout the books:\nJoy Goddess: A’Lelia Walker and the Harlem Renaissance is a vibrant\, nuanced\, deeply researched biography of a woman whose glamorous soirees helped define uptown New York’s cultural and social scene during the 1920s. Best known as the only child of hair care entrepreneur Madam C. J. Walker\, she was an internationally famous heiress and arts patron in her own right\, who entertained the era’s most famous artists\, writers\, musicians and actors at her Dark Tower salon. \nA More Perfect Party: The Night Shirley Chisholm and Diahann Carroll Reshaped Politics spotlights the legendary party hosted by legendary actress and singer Diahann Carroll for New York Representative Shirley Chisholm’s 1972 presidential campaign (the first such campaign for a Black woman)\, which changed the playing field for Black women in politics. Zooming in on one party attendee per chapter\, A More Perfect Party brings this whimsical event out of the margins of history to demonstrate that there is an opportunity for all of us to fight for a better nation and return power to the people. \nSponsored by ESSE Purse Museum & Store with additional support from the CALS Distinguished Lecture Fund in honor of Betsey Wright \n\n\n\n\n\nAGE GROUP: | Teens ages 12-19 | Adults |
URL:https://aleliabundles.com/event/six-bridges-book-festival-little-rock-arkansas/
LOCATION:Ron Robinson Theater at Central Arkansas Library System\, 100 River Market Avenue\, Little Rock\, AR\, 72201\, United States
END:VEVENT
END:VCALENDAR