BEGIN:VCALENDAR
VERSION:2.0
PRODID:-//A&#039;Lelia Bundles - ECPv6.15.20//NONSGML v1.0//EN
CALSCALE:GREGORIAN
METHOD:PUBLISH
X-ORIGINAL-URL:https://aleliabundles.com
X-WR-CALDESC:Events for A&#039;Lelia Bundles
REFRESH-INTERVAL;VALUE=DURATION:PT1H
X-Robots-Tag:noindex
X-PUBLISHED-TTL:PT1H
BEGIN:VTIMEZONE
TZID:UTC
BEGIN:STANDARD
TZOFFSETFROM:+0000
TZOFFSETTO:+0000
TZNAME:UTC
DTSTART:20240101T000000
END:STANDARD
END:VTIMEZONE
BEGIN:VEVENT
DTSTART;TZID=UTC:20251007T190000
DTEND;TZID=UTC:20251007T203000
DTSTAMP:20260422T102444
CREATED:20250920T174745Z
LAST-MODIFIED:20251007T213844Z
UID:30681-1759863600-1759869000@aleliabundles.com
SUMMARY:Harvard Club of Washington\, DC - A'Lelia Bundles & Dolen Perkins-Valdez in Conversation
DESCRIPTION:REGISTER HERE https://bit.ly/4pMRh4n
URL:https://aleliabundles.com/event/harvard-club-of-washington-dc-joy-goddess-harlem-renaissance-dinner/
LOCATION:Hogan Lovells\, 555 13th Street NW\, Washington\, DC\, 20004\, United States
END:VEVENT
END:VCALENDAR