BEGIN:VCALENDAR
VERSION:2.0
PRODID:-//A&#039;Lelia Bundles - ECPv6.15.20//NONSGML v1.0//EN
CALSCALE:GREGORIAN
METHOD:PUBLISH
X-WR-CALNAME:A&#039;Lelia Bundles
X-ORIGINAL-URL:https://aleliabundles.com
X-WR-CALDESC:Events for A&#039;Lelia Bundles
REFRESH-INTERVAL;VALUE=DURATION:PT1H
X-Robots-Tag:noindex
X-PUBLISHED-TTL:PT1H
BEGIN:VTIMEZONE
TZID:UTC
BEGIN:STANDARD
TZOFFSETFROM:+0000
TZOFFSETTO:+0000
TZNAME:UTC
DTSTART:20240101T000000
END:STANDARD
END:VTIMEZONE
BEGIN:VEVENT
DTSTART;TZID=UTC:20251014T180000
DTEND;TZID=UTC:20251014T200000
DTSTAMP:20260422T102300
CREATED:20251007T215057Z
LAST-MODIFIED:20251007T215057Z
UID:30719-1760464800-1760472000@aleliabundles.com
SUMMARY:University Club of DC Joy Goddess Book Talk
DESCRIPTION:A’Lelia will join members of the University Club of Washington\, DC for a talk about her book\, Joy Goddess: A’Lelia Walker and the Harlem Renaissance.
URL:https://aleliabundles.com/event/university-club-of-dc-joy-goddess-book-talk/
LOCATION:University Club of Washington\, DC\, 1135 16th Street NW\, Washington\, DC\, United States
END:VEVENT
END:VCALENDAR