BEGIN:VCALENDAR
VERSION:2.0
PRODID:-//A&#039;Lelia Bundles - ECPv6.15.20//NONSGML v1.0//EN
CALSCALE:GREGORIAN
METHOD:PUBLISH
X-WR-CALNAME:A&#039;Lelia Bundles
X-ORIGINAL-URL:https://aleliabundles.com
X-WR-CALDESC:Events for A&#039;Lelia Bundles
REFRESH-INTERVAL;VALUE=DURATION:PT1H
X-Robots-Tag:noindex
X-PUBLISHED-TTL:PT1H
BEGIN:VTIMEZONE
TZID:UTC
BEGIN:STANDARD
TZOFFSETFROM:+0000
TZOFFSETTO:+0000
TZNAME:UTC
DTSTART:20240101T000000
END:STANDARD
END:VTIMEZONE
BEGIN:VEVENT
DTSTART;TZID=UTC:20251021T180000
DTEND;TZID=UTC:20251021T200000
DTSTAMP:20260422T102303
CREATED:20251007T215415Z
LAST-MODIFIED:20251007T215415Z
UID:30723-1761069600-1761076800@aleliabundles.com
SUMMARY:GANYC Guides Association of NYC
DESCRIPTION:A’Lelia will conduct a virtual tour of A’Lelia Walker’s favorite Harlem addresses for the Guides Association of NYC
URL:https://aleliabundles.com/event/ganyc-guides-association-of-nyc/
LOCATION:MA
END:VEVENT
END:VCALENDAR