BEGIN:VCALENDAR
VERSION:2.0
PRODID:-//A&#039;Lelia Bundles - ECPv6.15.20//NONSGML v1.0//EN
CALSCALE:GREGORIAN
METHOD:PUBLISH
X-ORIGINAL-URL:https://aleliabundles.com
X-WR-CALDESC:Events for A&#039;Lelia Bundles
REFRESH-INTERVAL;VALUE=DURATION:PT1H
X-Robots-Tag:noindex
X-PUBLISHED-TTL:PT1H
BEGIN:VTIMEZONE
TZID:UTC
BEGIN:STANDARD
TZOFFSETFROM:+0000
TZOFFSETTO:+0000
TZNAME:UTC
DTSTART:20240101T000000
END:STANDARD
END:VTIMEZONE
BEGIN:VEVENT
DTSTART;TZID=UTC:20251023T120000
DTEND;TZID=UTC:20251023T130000
DTSTAMP:20260422T102443
CREATED:20250920T181334Z
LAST-MODIFIED:20250920T181754Z
UID:30701-1761220800-1761224400@aleliabundles.com
SUMMARY:A'Lelia Bundles in conversation with Tina Knowles - Indiana Conference for Women
DESCRIPTION:A’Lelia will be in conversation with Tina Knowles about her book Matriarch: A Memoir at the ICFW lunchtime keynote program.
URL:https://aleliabundles.com/event/alelia-bundles-in-conversation-with-tina-knowles-indiana-conference-for-women/
LOCATION:JW Marriott Indianapolis\, 10 S. West Street\, Indianapolis\, IN\, United States
END:VEVENT
END:VCALENDAR