BEGIN:VCALENDAR
VERSION:2.0
PRODID:-//A&#039;Lelia Bundles - ECPv6.15.20//NONSGML v1.0//EN
CALSCALE:GREGORIAN
METHOD:PUBLISH
X-WR-CALNAME:A&#039;Lelia Bundles
X-ORIGINAL-URL:https://aleliabundles.com
X-WR-CALDESC:Events for A&#039;Lelia Bundles
REFRESH-INTERVAL;VALUE=DURATION:PT1H
X-Robots-Tag:noindex
X-PUBLISHED-TTL:PT1H
BEGIN:VTIMEZONE
TZID:UTC
BEGIN:STANDARD
TZOFFSETFROM:+0000
TZOFFSETTO:+0000
TZNAME:UTC
DTSTART:20250101T000000
END:STANDARD
END:VTIMEZONE
BEGIN:VEVENT
DTSTART;TZID=UTC:20260218T180000
DTEND;TZID=UTC:20260218T190000
DTSTAMP:20260421T213752
CREATED:20260215T171401Z
LAST-MODIFIED:20260215T180151Z
UID:30882-1771437600-1771441200@aleliabundles.com
SUMMARY:VIRTUAL Everyday Yellow Book Talk
DESCRIPTION:Please join A’Lelia for a stimulating VIRTUAL conversation with coach Charisse Williams about Joy Goddess: A’Lelia Walker and the Harlem Renaissance and the importance of joy and resilience in these chaotic times.
URL:https://aleliabundles.com/event/virtual-everyday-yellow-book-talk/
LOCATION:MA
ATTACH;FMTTYPE=image/jpeg:https://aleliabundles.com/wp-content/uploads/2026/02/Everyday-Yellow-Book-Talk-2-18-2026.jpg
END:VEVENT
END:VCALENDAR