BEGIN:VCALENDAR
VERSION:2.0
PRODID:-//A&#039;Lelia Bundles - ECPv6.15.20//NONSGML v1.0//EN
CALSCALE:GREGORIAN
METHOD:PUBLISH
X-ORIGINAL-URL:https://aleliabundles.com
X-WR-CALDESC:Events for A&#039;Lelia Bundles
REFRESH-INTERVAL;VALUE=DURATION:PT1H
X-Robots-Tag:noindex
X-PUBLISHED-TTL:PT1H
BEGIN:VTIMEZONE
TZID:UTC
BEGIN:STANDARD
TZOFFSETFROM:+0000
TZOFFSETTO:+0000
TZNAME:UTC
DTSTART:20250101T000000
END:STANDARD
END:VTIMEZONE
BEGIN:VEVENT
DTSTART;TZID=UTC:20260221T160000
DTEND;TZID=UTC:20260221T180000
DTSTAMP:20260421T213813
CREATED:20260215T172519Z
LAST-MODIFIED:20260215T180259Z
UID:30887-1771689600-1771696800@aleliabundles.com
SUMMARY:Montclair Public Library Book Talk with Khalil Muhammad
DESCRIPTION:A’Lelia will be in conversation with historian and Princeton professor Khalil Muhammad at the Montclair Public Library \nRegister at https://bccls.libcal.com/event/15698895 \nFrom the MPL website \nOpen Book\, Open Mind; A’Lelia Bundles\, “Joy Goddess: A’Lelia Walker and the Harlem Renaissance”\nAward-winning television producer and author A’Lelia Bundles will be talking with Princeton professor Khalil Gibran Muhammad about her new biography of A’Lelia Walker\, her great grandmother\, the hair care heiress and patroness of the Harlem Renaissance whom Langston Hughes called “the joy goddess of Harlem.” Bundles will also show a PowerPoint presentation of historic images and rare archival family photos. \nDoors open at 3:30 p.m. The discussion will be followed by an audience Q&A and book sales and signing with Watchung Booksellers. \n \n 
URL:https://aleliabundles.com/event/montclair-public-library-book-talk-with-khalil-muhammad/
LOCATION:Montclair Public Library\, 50 S. Fullerton Avenue\, Montclair\, NJ\, 07402\, United States
ATTACH;FMTTYPE=image/jpeg:https://aleliabundles.com/wp-content/uploads/2026/02/Screenshot-AB-and-KM.jpg
END:VEVENT
END:VCALENDAR