BEGIN:VCALENDAR
VERSION:2.0
PRODID:-//A&#039;Lelia Bundles - ECPv6.15.20//NONSGML v1.0//EN
CALSCALE:GREGORIAN
METHOD:PUBLISH
X-WR-CALNAME:A&#039;Lelia Bundles
X-ORIGINAL-URL:https://aleliabundles.com
X-WR-CALDESC:Events for A&#039;Lelia Bundles
REFRESH-INTERVAL;VALUE=DURATION:PT1H
X-Robots-Tag:noindex
X-PUBLISHED-TTL:PT1H
BEGIN:VTIMEZONE
TZID:UTC
BEGIN:STANDARD
TZOFFSETFROM:+0000
TZOFFSETTO:+0000
TZNAME:UTC
DTSTART:20250101T000000
END:STANDARD
END:VTIMEZONE
BEGIN:VEVENT
DTSTART;TZID=UTC:20260801T120000
DTEND;TZID=UTC:20260801T170000
DTSTAMP:20260421T182808
CREATED:20260405T125523Z
LAST-MODIFIED:20260405T125523Z
UID:31081-1785585600-1785603600@aleliabundles.com
SUMMARY:Sag Harbor Black Authors Festival
DESCRIPTION:A’Lelia will receive a lifetime achievement award at the 2026 Sag Harbor Black Authors Festival.
URL:https://aleliabundles.com/event/sag-harbor-black-authors-festival/
LOCATION:Breakwater Yacht Club\, 51 Bay Street\, Sag Harbor\, NY\, United States
ATTACH;FMTTYPE=image/jpeg:https://aleliabundles.com/wp-content/uploads/2026/04/Screenshot-Flier-Sag-Harbor-8-1-2026.jpg
END:VEVENT
END:VCALENDAR