BEGIN:VCALENDAR
VERSION:2.0
PRODID:-//A&#039;Lelia Bundles - ECPv6.15.20//NONSGML v1.0//EN
CALSCALE:GREGORIAN
METHOD:PUBLISH
X-WR-CALNAME:A&#039;Lelia Bundles
X-ORIGINAL-URL:https://aleliabundles.com
X-WR-CALDESC:Events for A&#039;Lelia Bundles
REFRESH-INTERVAL;VALUE=DURATION:PT1H
X-Robots-Tag:noindex
X-PUBLISHED-TTL:PT1H
BEGIN:VTIMEZONE
TZID:UTC
BEGIN:STANDARD
TZOFFSETFROM:+0000
TZOFFSETTO:+0000
TZNAME:UTC
DTSTART:20220101T000000
END:STANDARD
END:VTIMEZONE
BEGIN:VTIMEZONE
TZID:Asia/Karachi
BEGIN:STANDARD
TZOFFSETFROM:+0500
TZOFFSETTO:+0500
TZNAME:PKT
DTSTART:20240101T000000
END:STANDARD
END:VTIMEZONE
BEGIN:VTIMEZONE
TZID:America/New_York
BEGIN:DAYLIGHT
TZOFFSETFROM:-0500
TZOFFSETTO:-0400
TZNAME:EDT
DTSTART:20240310T070000
END:DAYLIGHT
BEGIN:STANDARD
TZOFFSETFROM:-0400
TZOFFSETTO:-0500
TZNAME:EST
DTSTART:20241103T060000
END:STANDARD
BEGIN:DAYLIGHT
TZOFFSETFROM:-0500
TZOFFSETTO:-0400
TZNAME:EDT
DTSTART:20250309T070000
END:DAYLIGHT
BEGIN:STANDARD
TZOFFSETFROM:-0400
TZOFFSETTO:-0500
TZNAME:EST
DTSTART:20251102T060000
END:STANDARD
BEGIN:DAYLIGHT
TZOFFSETFROM:-0500
TZOFFSETTO:-0400
TZNAME:EDT
DTSTART:20260308T070000
END:DAYLIGHT
BEGIN:STANDARD
TZOFFSETFROM:-0400
TZOFFSETTO:-0500
TZNAME:EST
DTSTART:20261101T060000
END:STANDARD
END:VTIMEZONE
BEGIN:VEVENT
DTSTART;TZID=UTC:20250131T080000
DTEND;TZID=UTC:20250131T130000
DTSTAMP:20260419T122942
CREATED:20250203T125942Z
LAST-MODIFIED:20250203T130230Z
UID:30437-1738310400-1738328400@aleliabundles.com
SUMMARY:Harvard Business School “Changing the World: Life Choices of Influential Leaders"
DESCRIPTION:For the third year\, A’Lelia joins Professor Robert Simons’s Harvard Business School class — ““Changing the World: Life Choices of Influential Leaders” — to answers second year MBA students’ questions about Simons’s case study on Madam C. J. Walker’s life as an entrepreneur.
URL:https://aleliabundles.com/event/harvard-business-school-changing-the-world-life-choices-of-influential-leaders/
LOCATION:MA
END:VEVENT
BEGIN:VEVENT
DTSTART;TZID=Asia/Karachi:20250104T083000
DTEND;TZID=Asia/Karachi:20250104T100000
DTSTAMP:20260419T122942
CREATED:20250107T145024Z
LAST-MODIFIED:20250112T182456Z
UID:30413-1735979400-1735984800@aleliabundles.com
SUMMARY:AHA Black Women's Biography
DESCRIPTION:A’Lelia joins a panel with professors Barbara Savage (University of Pennsylvania)\, Thadious Davis (University of Pennsylvania)\, Farah Jasmine Griffin (Columbia University)\, Cheryl D. Hicks (University of Delaware) and Sharon Harley (University of Maryland College Park). Inspired by Savage’s Merze Tate: The Global Odyssey of a Black Woman Scholar (Yale\, 2023)\, this session explores questions of sources\, methodology\, and interpretation in biographies of African American women. Panelists will speak from their experiences as scholars whose work represents a rich variety of approaches to researching and writing the lives of a diverse group of Black women.
URL:https://aleliabundles.com/event/aha-black-womens-biography-1-4-2025/
LOCATION:New York Hilton\, 1335 Sixth Avenue\, New York\, NY
END:VEVENT
BEGIN:VEVENT
DTSTART;TZID=America/New_York:20250103T200000
DTEND;TZID=America/New_York:20250103T213000
DTSTAMP:20260419T122942
CREATED:20241220T135202Z
LAST-MODIFIED:20241230T144008Z
UID:30381-1735934400-1735939800@aleliabundles.com
SUMMARY:AHA Harlem Renaissance Plenary (NYC)
DESCRIPTION:In observation of the 100th anniversary of Alain Locke’s The New Negro\, A’Lelia will join a panel moderated by Columbia Journalism School dean Jelani Cobb with Gene Andrew Jarrett (Princeton)\, David Levering Lewis (NYU)\, Denise Murrell (The Met)\, and Jeffrey Stewart (UCSB) at the American Historical Association annual meeting.
URL:https://aleliabundles.com/event/aha-harlem-renaissance-plenary/
LOCATION:New York Hilton\, 1335 Sixth Avenue\, New York\, NY
END:VEVENT
BEGIN:VEVENT
DTSTART;VALUE=DATE:20240422
DTEND;VALUE=DATE:20240423
DTSTAMP:20260419T122942
CREATED:20231119T154544Z
LAST-MODIFIED:20231119T154544Z
UID:30315-1713744000-1713830399@aleliabundles.com
SUMMARY:Keller Williams Conference
DESCRIPTION:Indianapolis\, IN
URL:https://aleliabundles.com/event/keller-williams-conference/
LOCATION:MA
CATEGORIES:Events,Speeches & Appearances
END:VEVENT
BEGIN:VEVENT
DTSTART;TZID=UTC:20240306T130000
DTEND;TZID=UTC:20240306T140000
DTSTAMP:20260419T122942
CREATED:20231119T154452Z
LAST-MODIFIED:20231119T154452Z
UID:30313-1709730000-1709733600@aleliabundles.com
SUMMARY:Keynote: The Power of Aging (in person)
DESCRIPTION:PAA Community Forum on Aging \nwww.paainc.org
URL:https://aleliabundles.com/event/keynote-the-power-of-aging-in-person/
LOCATION:MA
END:VEVENT
BEGIN:VEVENT
DTSTART;TZID=UTC:20240302T170000
DTEND;TZID=UTC:20240302T190000
DTSTAMP:20260419T122942
CREATED:20231119T153608Z
LAST-MODIFIED:20231119T153608Z
UID:30311-1709398800-1709406000@aleliabundles.com
SUMMARY:Madam Walker and Annie Malone with Agbara Bryson (in-person)
DESCRIPTION:Peoria Riverfront Museum \n222 SW Washington Street \nPeoria\, IL \nhttps://www.peoriariverfrontmuseum.org/events
URL:https://aleliabundles.com/event/madam-walker-and-annie-malone-with-agbara-bryson-in-person/
LOCATION:MA
END:VEVENT
BEGIN:VEVENT
DTSTART;TZID=UTC:20240228T180000
DTEND;TZID=UTC:20240228T200000
DTSTAMP:20260419T122942
CREATED:20231119T153438Z
LAST-MODIFIED:20231119T153438Z
UID:30309-1709143200-1709150400@aleliabundles.com
SUMMARY:Hair Love Keynote & Booksigning (in-person)
DESCRIPTION:Willard Library \n7 West Van Buren Street \nBattle Creek\, MI \nhttps://willardlibrary.evanced.info/signup/calendar
URL:https://aleliabundles.com/event/hair-love-keynote-booksigning-in-person/
LOCATION:MA
END:VEVENT
BEGIN:VEVENT
DTSTART;TZID=UTC:20240226T180000
DTEND;TZID=UTC:20240226T200000
DTSTAMP:20260419T122942
CREATED:20231119T152726Z
LAST-MODIFIED:20231119T152726Z
UID:30307-1708970400-1708977600@aleliabundles.com
SUMMARY:Madam C. J. Walker Award for Excellence in DEI
DESCRIPTION:Personal Care Products Council Annual Meeting \nLoews Coral Gables \nCoral Gables\, FL \nhttps://www.personalcarecouncil.org/events/2024-annual-meeting/ \nand \nhttps://www.personalcarecouncil.org/sustainability/diversity-equity-and-inclusion-dei/madam-c-j-walker-award-for-excellence-in-diversity-equity-and-inclusion-dei-nomination-form/ \n 
URL:https://aleliabundles.com/event/madam-c-j-walker-award-for-excellence-in-dei/
LOCATION:MA
CATEGORIES:Events,Speeches & Appearances
END:VEVENT
BEGIN:VEVENT
DTSTART;TZID=UTC:20240219T160000
DTEND;TZID=UTC:20240219T180000
DTSTAMP:20260419T122942
CREATED:20231119T152553Z
LAST-MODIFIED:20231119T152553Z
UID:30305-1708358400-1708365600@aleliabundles.com
SUMMARY:Kurt Vonnegut Museum
DESCRIPTION:543 Indiana Avenue \nIndianapolis\, IN \nhttps://www.vonnegutlibrary.org/
URL:https://aleliabundles.com/event/kurt-vonnegut-museum/
LOCATION:MA
END:VEVENT
BEGIN:VEVENT
DTSTART;TZID=UTC:20240201T180000
DTEND;TZID=UTC:20240201T200000
DTSTAMP:20260419T122942
CREATED:20231119T152356Z
LAST-MODIFIED:20231119T152356Z
UID:30303-1706810400-1706817600@aleliabundles.com
SUMMARY:Indiana Avenue History Panel Discussion (in-person)
DESCRIPTION:Indiana Landmarks Black Heritage Preservation Program \n1201 Central Avenue \nIndianapolis\, IN \nwww.indianalandmarks.org
URL:https://aleliabundles.com/event/indiana-avenue-history-panel-discussion-in-person/
LOCATION:MA
END:VEVENT
BEGIN:VEVENT
DTSTART;TZID=UTC:20231213T080000
DTEND;TZID=UTC:20231213T100000
DTSTAMP:20260419T122942
CREATED:20231119T152052Z
LAST-MODIFIED:20231119T152052Z
UID:30301-1702454400-1702461600@aleliabundles.com
SUMMARY:Madam Walker Scholarship Awards
DESCRIPTION:Society of Cosmetics Chemists \nNew York\, NY
URL:https://aleliabundles.com/event/madam-walker-scholarship-awards/
LOCATION:MA
CATEGORIES:Events,Speeches & Appearances
END:VEVENT
BEGIN:VEVENT
DTSTART;TZID=UTC:20231102T180000
DTEND;TZID=UTC:20231102T200000
DTSTAMP:20260419T122942
CREATED:20231119T151932Z
LAST-MODIFIED:20231119T151932Z
UID:30299-1698948000-1698955200@aleliabundles.com
SUMMARY:Keynote: Madam Walker and A’Lelia Walker in New York (Virtual and in-person)
DESCRIPTION:NY Genealogical and Biographical Society’s State Family History Conference \n36 West 44th Street\, New York\, NY \nRegistration: https://www.newyorkfamilyhistory.org/nysfhc/about
URL:https://aleliabundles.com/event/keynote-madam-walker-and-alelia-walker-in-new-york-virtual-and-in-person/
LOCATION:MA
END:VEVENT
BEGIN:VEVENT
DTSTART;TZID=UTC:20231028T150000
DTEND;TZID=UTC:20231028T163000
DTSTAMP:20260419T122942
CREATED:20231119T151702Z
LAST-MODIFIED:20231119T151702Z
UID:30297-1698505200-1698510600@aleliabundles.com
SUMMARY:A’Lelia interviews Tanisha Ford\, author of Our Secret Society: Mollie Moon and the Glamour\, Money\, and Power Behind the Civil Rights Movement
DESCRIPTION:Politics & Prose Bookstore \n5015 Connecticut Avenue NW \nWashington\, DC \nhttps://www.politics-prose.com/tanisha-ford
URL:https://aleliabundles.com/event/alelia-interviews-tanisha-ford-author-of-our-secret-society-mollie-moon-and-the-glamour-money-and-power-behind-the-civil-rights-movement/
LOCATION:MA
CATEGORIES:Events,Speeches & Appearances
END:VEVENT
BEGIN:VEVENT
DTSTART;TZID=UTC:20231027T170000
DTEND;TZID=UTC:20231027T190000
DTSTAMP:20260419T122942
CREATED:20231119T151536Z
LAST-MODIFIED:20231119T151536Z
UID:30295-1698426000-1698433200@aleliabundles.com
SUMMARY:Capps Lecture: INconversation with A’Lelia Bundles and Tyrone McKinley Freeman (Virtual and in-person)
DESCRIPTION:National Humanities Council Conference \nMadam Walker Legacy Center \nIndianapolis \nRegistration: https://www.eventbrite.com/e/inconversation-with-alelia-bundles-and-tyrone-mckinley-freeman-tickets-731909770827?aff=ebdssbdestsearch
URL:https://aleliabundles.com/event/capps-lecture-inconversation-with-alelia-bundles-and-tyrone-mckinley-freeman-virtual-and-in-person/
LOCATION:MA
END:VEVENT
BEGIN:VEVENT
DTSTART;VALUE=DATE:20231023
DTEND;VALUE=DATE:20231024
DTSTAMP:20260419T122942
CREATED:20231119T151103Z
LAST-MODIFIED:20231119T151103Z
UID:30293-1698019200-1698105599@aleliabundles.com
SUMMARY:Marvin Bowser’s Black Hair Photo Exhibition Panel Discussion
DESCRIPTION:https://www.marvinbowser.photography/BlackHair-Exhibition \nThe Ven at Embassy Row Hotel \n2015 Massachusetts Avenue NW \nWashington\, DC
URL:https://aleliabundles.com/event/marvin-bowsers-black-hair-photo-exhibition-panel-discussion/
LOCATION:MA
CATEGORIES:Events,Speeches & Appearances
END:VEVENT
BEGIN:VEVENT
DTSTART;TZID=UTC:20231020T173000
DTEND;TZID=UTC:20231020T200000
DTSTAMP:20260419T122942
CREATED:20231119T150932Z
LAST-MODIFIED:20231119T150932Z
UID:30291-1697823000-1697832000@aleliabundles.com
SUMMARY:Madam Walker Memorial Way Dedication
DESCRIPTION:Madam Walker Legacy Center \n617 Indiana Avenue \nIndianapolis \nhttps://www.youtube.com/watch?v=rAeFs9w-LPs \nhttps://madamwalkerlegacycenter.com/events/open-house-october/ \n 
URL:https://aleliabundles.com/event/madam-walker-memorial-way-dedication/
LOCATION:MA
END:VEVENT
BEGIN:VEVENT
DTSTART;TZID=UTC:20231004T193000
DTEND;TZID=UTC:20231004T210000
DTSTAMP:20260419T122942
CREATED:20231119T150755Z
LAST-MODIFIED:20231119T150755Z
UID:30289-1696447800-1696453200@aleliabundles.com
SUMMARY:L. Michelle Smith Book Talk
DESCRIPTION:Busboys & Poets \n450 K Street NW \nWashington\, DC
URL:https://aleliabundles.com/event/l-michelle-smith-book-talk/
LOCATION:MA
CATEGORIES:Events,Speeches & Appearances
END:VEVENT
BEGIN:VEVENT
DTSTART;VALUE=DATE:20230920
DTEND;VALUE=DATE:20230921
DTSTAMP:20260419T122942
CREATED:20231119T150616Z
LAST-MODIFIED:20231119T150616Z
UID:30287-1695168000-1695254399@aleliabundles.com
SUMMARY:Women of Color Literary Society Talk (virtual)
DESCRIPTION:https://www.woc-fp.com/book-club
URL:https://aleliabundles.com/event/women-of-color-literary-society-talk-virtual/
LOCATION:MA
CATEGORIES:Events,Speeches & Appearances
END:VEVENT
BEGIN:VEVENT
DTSTART;TZID=UTC:20230728T083000
DTEND;TZID=UTC:20230728T093000
DTSTAMP:20260419T122942
CREATED:20230425T173142Z
LAST-MODIFIED:20230425T173142Z
UID:30240-1690533000-1690536600@aleliabundles.com
SUMMARY:Association of Midwest Museums Conference Leadership Breakfast
DESCRIPTION:Union Station\nIndianapolis\, IN\nhttps://www.ammconference.org/
URL:https://aleliabundles.com/event/association-of-midwest-museums-conference-leadership-breakfast/
LOCATION:MA
END:VEVENT
BEGIN:VEVENT
DTSTART;TZID=UTC:20230727T100000
DTEND;TZID=UTC:20230727T110000
DTSTAMP:20260419T122942
CREATED:20230425T172458Z
LAST-MODIFIED:20230425T172523Z
UID:30234-1690452000-1690455600@aleliabundles.com
SUMMARY:Association of Midwest Museums Conference Keynote
DESCRIPTION:Keynote (In person)\nUnion Station\nIndianapolis\, IN\nhttps://www.ammconference.org/
URL:https://aleliabundles.com/event/association-of-midwest-museums-conference/
LOCATION:MA
END:VEVENT
BEGIN:VEVENT
DTSTART;VALUE=DATE:20230718
DTEND;VALUE=DATE:20230719
DTSTAMP:20260419T122942
CREATED:20231119T150106Z
LAST-MODIFIED:20231119T150106Z
UID:30284-1689638400-1689724799@aleliabundles.com
SUMMARY:Young Women’s Leadership Institute
DESCRIPTION:Saint Mary’s School \nhttps://www.sms.edu/our-programs/leadership-institute
URL:https://aleliabundles.com/event/young-womens-leadership-institute/
LOCATION:St Mary’s School\, Raleigh\, NC\, United States
END:VEVENT
BEGIN:VEVENT
DTSTART;TZID=UTC:20230713T180000
DTEND;TZID=UTC:20230713T210000
DTSTAMP:20260419T122942
CREATED:20231119T144605Z
LAST-MODIFIED:20231119T144605Z
UID:30282-1689271200-1689282000@aleliabundles.com
SUMMARY:Dizzy’s Club/Jazz at Lincoln Center
DESCRIPTION:Victory Goines’s Woodlawn Suite \nhttps://woodlawnconservancy.givecloud.co/product/TheWoodlawnSuiteCD/victor-goines-and-friends-the-woodlawn-suite-cd
URL:https://aleliabundles.com/event/dizzys-club-jazz-at-lincoln-center/
LOCATION:MA
END:VEVENT
BEGIN:VEVENT
DTSTART;TZID=UTC:20230701T133000
DTEND;TZID=UTC:20230701T153000
DTSTAMP:20260419T122942
CREATED:20231119T144331Z
LAST-MODIFIED:20231119T144331Z
UID:30280-1688218200-1688225400@aleliabundles.com
SUMMARY:Roberts Settlement Centennial Homecoming
DESCRIPTION:Atlanta\, IN \nhttps://www.robertssettlement.org/100th-homecoming.html
URL:https://aleliabundles.com/event/roberts-settlement-centennial-homecoming/
LOCATION:MA
END:VEVENT
BEGIN:VEVENT
DTSTART;VALUE=DATE:20230630
DTEND;VALUE=DATE:20230703
DTSTAMP:20260419T122942
CREATED:20230425T172341Z
LAST-MODIFIED:20230425T172341Z
UID:30231-1688083200-1688342399@aleliabundles.com
SUMMARY:Roberts Settlement Homecoming
DESCRIPTION:Roberts Settlement Homecoming\nNoblesville\, IN\nhttps://www.robertssettlement.org/ \n 
URL:https://aleliabundles.com/event/roberts-settlement-homecoming/
LOCATION:MA
END:VEVENT
BEGIN:VEVENT
DTSTART;VALUE=DATE:20230607
DTEND;VALUE=DATE:20230608
DTSTAMP:20260419T122942
CREATED:20231119T144117Z
LAST-MODIFIED:20231119T144117Z
UID:30277-1686096000-1686182399@aleliabundles.com
SUMMARY:Lumina Foundation Employee Retreat
DESCRIPTION:  \n  \n 
URL:https://aleliabundles.com/event/lumina-foundation-employee-retreat/
LOCATION:Indianapolis Children’s Museum\, Indianapolis\, United States
END:VEVENT
BEGIN:VEVENT
DTSTART;TZID=UTC:20230501T080000
DTEND;TZID=UTC:20230501T170000
DTSTAMP:20260419T122942
CREATED:20230425T172234Z
LAST-MODIFIED:20230425T172234Z
UID:30229-1682928000-1682960400@aleliabundles.com
SUMMARY:Women Writing Women’s Lives Biography Seminar (Virtual)
DESCRIPTION:CUNY Center for the Study of Women and Society/Graduate Center of CUNY
URL:https://aleliabundles.com/event/women-writing-womens-lives-biography-seminar-virtual/
LOCATION:MA
END:VEVENT
BEGIN:VEVENT
DTSTART;TZID=UTC:20230330T080000
DTEND;TZID=UTC:20230330T170000
DTSTAMP:20260419T122942
CREATED:20230425T172704Z
LAST-MODIFIED:20230425T172704Z
UID:30235-1680163200-1680195600@aleliabundles.com
SUMMARY:New York Genealogical & Biographical Society - Researching Women’s Biographies (In person)
DESCRIPTION:
URL:https://aleliabundles.com/event/new-york-genealogical-biographical-society-researching-womens-biographies-in-person/
LOCATION:New York Genealogical & Biographical Society\, 42 West 44th Street\, New York\, NY\, United States
CATEGORIES:Events
END:VEVENT
BEGIN:VEVENT
DTSTART;VALUE=DATE:20230329
DTEND;VALUE=DATE:20230330
DTSTAMP:20260419T122942
CREATED:20230425T171512Z
LAST-MODIFIED:20230425T171512Z
UID:30227-1680048000-1680134399@aleliabundles.com
SUMMARY:Bowie State - Women’s History Month (In person)
DESCRIPTION:Bowie State\nWomen’s History Month (In person)\nEntrepreneurship Innovation Center\nBowie\, MD\nhttps://bowiestate.edu/academics/special-programs/entrepreneurship-innovation-center/
URL:https://aleliabundles.com/event/bowie-state-womens-history-month-in-person/
LOCATION:MA
END:VEVENT
BEGIN:VEVENT
DTSTART;VALUE=DATE:20230311
DTEND;VALUE=DATE:20230312
DTSTAMP:20260419T122942
CREATED:20230425T171340Z
LAST-MODIFIED:20230425T171340Z
UID:30225-1678492800-1678579199@aleliabundles.com
SUMMARY:Metropolitan Links
DESCRIPTION:Writers Contest\nHoward University\nWashington\, DC
URL:https://aleliabundles.com/event/metropolitan-links/
LOCATION:MA
END:VEVENT
BEGIN:VEVENT
DTSTART;VALUE=DATE:20230301
DTEND;VALUE=DATE:20230302
DTSTAMP:20260419T122942
CREATED:20230222T043813Z
LAST-MODIFIED:20230222T043813Z
UID:29917-1677628800-1677715199@aleliabundles.com
SUMMARY:Morven Museum & Garden www.morven.org (Princeton\, NJ)
DESCRIPTION:
URL:https://aleliabundles.com/event/morven-museum-garden-www-morven-org-princeton-nj/
LOCATION:MA
END:VEVENT
END:VCALENDAR