BEGIN:VCALENDAR
VERSION:2.0
PRODID:-//A&#039;Lelia Bundles - ECPv6.15.20//NONSGML v1.0//EN
CALSCALE:GREGORIAN
METHOD:PUBLISH
X-WR-CALNAME:A&#039;Lelia Bundles
X-ORIGINAL-URL:https://aleliabundles.com
X-WR-CALDESC:Events for A&#039;Lelia Bundles
REFRESH-INTERVAL;VALUE=DURATION:PT1H
X-Robots-Tag:noindex
X-PUBLISHED-TTL:PT1H
BEGIN:VTIMEZONE
TZID:UTC
BEGIN:STANDARD
TZOFFSETFROM:+0000
TZOFFSETTO:+0000
TZNAME:UTC
DTSTART:20200101T000000
END:STANDARD
END:VTIMEZONE
BEGIN:VEVENT
DTSTART;TZID=UTC:20211118T000000
DTEND;TZID=UTC:20211118T000000
DTSTAMP:20260421T165956
CREATED:20230227T042243Z
LAST-MODIFIED:20230227T042243Z
UID:29987-1637193600-1637193600@aleliabundles.com
SUMMARY:Madam Walker’s Marketing Genius – American University Kogod School of Business
DESCRIPTION:November 18 Madam Walker’s Marketing Genius – American University Kogod School of Business
URL:https://aleliabundles.com/event/madam-walkers-marketing-genius-american-university-kogod-school-of-business/
END:VEVENT
BEGIN:VEVENT
DTSTART;TZID=UTC:20211118T000000
DTEND;TZID=UTC:20211118T000000
DTSTAMP:20260421T165956
CREATED:20230227T042243Z
LAST-MODIFIED:20230227T042243Z
UID:29988-1637193600-1637193600@aleliabundles.com
SUMMARY:Digital Encyclopedia of Indianapolis Launch – Indianapolis Public Library (Virtual)
DESCRIPTION:November 18 Digital Encyclopedia of Indianapolis Launch – Indianapolis Public Library (Virtual)
URL:https://aleliabundles.com/event/digital-encyclopedia-of-indianapolis-launch-indianapolis-public-library-virtual/
END:VEVENT
BEGIN:VEVENT
DTSTART;TZID=UTC:20211117T000000
DTEND;TZID=UTC:20211117T000000
DTSTAMP:20260421T165956
CREATED:20230227T042243Z
LAST-MODIFIED:20230227T042243Z
UID:29986-1637107200-1637107200@aleliabundles.com
SUMMARY:Indiana Library Federation Annual Conference (Indianapolis/in person)
DESCRIPTION:November 17 Indiana Library Federation Annual Conference (Indianapolis/in person)
URL:https://aleliabundles.com/event/indiana-library-federation-annual-conference-indianapolis-in-person/
END:VEVENT
BEGIN:VEVENT
DTSTART;TZID=UTC:20211116T000000
DTEND;TZID=UTC:20211116T000000
DTSTAMP:20260421T165956
CREATED:20230227T042243Z
LAST-MODIFIED:20230227T042243Z
UID:29985-1637020800-1637020800@aleliabundles.com
SUMMARY:The Past and the Future of Indiana Avenue – ReThink Coalition (in person)
DESCRIPTION:November 16 The Past and the Future of Indiana Avenue – ReThink Coalition (in person)
URL:https://aleliabundles.com/event/the-past-and-the-future-of-indiana-avenue-rethink-coalition-in-person/
END:VEVENT
BEGIN:VEVENT
DTSTART;TZID=UTC:20211115T000000
DTEND;TZID=UTC:20211115T000000
DTSTAMP:20260421T165956
CREATED:20230227T042243Z
LAST-MODIFIED:20230227T042243Z
UID:29984-1636934400-1636934400@aleliabundles.com
SUMMARY:Interviewing Kate Clinton Larson (Author of Walk with Me: A Biography of Fannie Lou Hamer) – National History Center (virtual)
DESCRIPTION:November 15 Interviewing Kate Clinton Larson (Author of Walk with Me: A Biography of Fannie Lou Hamer) – National History Center (virtual)
URL:https://aleliabundles.com/event/interviewing-kate-clinton-larson-author-of-walk-with-me-a-biography-of-fannie-lou-hamer-national-history-center-virtual/
END:VEVENT
BEGIN:VEVENT
DTSTART;TZID=UTC:20211111T000000
DTEND;TZID=UTC:20211111T000000
DTSTAMP:20260421T165956
CREATED:20230227T042043Z
LAST-MODIFIED:20230227T042043Z
UID:29983-1636588800-1636588800@aleliabundles.com
SUMMARY:Commonwealth Chapter of The Links\, Inc. (virtual) (Richmond\, VA)
DESCRIPTION:November 11 Commonwealth Chapter of The Links\, Inc. (virtual) (Richmond\, VA)
URL:https://aleliabundles.com/event/commonwealth-chapter-of-the-links-inc-virtual-richmond-va/
END:VEVENT
BEGIN:VEVENT
DTSTART;TZID=UTC:20211108T000000
DTEND;TZID=UTC:20211108T000000
DTSTAMP:20260421T165956
CREATED:20230227T042043Z
LAST-MODIFIED:20230227T042043Z
UID:29982-1636329600-1636329600@aleliabundles.com
SUMMARY:Oliver W. Hill Book Club discussion: On Her Own Ground: The Life and Times of Madam C. J. Walker – Richmond Public Law Library (Richmond\, VA/virtual)
DESCRIPTION:November 8 Oliver W. Hill Book Club discussion: On Her Own Ground: The Life and Times of Madam C. J. Walker – Richmond Public Law Library (Richmond\, VA/virtual)
URL:https://aleliabundles.com/event/oliver-w-hill-book-club-discussion-on-her-own-ground-the-life-and-times-of-madam-c-j-walker-richmond-public-law-library-richmond-va-virtual/
END:VEVENT
BEGIN:VEVENT
DTSTART;TZID=UTC:20211104T000000
DTEND;TZID=UTC:20211104T000000
DTSTAMP:20260421T165956
CREATED:20230227T042043Z
LAST-MODIFIED:20230227T042043Z
UID:29981-1635984000-1635984000@aleliabundles.com
SUMMARY:Smithsonian National Museum of American History (Details to come)
DESCRIPTION:November 4 Smithsonian National Museum of American History (Details to come)
URL:https://aleliabundles.com/event/smithsonian-national-museum-of-american-history-details-to-come/
END:VEVENT
BEGIN:VEVENT
DTSTART;TZID=UTC:20211023T000000
DTEND;TZID=UTC:20211023T000000
DTSTAMP:20260421T165956
CREATED:20230227T042043Z
LAST-MODIFIED:20230227T042043Z
UID:29980-1634947200-1634947200@aleliabundles.com
SUMMARY:Fourth Anniversary of the Center for Black Literature and Culture – Indianapolis Public Library
DESCRIPTION:October 23 Fourth Anniversary of the Center for Black Literature and Culture – Indianapolis Public Library
URL:https://aleliabundles.com/event/fourth-anniversary-of-the-center-for-black-literature-and-culture-indianapolis-public-library/
END:VEVENT
BEGIN:VEVENT
DTSTART;TZID=UTC:20211022T000000
DTEND;TZID=UTC:20211022T000000
DTSTAMP:20260421T165956
CREATED:20230227T042043Z
LAST-MODIFIED:20230227T042043Z
UID:29979-1634860800-1634860800@aleliabundles.com
SUMMARY:Student Mock Press Conference – Hampton University School of Journalism and Communications (virtual)
DESCRIPTION:October 22 Student Mock Press Conference – Hampton University School of Journalism and Communications (virtual)
URL:https://aleliabundles.com/event/student-mock-press-conference-hampton-university-school-of-journalism-and-communications-virtual/
END:VEVENT
BEGIN:VEVENT
DTSTART;TZID=UTC:20211015T000000
DTEND;TZID=UTC:20211015T000000
DTSTAMP:20260421T165956
CREATED:20230227T041843Z
LAST-MODIFIED:20230227T041843Z
UID:29978-1634256000-1634256000@aleliabundles.com
SUMMARY:Hurston Wright Awards
DESCRIPTION:October 15  Hurston Wright Awards
URL:https://aleliabundles.com/event/hurston-wright-awards/
END:VEVENT
BEGIN:VEVENT
DTSTART;TZID=UTC:20211014T000000
DTEND;TZID=UTC:20211014T000000
DTSTAMP:20260421T165956
CREATED:20230227T041843Z
LAST-MODIFIED:20230227T041843Z
UID:29977-1634169600-1634169600@aleliabundles.com
SUMMARY:Indianapolis Propylaeum Marilyn K.  Glick Women’s Enrichment Series: “Historic Neighborhoods of Indianapolis” (Indianapolis)
DESCRIPTION:October 14 Indianapolis Propylaeum Marilyn K.  Glick Women’s Enrichment Series: “Historic Neighborhoods of Indianapolis” (Indianapolis)
URL:https://aleliabundles.com/event/indianapolis-propylaeum-marilyn-k-glick-womens-enrichment-series-historic-neighborhoods-of-indianapolis-indianapolis/
END:VEVENT
BEGIN:VEVENT
DTSTART;TZID=UTC:20211007T000000
DTEND;TZID=UTC:20211007T000000
DTSTAMP:20260421T165956
CREATED:20230227T041843Z
LAST-MODIFIED:20230227T041843Z
UID:29976-1633564800-1633564800@aleliabundles.com
SUMMARY:Indiana Living Legends Indiana Historical Society (in person)  Scottish Rite Cathedral in Indianapolis
DESCRIPTION:October 7 – Indiana Living Legends Indiana Historical Society (in person)  Scottish Rite Cathedral in Indianapolis
URL:https://aleliabundles.com/event/indiana-living-legends-indiana-historical-society-in-person-scottish-rite-cathedral-in-indianapolis/
END:VEVENT
BEGIN:VEVENT
DTSTART;TZID=UTC:20211002T000000
DTEND;TZID=UTC:20211002T000000
DTSTAMP:20260421T165956
CREATED:20230227T041843Z
LAST-MODIFIED:20230227T041843Z
UID:29975-1633132800-1633132800@aleliabundles.com
SUMMARY:.March on Washington Film Festival (virtual) – How to Be a Citizen Journalist
DESCRIPTION:October 2 .March on Washington Film Festival (virtual) – How to Be a Citizen Journalist
URL:https://aleliabundles.com/event/march-on-washington-film-festival-virtual-how-to-be-a-citizen-journalist/
END:VEVENT
BEGIN:VEVENT
DTSTART;TZID=UTC:20210923T000000
DTEND;TZID=UTC:20210923T000000
DTSTAMP:20260421T165956
CREATED:20230227T041843Z
LAST-MODIFIED:20230227T041843Z
UID:29974-1632355200-1632355200@aleliabundles.com
SUMMARY:“Madam C. J. Walker’s Library and A’Lelia Walker’s Dark Tower” (virtual) Grolier Club (New York/virtual)
DESCRIPTION:September 23 “Madam C. J. Walker’s Library and A’Lelia Walker’s Dark Tower” (virtual) Grolier Club (New York/virtual)
URL:https://aleliabundles.com/event/madam-c-j-walkers-library-and-alelia-walkers-dark-tower-virtual-grolier-club-new-york-virtual/
END:VEVENT
BEGIN:VEVENT
DTSTART;TZID=UTC:20210918T000000
DTEND;TZID=UTC:20210918T000000
DTSTAMP:20260421T165956
CREATED:20230227T041643Z
LAST-MODIFIED:20230227T041643Z
UID:29973-1631923200-1631923200@aleliabundles.com
SUMMARY:ASALH/Association for the Study of African American Life and History (virtual) – “Black History and Black Families” Plenary
DESCRIPTION:September 18 ASALH/Association for the Study of African American Life and History (virtual) – “Black History and Black Families”Plenary
URL:https://aleliabundles.com/event/asalh-association-for-the-study-of-african-american-life-and-history-virtual-black-history-and-black-families-plenary/
END:VEVENT
BEGIN:VEVENT
DTSTART;TZID=UTC:20210914T000000
DTEND;TZID=UTC:20210914T000000
DTSTAMP:20260421T165956
CREATED:20230227T041643Z
LAST-MODIFIED:20230227T041643Z
UID:29972-1631577600-1631577600@aleliabundles.com
SUMMARY:Indianapolis Public Library – “Madam Walker’s Gospel of Giving” Tyrone McKinley Freeman Lecture (virtual)
DESCRIPTION:September 14 Indianapolis Public Library – “Madam Walker’s Gospel of Giving” Tyrone McKinley Freeman Lecture (virtual)
URL:https://aleliabundles.com/event/indianapolis-public-library-madam-walkers-gospel-of-giving-tyrone-mckinley-freeman-lecture-virtual/
END:VEVENT
BEGIN:VEVENT
DTSTART;TZID=UTC:20210909T000000
DTEND;TZID=UTC:20210909T000000
DTSTAMP:20260421T165956
CREATED:20230227T041643Z
LAST-MODIFIED:20230227T041643Z
UID:29971-1631145600-1631145600@aleliabundles.com
SUMMARY:Harvard Black Advancement –  Critical Race Theory: Facing America’s True History
DESCRIPTION:September 9 Harvard Black Advancement –  Critical Race Theory: Facing America’s True History
URL:https://aleliabundles.com/event/harvard-black-advancement-critical-race-theory-facing-americas-true-history/
END:VEVENT
BEGIN:VEVENT
DTSTART;TZID=UTC:20210825T000000
DTEND;TZID=UTC:20210825T000000
DTSTAMP:20260421T165956
CREATED:20230227T041643Z
LAST-MODIFIED:20230227T041643Z
UID:29970-1629849600-1629849600@aleliabundles.com
SUMMARY:PUBLIQuartet Reflections of Beauty Charles Wright Museum/Detroit (virtual)
DESCRIPTION:August 25 PUBLIQuartet Reflections of Beauty Charles Wright Museum/Detroit (virtual)
URL:https://aleliabundles.com/event/publiquartet-reflections-of-beauty-charles-wright-museum-detroit-virtual/
END:VEVENT
BEGIN:VEVENT
DTSTART;TZID=UTC:20210726T000000
DTEND;TZID=UTC:20210726T000000
DTSTAMP:20260421T165956
CREATED:20230227T041643Z
LAST-MODIFIED:20230227T041643Z
UID:29969-1627257600-1627257600@aleliabundles.com
SUMMARY:Center for Business Innovation/Black Tech Week (Virtual)
DESCRIPTION:July 26 Center for Business Innovation/Black Tech Week (Virtual)
URL:https://aleliabundles.com/event/center-for-business-innovation-black-tech-week-virtual/
END:VEVENT
BEGIN:VEVENT
DTSTART;TZID=UTC:20210713T000000
DTEND;TZID=UTC:20210713T000000
DTSTAMP:20260421T165956
CREATED:20230227T041443Z
LAST-MODIFIED:20230227T041443Z
UID:29968-1626134400-1626134400@aleliabundles.com
SUMMARY:Indianapolis Public Library Black Women’s Writing Society (Indianapolis/virtual)
DESCRIPTION:July 13 Indianapolis Public Library Black Women’s Writing Society (Indianapolis/virtual)
URL:https://aleliabundles.com/event/indianapolis-public-library-black-womens-writing-society-indianapolis-virtual/
END:VEVENT
BEGIN:VEVENT
DTSTART;TZID=UTC:20210624T000000
DTEND;TZID=UTC:20210624T000000
DTSTAMP:20260421T165956
CREATED:20230227T041443Z
LAST-MODIFIED:20230227T041443Z
UID:29966-1624492800-1624492800@aleliabundles.com
SUMMARY:Leadership Indianapolis Lunchtime Conversation
DESCRIPTION:June 24 Leadership Indianapolis Lunchtime Conversation
URL:https://aleliabundles.com/event/leadership-indianapolis-lunchtime-conversation/
END:VEVENT
BEGIN:VEVENT
DTSTART;TZID=UTC:20210624T000000
DTEND;TZID=UTC:20210624T000000
DTSTAMP:20260421T165956
CREATED:20230227T041443Z
LAST-MODIFIED:20230227T041443Z
UID:29967-1624492800-1624492800@aleliabundles.com
SUMMARY:SRP Unerased IG Live conversation with MaSheva King
DESCRIPTION:June 24 SRP Unerased IG Live conversation with MaSheva King
URL:https://aleliabundles.com/event/srp-unerased-ig-live-conversation-with-masheva-king/
END:VEVENT
BEGIN:VEVENT
DTSTART;TZID=UTC:20210623T000000
DTEND;TZID=UTC:20210623T000000
DTSTAMP:20260421T165956
CREATED:20230227T041443Z
LAST-MODIFIED:20230227T041443Z
UID:29965-1624406400-1624406400@aleliabundles.com
SUMMARY:“A’Lelia Walker’s Harlem Renaissance Salon” (virtual) – Frick Collection and Wilderstein Plattner Institute (New York)
DESCRIPTION:June 23 “A’Lelia Walker’s Harlem Renaissance Salon” (virtual) – Frick Collection and Wilderstein Plattner Institute (New York)
URL:https://aleliabundles.com/event/alelia-walkers-harlem-renaissance-salon-virtual-frick-collection-and-wilderstein-plattner-institute-new-york/
END:VEVENT
BEGIN:VEVENT
DTSTART;TZID=UTC:20210622T000000
DTEND;TZID=UTC:20210622T000000
DTSTAMP:20260421T165956
CREATED:20230227T041443Z
LAST-MODIFIED:20230227T041443Z
UID:29964-1624320000-1624320000@aleliabundles.com
SUMMARY:Conversation with Karen Gray Houston (Author Daughter of the Boycott) – Nina McLemore Chevy Chase
DESCRIPTION:June 22 Conversation with Karen Gray Houston (Author Daughter of the Boycott) – Nina McLemore Chevy Chase
URL:https://aleliabundles.com/event/conversation-with-karen-gray-houston-author-daughter-of-the-boycott-nina-mclemore-chevy-chase/
END:VEVENT
BEGIN:VEVENT
DTSTART;TZID=UTC:20210618T000000
DTEND;TZID=UTC:20210618T000000
DTSTAMP:20260421T165956
CREATED:20230227T041428Z
LAST-MODIFIED:20230227T041428Z
UID:29963-1623974400-1623974400@aleliabundles.com
SUMMARY:“Juneteenth” conversation with former Secretary of Transportation Rodney Slater (Squire Patton Boggs)
DESCRIPTION:June 18 “Juneteenth” conversation with former Secretary of Transportation Rodney Slater (Squire Patton Boggs)
URL:https://aleliabundles.com/event/juneteenth-conversation-with-former-secretary-of-transportation-rodney-slater-squire-patton-boggs/
END:VEVENT
BEGIN:VEVENT
DTSTART;TZID=UTC:20210617T000000
DTEND;TZID=UTC:20210617T000000
DTSTAMP:20260421T165956
CREATED:20230227T041428Z
LAST-MODIFIED:20230227T041428Z
UID:29962-1623888000-1623888000@aleliabundles.com
SUMMARY:“Juneteenth: Emancipation\, Civil Rights and Citizenship” Capital Group
DESCRIPTION:June 17 “Juneteenth: Emancipation\, Civil Rights and Citizenship” Capital Group
URL:https://aleliabundles.com/event/juneteenth-emancipation-civil-rights-and-citizenship-capital-group/
END:VEVENT
BEGIN:VEVENT
DTSTART;TZID=UTC:20210616T000000
DTEND;TZID=UTC:20210616T000000
DTSTAMP:20260421T165956
CREATED:20230227T041428Z
LAST-MODIFIED:20230227T041428Z
UID:29961-1623801600-1623801600@aleliabundles.com
SUMMARY:“Juneteenth: Emancipation\, Civil Rights and Citizenship” EQ Office
DESCRIPTION:June 16 “Juneteenth: Emancipation\, Civil Rights and Citizenship” EQ Office
URL:https://aleliabundles.com/event/juneteenth-emancipation-civil-rights-and-citizenship-eq-office/
END:VEVENT
BEGIN:VEVENT
DTSTART;TZID=UTC:20210612T000000
DTEND;TZID=UTC:20210612T000000
DTSTAMP:20260421T165956
CREATED:20230227T041428Z
LAST-MODIFIED:20230227T041428Z
UID:29960-1623456000-1623456000@aleliabundles.com
SUMMARY:Indianapolis Professional Association Graduation (virtual)
DESCRIPTION:Indianapolis Professional Association Graduation (virtual)
URL:https://aleliabundles.com/event/indianapolis-professional-association-graduation-virtual/
END:VEVENT
BEGIN:VEVENT
DTSTART;TZID=UTC:20210611T000000
DTEND;TZID=UTC:20210611T000000
DTSTAMP:20260421T165956
CREATED:20230227T041428Z
LAST-MODIFIED:20230227T041428Z
UID:29959-1623369600-1623369600@aleliabundles.com
SUMMARY:National Coalition of 100 Black Women SF/Bay Area Chapter Annual Madam Walker Luncheon
DESCRIPTION:National Coalition of 100 Black Women SF/Bay Area Chapter Annual Madam Walker Luncheon
URL:https://aleliabundles.com/event/national-coalition-of-100-black-women-sf-bay-area-chapter-annual-madam-walker-luncheon/
END:VEVENT
END:VCALENDAR