BEGIN:VCALENDAR
VERSION:2.0
PRODID:-//A&#039;Lelia Bundles - ECPv6.15.20//NONSGML v1.0//EN
CALSCALE:GREGORIAN
METHOD:PUBLISH
X-WR-CALNAME:A&#039;Lelia Bundles
X-ORIGINAL-URL:https://aleliabundles.com
X-WR-CALDESC:Events for A&#039;Lelia Bundles
REFRESH-INTERVAL;VALUE=DURATION:PT1H
X-Robots-Tag:noindex
X-PUBLISHED-TTL:PT1H
BEGIN:VTIMEZONE
TZID:UTC
BEGIN:STANDARD
TZOFFSETFROM:+0000
TZOFFSETTO:+0000
TZNAME:UTC
DTSTART:20160101T000000
END:STANDARD
END:VTIMEZONE
BEGIN:VEVENT
DTSTART;TZID=UTC:20180901T000000
DTEND;TZID=UTC:20180901T000000
DTSTAMP:20260422T220019
CREATED:20230228T042527Z
LAST-MODIFIED:20230228T042527Z
UID:30044-1535760000-1535760000@aleliabundles.com
SUMMARY:Video of Constitution Day Speech
DESCRIPTION:Video of Constitution Day Speech
URL:https://aleliabundles.com/event/video-of-constitution-day-speech/
END:VEVENT
BEGIN:VEVENT
DTSTART;TZID=UTC:20180825T000000
DTEND;TZID=UTC:20180825T000000
DTSTAMP:20260422T220019
CREATED:20230228T042458Z
LAST-MODIFIED:20230228T042458Z
UID:30042-1535155200-1535155200@aleliabundles.com
SUMMARY:August 25: “Faded Photographs\, Cherished Artifacts and Amazing Ancestors” at the Federation of Genealogical Societies (Ft. Wayne\, IN)
DESCRIPTION:August 25: “Faded Photographs\, Cherished Artifacts and Amazing Ancestors” at the Federation of Genealogical Societies (Ft. Wayne\, IN)
URL:https://aleliabundles.com/event/august-25-faded-photographs-cherished-artifacts-and-amazing-ancestors-at-the-federation-of-genealogical-societies-ft-wayne-in/
END:VEVENT
BEGIN:VEVENT
DTSTART;TZID=UTC:20180728T000000
DTEND;TZID=UTC:20180728T000000
DTSTAMP:20260422T220019
CREATED:20230228T042458Z
LAST-MODIFIED:20230228T042458Z
UID:30041-1532736000-1532736000@aleliabundles.com
SUMMARY:July 28: “Votes for Women Suffrage Centennial” Old State House (Little Rock\, AR)
DESCRIPTION:July 28: “Votes for Women Suffrage Centennial” Old State House (Little Rock\, AR)
URL:https://aleliabundles.com/event/july-28-votes-for-women-suffrage-centennial-old-state-house-little-rock-ar/
END:VEVENT
BEGIN:VEVENT
DTSTART;TZID=UTC:20180727T000000
DTEND;TZID=UTC:20180727T000000
DTSTAMP:20260422T220019
CREATED:20230228T042457Z
LAST-MODIFIED:20230228T042457Z
UID:30040-1532649600-1532649600@aleliabundles.com
SUMMARY:July 27: “Arkansas Roots: From Helena and Pine Bluff to the Mosaic Templars and Madam C. J. Walker” at Philander Smith College (Little Rock\, AR)
DESCRIPTION:July 27: “Arkansas Roots: From Helena and Pine Bluff to the Mosaic Templars and Madam C. J. Walker” at Philander Smith College (Little Rock\, AR)
URL:https://aleliabundles.com/event/july-27-arkansas-roots-from-helena-and-pine-bluff-to-the-mosaic-templars-and-madam-c-j-walker-at-philander-smith-college-little-rock-ar/
END:VEVENT
BEGIN:VEVENT
DTSTART;TZID=UTC:20180713T000000
DTEND;TZID=UTC:20180713T000000
DTSTAMP:20260422T220019
CREATED:20230228T042258Z
LAST-MODIFIED:20230228T042258Z
UID:30038-1531440000-1531440000@aleliabundles.com
SUMMARY:July 13: Madam C. J. Walker at the March on Washington Film Festival (Washington\, DC)
DESCRIPTION:July 13: Madam C. J. Walker at the March on Washington Film Festival (Washington\, DC)
URL:https://aleliabundles.com/event/july-13-madam-c-j-walker-at-the-march-on-washington-film-festival-washington-dc/
END:VEVENT
BEGIN:VEVENT
DTSTART;TZID=UTC:20180701T000000
DTEND;TZID=UTC:20180701T000000
DTSTAMP:20260422T220019
CREATED:20230228T042258Z
LAST-MODIFIED:20230228T042258Z
UID:30037-1530403200-1530403200@aleliabundles.com
SUMMARY:July 1: Conversation with author and historian Nell Painter at Politics and Prose (Washington\, DC)
DESCRIPTION:July 1: Conversation with author and historian Nell Painter at Politics and Prose (Washington\, DC)
URL:https://aleliabundles.com/event/july-1-conversation-with-author-and-historian-nell-painter-at-politics-and-prose-washington-dc/
END:VEVENT
BEGIN:VEVENT
DTSTART;TZID=UTC:20180512T000000
DTEND;TZID=UTC:20180512T000000
DTSTAMP:20260422T220019
CREATED:20230228T042258Z
LAST-MODIFIED:20230228T042258Z
UID:30036-1526083200-1526083200@aleliabundles.com
SUMMARY:May 12: IUPUI Commencement Address (Indianapolis)
DESCRIPTION:May 12: IUPUI Commencement Address (Indianapolis)
URL:https://aleliabundles.com/event/may-12-iupui-commencement-address-indianapolis/
END:VEVENT
BEGIN:VEVENT
DTSTART;TZID=UTC:20180419T000000
DTEND;TZID=UTC:20180419T000000
DTSTAMP:20260422T220019
CREATED:20230228T042257Z
LAST-MODIFIED:20230228T042257Z
UID:30035-1524096000-1524096000@aleliabundles.com
SUMMARY:April 19: “Money Smart Week” Keynote (Indianapolis)
DESCRIPTION:April 19: “Money Smart Week” Keynote (Indianapolis)
URL:https://aleliabundles.com/event/april-19-money-smart-week-keynote-indianapolis/
END:VEVENT
BEGIN:VEVENT
DTSTART;TZID=UTC:20180414T000000
DTEND;TZID=UTC:20180414T000000
DTSTAMP:20260422T220019
CREATED:20230228T042257Z
LAST-MODIFIED:20230228T042257Z
UID:30034-1523664000-1523664000@aleliabundles.com
SUMMARY:April 14: The Pierians (Baltimore\, MD)
DESCRIPTION:April 14: The Pierians (Baltimore\, MD)
URL:https://aleliabundles.com/event/april-14-the-pierians-baltimore-md/
END:VEVENT
BEGIN:VEVENT
DTSTART;TZID=UTC:20180413T000000
DTEND;TZID=UTC:20180413T000000
DTSTAMP:20260422T220019
CREATED:20230228T042243Z
LAST-MODIFIED:20230228T042243Z
UID:30033-1523577600-1523577600@aleliabundles.com
SUMMARY:April 13: (Cambridge\, MA)
DESCRIPTION:April 13: (Cambridge\, MA)
URL:https://aleliabundles.com/event/april-13-cambridge-ma/
END:VEVENT
BEGIN:VEVENT
DTSTART;TZID=UTC:20180406T000000
DTEND;TZID=UTC:20180406T000000
DTSTAMP:20260422T220019
CREATED:20230228T042243Z
LAST-MODIFIED:20230228T042243Z
UID:30032-1522972800-1522972800@aleliabundles.com
SUMMARY:April 6: San Francisco/Bay Area National Coalition of 100 Black Women/Madam Walker Empowerment Luncheon (San Francisco)
DESCRIPTION:April 6: San Francisco/Bay Area National Coalition of 100 Black Women/Madam Walker Empowerment Luncheon (San Francisco)
URL:https://aleliabundles.com/event/april-6-san-francisco-bay-area-national-coalition-of-100-black-women-madam-walker-empowerment-luncheon-san-francisco/
END:VEVENT
BEGIN:VEVENT
DTSTART;TZID=UTC:20180327T000000
DTEND;TZID=UTC:20180327T000000
DTSTAMP:20260422T220019
CREATED:20230228T042243Z
LAST-MODIFIED:20230228T042243Z
UID:30031-1522108800-1522108800@aleliabundles.com
SUMMARY:March 27: “Black Dynasties and the Struggle for Racial Equality” at NYU’s Arthur Carter Journalism Institute (New York)
DESCRIPTION:March 27: “Black Dynasties and the Struggle for Racial Equality” at NYU’s Arthur Carter Journalism Institute (New York)
URL:https://aleliabundles.com/event/march-27-black-dynasties-and-the-struggle-for-racial-equality-at-nyus-arthur-carter-journalism-institute-new-york/
END:VEVENT
BEGIN:VEVENT
DTSTART;TZID=UTC:20180319T000000
DTEND;TZID=UTC:20180319T000000
DTSTAMP:20260422T220019
CREATED:20230228T042242Z
LAST-MODIFIED:20230228T042242Z
UID:30030-1521417600-1521417600@aleliabundles.com
SUMMARY:March 19: “The Emancipation Proclamation and the End of Slavery” (video link) at the National Archives (Washington\, DC)
DESCRIPTION:March 19: “The Emancipation Proclamation and the End of Slavery” (video link) at the National Archives (Washington\, DC)
URL:https://aleliabundles.com/event/march-19-the-emancipation-proclamation-and-the-end-of-slavery-video-link-at-the-national-archives-washington-dc/
END:VEVENT
BEGIN:VEVENT
DTSTART;TZID=UTC:20180315T000000
DTEND;TZID=UTC:20180315T000000
DTSTAMP:20260422T220019
CREATED:20230228T042242Z
LAST-MODIFIED:20230228T042242Z
UID:30029-1521072000-1521072000@aleliabundles.com
SUMMARY:March 15: “Women’s Suffrage and the Vote: Funding Feminism” (video link) at the National Archives (Washington\, DC)
DESCRIPTION:March 15: “Women’s Suffrage and the Vote: Funding Feminism” (video link) at the National Archives (Washington\, DC)
URL:https://aleliabundles.com/event/march-15-womens-suffrage-and-the-vote-funding-feminism-video-link-at-the-national-archives-washington-dc/
END:VEVENT
BEGIN:VEVENT
DTSTART;TZID=UTC:20180223T000000
DTEND;TZID=UTC:20180223T000000
DTSTAMP:20260422T220019
CREATED:20230228T042135Z
LAST-MODIFIED:20230228T042135Z
UID:30028-1519344000-1519344000@aleliabundles.com
SUMMARY:February 23: Book Signing with Rochelle Riley – The Burden: African Americans & the Enduring Impact of Slavery Indpls Public Library (Indianapolis)
DESCRIPTION:February 23: Book Signing with Rochelle Riley – The Burden: African Americans & the Enduring Impact of Slavery Indpls Public Library (Indianapolis)
URL:https://aleliabundles.com/event/february-23-book-signing-with-rochelle-riley-the-burden-african-americans-the-enduring-impact-of-slavery-indpls-public-library-indianapolis/
END:VEVENT
BEGIN:VEVENT
DTSTART;TZID=UTC:20180222T000000
DTEND;TZID=UTC:20180222T000000
DTSTAMP:20260422T220019
CREATED:20230228T042135Z
LAST-MODIFIED:20230228T042135Z
UID:30027-1519257600-1519257600@aleliabundles.com
SUMMARY:February 22: Book Signing & Talk – All about Madam C. J. Walker Indianapolis Public Library (Indianapolis)
DESCRIPTION:February 22: Book Signing & Talk – All about Madam C. J. Walker Indianapolis Public Library (Indianapolis)
URL:https://aleliabundles.com/event/february-22-book-signing-talk-all-about-madam-c-j-walker-indianapolis-public-library-indianapolis/
END:VEVENT
BEGIN:VEVENT
DTSTART;TZID=UTC:20180210T000000
DTEND;TZID=UTC:20180210T000000
DTSTAMP:20260422T220019
CREATED:20230228T042134Z
LAST-MODIFIED:20230228T042134Z
UID:30026-1518220800-1518220800@aleliabundles.com
SUMMARY:February 10: Columbia Alumni Association’s “She Opened the Door” Women’s Conference (New York\, NY)
DESCRIPTION:February 10: Columbia Alumni Association’s “She Opened the Door” Women’s Conference (New York\, NY)
URL:https://aleliabundles.com/event/february-10-columbia-alumni-associations-she-opened-the-door-womens-conference-new-york-ny/
END:VEVENT
BEGIN:VEVENT
DTSTART;TZID=UTC:20180203T000000
DTEND;TZID=UTC:20180203T000000
DTSTAMP:20260422T220019
CREATED:20230228T042134Z
LAST-MODIFIED:20230228T042134Z
UID:30025-1517616000-1517616000@aleliabundles.com
SUMMARY:February 3: National Museum of African American History and Culture Book Signing (Washington\, DC)
DESCRIPTION:February 3: National Museum of African American History and Culture Book Signing (Washington\, DC)
URL:https://aleliabundles.com/event/february-3-national-museum-of-african-american-history-and-culture-book-signing-washington-dc/
END:VEVENT
BEGIN:VEVENT
DTSTART;TZID=UTC:20180201T000000
DTEND;TZID=UTC:20180201T000000
DTSTAMP:20260422T220019
CREATED:20230228T042134Z
LAST-MODIFIED:20230228T042134Z
UID:30024-1517443200-1517443200@aleliabundles.com
SUMMARY:February 1: VisitIndy-Bill McGowan Leadership Award (Indianapolis)
DESCRIPTION:February 1: VisitIndy-Bill McGowan Leadership Award (Indianapolis)
URL:https://aleliabundles.com/event/february-1-visitindy-bill-mcgowan-leadership-award-indianapolis/
END:VEVENT
BEGIN:VEVENT
DTSTART;TZID=UTC:20180128T000000
DTEND;TZID=UTC:20180128T000000
DTSTAMP:20260422T220019
CREATED:20230228T042120Z
LAST-MODIFIED:20230228T042120Z
UID:30023-1517097600-1517097600@aleliabundles.com
SUMMARY:January 28: From Harlem to Havana – Santiago de Cuba on board Le Ponant (Cuba)
DESCRIPTION:January 28: From Harlem to Havana – Santiago de Cuba on board Le Ponant (Cuba)
URL:https://aleliabundles.com/event/january-28-from-harlem-to-havana-santiago-de-cuba-on-board-le-ponant-cuba/
END:VEVENT
BEGIN:VEVENT
DTSTART;TZID=UTC:20180110T000000
DTEND;TZID=UTC:20180110T000000
DTSTAMP:20260422T220019
CREATED:20230228T042120Z
LAST-MODIFIED:20230228T042120Z
UID:30022-1515542400-1515542400@aleliabundles.com
SUMMARY:January 10: National Archives – Interview with African American Folktales authors Henry Louis Gates & Maria Tatar (Washington\, DC)
DESCRIPTION:January 10: National Archives – Interview with African American Folktales authors Henry Louis Gates & Maria Tatar (Washington\, DC)
URL:https://aleliabundles.com/event/january-10-national-archives-interview-with-african-american-folktales-authors-henry-louis-gates-maria-tatar-washington-dc/
END:VEVENT
BEGIN:VEVENT
DTSTART;TZID=UTC:20171108T000000
DTEND;TZID=UTC:20171108T000000
DTSTAMP:20260422T220019
CREATED:20230228T042729Z
LAST-MODIFIED:20230228T042729Z
UID:30065-1510099200-1510099200@aleliabundles.com
SUMMARY:November 8: March on Washington Film Festival Conversation with Dr. Joyce Ladner (Washington\, DC)
DESCRIPTION:November 8: March on Washington Film Festival Conversation with Dr. Joyce Ladner (Washington\, DC)
URL:https://aleliabundles.com/event/november-8-march-on-washington-film-festival-conversation-with-dr-joyce-ladner-washington-dc/
END:VEVENT
BEGIN:VEVENT
DTSTART;TZID=UTC:20171025T000000
DTEND;TZID=UTC:20171025T000000
DTSTAMP:20260422T220019
CREATED:20230228T042729Z
LAST-MODIFIED:20230228T042729Z
UID:30064-1508889600-1508889600@aleliabundles.com
SUMMARY:October 25: Wednesday Morning Group (Bethesda\, MD)
DESCRIPTION:October 25: Wednesday Morning Group (Bethesda\, MD)
URL:https://aleliabundles.com/event/october-25-wednesday-morning-group-bethesda-md/
END:VEVENT
BEGIN:VEVENT
DTSTART;TZID=UTC:20171024T000000
DTEND;TZID=UTC:20171024T000000
DTSTAMP:20260422T220019
CREATED:20230228T042653Z
LAST-MODIFIED:20230228T042653Z
UID:30063-1508803200-1508803200@aleliabundles.com
SUMMARY:October 24: Agnes & Dora Bloom Convention (Las Vegas\, NV)
DESCRIPTION:October 24: Agnes & Dora Bloom Convention (Las Vegas\, NV)
URL:https://aleliabundles.com/event/october-24-agnes-dora-bloom-convention-las-vegas-nv/
END:VEVENT
BEGIN:VEVENT
DTSTART;TZID=UTC:20171020T000000
DTEND;TZID=UTC:20171020T000000
DTSTAMP:20260422T220019
CREATED:20230228T042653Z
LAST-MODIFIED:20230228T042653Z
UID:30062-1508457600-1508457600@aleliabundles.com
SUMMARY:October 20: OLLI – Osher Lifelong Learning Institute (Washington\, DC)
DESCRIPTION:October 20: OLLI – Osher Lifelong Learning Institute (Washington\, DC)
URL:https://aleliabundles.com/event/october-20-olli-osher-lifelong-learning-institute-washington-dc/
END:VEVENT
BEGIN:VEVENT
DTSTART;TZID=UTC:20171018T000000
DTEND;TZID=UTC:20171018T000000
DTSTAMP:20260422T220019
CREATED:20230228T042652Z
LAST-MODIFIED:20230228T042652Z
UID:30061-1508284800-1508284800@aleliabundles.com
SUMMARY:October 18: Agnes & Dora Bloom Convention (Philadelphia\, PA)
DESCRIPTION:October 18: Agnes & Dora Bloom Convention (Philadelphia\, PA)
URL:https://aleliabundles.com/event/october-18-agnes-dora-bloom-convention-philadelphia-pa/
END:VEVENT
BEGIN:VEVENT
DTSTART;TZID=UTC:20171008T000000
DTEND;TZID=UTC:20171008T000000
DTSTAMP:20260422T220019
CREATED:20230228T042652Z
LAST-MODIFIED:20230228T042652Z
UID:30060-1507420800-1507420800@aleliabundles.com
SUMMARY:October 8: Columbia Alumni Leaders Weekend Climate Response Panel Moderator (New York\, NY)
DESCRIPTION:October 8: Columbia Alumni Leaders Weekend Climate Response Panel Moderator (New York\, NY)
URL:https://aleliabundles.com/event/october-8-columbia-alumni-leaders-weekend-climate-response-panel-moderator-new-york-ny/
END:VEVENT
BEGIN:VEVENT
DTSTART;TZID=UTC:20170926T000000
DTEND;TZID=UTC:20170926T000000
DTSTAMP:20260422T220019
CREATED:20230228T042652Z
LAST-MODIFIED:20230228T042652Z
UID:30059-1506384000-1506384000@aleliabundles.com
SUMMARY:September 26: National Association of Social Workers Conference (Indianapolis\, IN)
DESCRIPTION:September 26: National Association of Social Workers Conference (Indianapolis\, IN)
URL:https://aleliabundles.com/event/september-26-national-association-of-social-workers-conference-indianapolis-in/
END:VEVENT
BEGIN:VEVENT
DTSTART;TZID=UTC:20170810T000000
DTEND;TZID=UTC:20170810T000000
DTSTAMP:20260422T220019
CREATED:20230228T042637Z
LAST-MODIFIED:20230228T042637Z
UID:30058-1502323200-1502323200@aleliabundles.com
SUMMARY:August 10: Columbia University Celebrates Harlem Week (New York\, NY)
DESCRIPTION:August 10: Columbia University Celebrates Harlem Week (New York\, NY)
URL:https://aleliabundles.com/event/august-10-columbia-university-celebrates-harlem-week-new-york-ny/
END:VEVENT
BEGIN:VEVENT
DTSTART;TZID=UTC:20170723T000000
DTEND;TZID=UTC:20170723T000000
DTSTAMP:20260422T220019
CREATED:20230228T042637Z
LAST-MODIFIED:20230228T042637Z
UID:30056-1500768000-1500768000@aleliabundles.com
SUMMARY:July 23: Women’s Annual Tea (Chevy Chase\, MD)
DESCRIPTION:July 23: Women’s Annual Tea (Chevy Chase\, MD)
URL:https://aleliabundles.com/event/july-23-womens-annual-tea-chevy-chase-md/
END:VEVENT
END:VCALENDAR