BEGIN:VCALENDAR
VERSION:2.0
PRODID:-//A&#039;Lelia Bundles - ECPv6.15.20//NONSGML v1.0//EN
CALSCALE:GREGORIAN
METHOD:PUBLISH
X-WR-CALNAME:A&#039;Lelia Bundles
X-ORIGINAL-URL:https://aleliabundles.com
X-WR-CALDESC:Events for A&#039;Lelia Bundles
REFRESH-INTERVAL;VALUE=DURATION:PT1H
X-Robots-Tag:noindex
X-PUBLISHED-TTL:PT1H
BEGIN:VTIMEZONE
TZID:UTC
BEGIN:STANDARD
TZOFFSETFROM:+0000
TZOFFSETTO:+0000
TZNAME:UTC
DTSTART:20170101T000000
END:STANDARD
END:VTIMEZONE
BEGIN:VEVENT
DTSTART;TZID=UTC:20200227T000000
DTEND;TZID=UTC:20200227T000000
DTSTAMP:20260422T222144
CREATED:20230227T042548Z
LAST-MODIFIED:20230227T042548Z
UID:29997-1582761600-1582761600@aleliabundles.com
SUMMARY:Indiana Historical Society Suffrage Centennial (Indianapolis)
DESCRIPTION:February 27 Indiana Historical Society Suffrage Centennial (Indianapolis)
URL:https://aleliabundles.com/event/indiana-historical-society-suffrage-centennial-indianapolis/
END:VEVENT
BEGIN:VEVENT
DTSTART;TZID=UTC:20200224T000000
DTEND;TZID=UTC:20200224T000000
DTSTAMP:20260422T222144
CREATED:20230227T042548Z
LAST-MODIFIED:20230227T042548Z
UID:29996-1582502400-1582502400@aleliabundles.com
SUMMARY:St. Joseph County Public Library (South Bend\, IN)
DESCRIPTION:February 24 St. Joseph County Public Library (South Bend\, IN)
URL:https://aleliabundles.com/event/st-joseph-county-public-library-south-bend-in/
END:VEVENT
BEGIN:VEVENT
DTSTART;TZID=UTC:20200221T000000
DTEND;TZID=UTC:20200221T000000
DTSTAMP:20260422T222144
CREATED:20230227T042548Z
LAST-MODIFIED:20230227T042548Z
UID:29995-1582243200-1582243200@aleliabundles.com
SUMMARY:Garfield Heights Black History Month (Ohio)
DESCRIPTION:February 21 Garfield Heights Black History Month (Ohio)
URL:https://aleliabundles.com/event/garfield-heights-black-history-month-ohio/
END:VEVENT
BEGIN:VEVENT
DTSTART;TZID=UTC:20200218T000000
DTEND;TZID=UTC:20200218T000000
DTSTAMP:20260422T222144
CREATED:20230227T042548Z
LAST-MODIFIED:20230227T042548Z
UID:29994-1581984000-1581984000@aleliabundles.com
SUMMARY:Hillwood Estate Museum (Washington\, DC)
DESCRIPTION:February 18 Hillwood Estate Museum (Washington\, DC)
URL:https://aleliabundles.com/event/hillwood-estate-museum-washington-dc/
END:VEVENT
BEGIN:VEVENT
DTSTART;TZID=UTC:20200212T000000
DTEND;TZID=UTC:20200212T000000
DTSTAMP:20260422T222144
CREATED:20230227T042444Z
LAST-MODIFIED:20230227T042444Z
UID:29993-1581465600-1581465600@aleliabundles.com
SUMMARY:Virginia League of Women Voters Suffrage Centennial (Richmond)
DESCRIPTION:February 12 Virginia League of Women Voters Suffrage Centennial (Richmond)
URL:https://aleliabundles.com/event/virginia-league-of-women-voters-suffrage-centennial-richmond/
END:VEVENT
BEGIN:VEVENT
DTSTART;TZID=UTC:20200209T000000
DTEND;TZID=UTC:20200209T000000
DTSTAMP:20260422T222144
CREATED:20230227T042443Z
LAST-MODIFIED:20230227T042443Z
UID:29992-1581206400-1581206400@aleliabundles.com
SUMMARY:Greater Mount Zion Baptist Church (Austin)
DESCRIPTION:February 9 Greater Mount Zion Baptist Church (Austin)
URL:https://aleliabundles.com/event/greater-mount-zion-baptist-church-austin/
END:VEVENT
BEGIN:VEVENT
DTSTART;TZID=UTC:20200128T000000
DTEND;TZID=UTC:20200128T000000
DTSTAMP:20260422T222144
CREATED:20230227T042443Z
LAST-MODIFIED:20230227T042443Z
UID:29991-1580169600-1580169600@aleliabundles.com
SUMMARY:Madam Walker Legacy Center – Visit Indy “State of Tourism” (Indianapolis)
DESCRIPTION:January 28 Madam Walker Legacy Center – Visit Indy “State of Tourism” (Indianapolis)
URL:https://aleliabundles.com/event/madam-walker-legacy-center-visit-indy-state-of-tourism-indianapolis/
END:VEVENT
BEGIN:VEVENT
DTSTART;TZID=UTC:20191115T000000
DTEND;TZID=UTC:20191115T000000
DTSTAMP:20260422T222144
CREATED:20230228T042120Z
LAST-MODIFIED:20230228T042120Z
UID:30021-1573776000-1573776000@aleliabundles.com
SUMMARY:November 15: Indiana Council for Social Studies (Indianapolis\, IN)
DESCRIPTION:November 15: Indiana Council for Social Studies (Indianapolis\, IN)
URL:https://aleliabundles.com/event/november-15-indiana-council-for-social-studies-indianapolis-in/
END:VEVENT
BEGIN:VEVENT
DTSTART;TZID=UTC:20191025T000000
DTEND;TZID=UTC:20191025T000000
DTSTAMP:20260422T222144
CREATED:20230228T042119Z
LAST-MODIFIED:20230228T042119Z
UID:30020-1571961600-1571961600@aleliabundles.com
SUMMARY:October 25: Indiana University Women’s Philanthropy Colloquium (Bloomington\, IN)
DESCRIPTION:October 25: Indiana University Women’s Philanthropy Colloquium (Bloomington\, IN)
URL:https://aleliabundles.com/event/october-25-indiana-university-womens-philanthropy-colloquium-bloomington-in/
END:VEVENT
BEGIN:VEVENT
DTSTART;TZID=UTC:20190802T000000
DTEND;TZID=UTC:20190802T000000
DTSTAMP:20260422T222144
CREATED:20230228T042119Z
LAST-MODIFIED:20230228T042119Z
UID:30019-1564704000-1564704000@aleliabundles.com
SUMMARY:August 2: Gen-Fed “Genealogical Gems: Finding Family History” (Arlington\, VA)
DESCRIPTION:August 2: Gen-Fed “Genealogical Gems: Finding Family History” (Arlington\, VA)
URL:https://aleliabundles.com/event/august-2-gen-fed-genealogical-gems-finding-family-history-arlington-va/
END:VEVENT
BEGIN:VEVENT
DTSTART;TZID=UTC:20190725T000000
DTEND;TZID=UTC:20190725T000000
DTSTAMP:20260422T222144
CREATED:20230228T042104Z
LAST-MODIFIED:20230228T042105Z
UID:30013-1564012800-1564012800@aleliabundles.com
SUMMARY:July 25: The Cottagers Martha’s Vineyard
DESCRIPTION:July 25: The Cottagers Martha’s Vineyard
URL:https://aleliabundles.com/event/july-25-the-cottagers-marthas-vineyard/
END:VEVENT
BEGIN:VEVENT
DTSTART;TZID=UTC:20190719T000000
DTEND;TZID=UTC:20190719T000000
DTSTAMP:20260422T222144
CREATED:20230228T042103Z
LAST-MODIFIED:20230228T042105Z
UID:30012-1563494400-1563494400@aleliabundles.com
SUMMARY:July 19: National Beauty Culturist League Graduation (Herndon\, VA)
DESCRIPTION:July 19: National Beauty Culturist League Graduation (Herndon\, VA)
URL:https://aleliabundles.com/event/july-19-national-beauty-culturist-league-graduation-herndon-va/
END:VEVENT
BEGIN:VEVENT
DTSTART;TZID=UTC:20190716T000000
DTEND;TZID=UTC:20190716T000000
DTSTAMP:20260422T222144
CREATED:20230228T042103Z
LAST-MODIFIED:20230228T042105Z
UID:30011-1563235200-1563235200@aleliabundles.com
SUMMARY:July 16: National Beauty Culturists League Fraternity Centennial Dinner (Herndon\, VA)
DESCRIPTION:July 16: National Beauty Culturists League Fraternity Centennial Dinner (Herndon\, VA)
URL:https://aleliabundles.com/event/july-16-national-beauty-culturists-league-fraternity-centennial-dinner-herndon-va/
END:VEVENT
BEGIN:VEVENT
DTSTART;TZID=UTC:20190622T000000
DTEND;TZID=UTC:20190622T000000
DTSTAMP:20260422T222144
CREATED:20230228T042103Z
LAST-MODIFIED:20230228T042104Z
UID:30010-1561161600-1561161600@aleliabundles.com
SUMMARY:June 22: Austin African American Book Festival (Austin\, TX)
DESCRIPTION:June 22: Austin African American Book Festival (Austin\, TX)
URL:https://aleliabundles.com/event/june-22-austin-african-american-book-festival-austin-tx/
END:VEVENT
BEGIN:VEVENT
DTSTART;TZID=UTC:20190613T000000
DTEND;TZID=UTC:20190613T000000
DTSTAMP:20260422T222144
CREATED:20230228T042103Z
LAST-MODIFIED:20230228T042104Z
UID:30009-1560384000-1560384000@aleliabundles.com
SUMMARY:June 13: American Association for Access\, Equity and Diversity (Indianapolis)
DESCRIPTION:June 13: American Association for Access\, Equity and Diversity (Indianapolis)
URL:https://aleliabundles.com/event/june-13-american-association-for-access-equity-and-diversity-indianapolis/
END:VEVENT
BEGIN:VEVENT
DTSTART;TZID=UTC:20190528T000000
DTEND;TZID=UTC:20190528T000000
DTSTAMP:20260422T222144
CREATED:20230228T042102Z
LAST-MODIFIED:20230228T042102Z
UID:30008-1559001600-1559001600@aleliabundles.com
SUMMARY:National Archives Conversation with Henry Louis Gates about Stony the Road: Reconstruction\, White Supremacy and the Rise of Jim Crow (Washington\, DC)
DESCRIPTION:May 28: National Archives Conversation with Henry Louis Gates about Stony the Road: Reconstruction\, White Supremacy and the Rise of Jim Crow (Washington\, DC)
URL:https://aleliabundles.com/event/national-archives-conversation-with-henry-louis-gates-about-stony-the-road-reconstruction-white-supremacy-and-the-rise-of-jim-crow-washington-dc/
END:VEVENT
BEGIN:VEVENT
DTSTART;TZID=UTC:20190516T000000
DTEND;TZID=UTC:20190516T000000
DTSTAMP:20260422T222144
CREATED:20230228T042102Z
LAST-MODIFIED:20230228T042102Z
UID:30007-1557964800-1557964800@aleliabundles.com
SUMMARY:Harlem Eats Luminary Awards/Red Rooster (Harlem)
DESCRIPTION:May 16: Harlem Eats Luminary Awards/Red Rooster (Harlem)
URL:https://aleliabundles.com/event/harlem-eats-luminary-awards-red-rooster-harlem/
END:VEVENT
BEGIN:VEVENT
DTSTART;TZID=UTC:20190411T000000
DTEND;TZID=UTC:20190411T000000
DTSTAMP:20260422T222144
CREATED:20230228T042101Z
LAST-MODIFIED:20230228T042101Z
UID:30006-1554940800-1554940800@aleliabundles.com
SUMMARY:Voorhees College Founders Day Convocation (Denmark\, SC)
DESCRIPTION:April 11: Voorhees College Founders Day Convocation (Denmark\, SC)
URL:https://aleliabundles.com/event/voorhees-college-founders-day-convocation-denmark-sc/
END:VEVENT
BEGIN:VEVENT
DTSTART;TZID=UTC:20190223T000000
DTEND;TZID=UTC:20190223T000000
DTSTAMP:20260422T222144
CREATED:20230228T042101Z
LAST-MODIFIED:20230228T042101Z
UID:30005-1550880000-1550880000@aleliabundles.com
SUMMARY:Virginia Black History Month Association (Tysons Corner\, VA)
DESCRIPTION:February 23: Virginia Black History Month Association (Tysons Corner\, VA)
URL:https://aleliabundles.com/event/virginia-black-history-month-association-tysons-corner-va/
END:VEVENT
BEGIN:VEVENT
DTSTART;TZID=UTC:20190219T000000
DTEND;TZID=UTC:20190219T000000
DTSTAMP:20260422T222144
CREATED:20230228T042101Z
LAST-MODIFIED:20230228T042101Z
UID:30004-1550534400-1550534400@aleliabundles.com
SUMMARY:Univ. of Central Florida Africana Studies Dr. John T. Washington Lecture (Orlando)
DESCRIPTION:February 19: Univ. of Central Florida Africana Studies Dr. John T. Washington Lecture (Orlando)
URL:https://aleliabundles.com/event/univ-of-central-florida-africana-studies-dr-john-t-washington-lecture-orlando/
END:VEVENT
BEGIN:VEVENT
DTSTART;TZID=UTC:20181106T000000
DTEND;TZID=UTC:20181106T000000
DTSTAMP:20260422T222144
CREATED:20230228T042542Z
LAST-MODIFIED:20230228T042542Z
UID:30049-1541462400-1541462400@aleliabundles.com
SUMMARY:November 6: Oasis Lecture #239: Madam C. J. Walker (Entrepreneur\, Philanthropist & Arts Patron) Bethesda\, MD
DESCRIPTION:November 6: Oasis Lecture #239: Madam C. J. Walker (Entrepreneur\, Philanthropist & Arts Patron) Bethesda\, MD
URL:https://aleliabundles.com/event/november-6-oasis-lecture-239-madam-c-j-walker-entrepreneur-philanthropist-arts-patron-bethesda-md/
END:VEVENT
BEGIN:VEVENT
DTSTART;TZID=UTC:20181004T000000
DTEND;TZID=UTC:20181004T000000
DTSTAMP:20260422T222144
CREATED:20230228T042527Z
LAST-MODIFIED:20230228T042527Z
UID:30047-1538611200-1538611200@aleliabundles.com
SUMMARY:October 4:  A’Lelia MC’s ASALH Annual Convention Luncheon (Indianapolis)
DESCRIPTION:October 4:  A’Lelia MC’s ASALH Annual Convention Luncheon (Indianapolis)
URL:https://aleliabundles.com/event/october-4-alelia-mcs-asalh-annual-convention-luncheon-indianapolis/
END:VEVENT
BEGIN:VEVENT
DTSTART;TZID=UTC:20181004T000000
DTEND;TZID=UTC:20181004T000000
DTSTAMP:20260422T222144
CREATED:20230228T042527Z
LAST-MODIFIED:20230228T042527Z
UID:30048-1538611200-1538611200@aleliabundles.com
SUMMARY:October 4: Historical and Contemporary Perspectives on Madam C. J. Walker and Her Legacy (ASALH Panelist) (Indianapolis)
DESCRIPTION:October 4: Historical and Contemporary Perspectives on Madam C. J. Walker and Her Legacy (ASALH Panelist) (Indianapolis)
URL:https://aleliabundles.com/event/october-4-historical-and-contemporary-perspectives-on-madam-c-j-walker-and-her-legacy-asalh-panelist-indianapolis/
END:VEVENT
BEGIN:VEVENT
DTSTART;TZID=UTC:20180927T000000
DTEND;TZID=UTC:20180927T000000
DTSTAMP:20260422T222144
CREATED:20230228T042527Z
LAST-MODIFIED:20230228T042527Z
UID:30046-1538006400-1538006400@aleliabundles.com
SUMMARY:September 27: “Telling Women’s Stories” – Women Creating Change (Columbia University)
DESCRIPTION:September 27: “Telling Women’s Stories” – Women Creating Change (Columbia University)
URL:https://aleliabundles.com/event/september-27-telling-womens-stories-women-creating-change-columbia-university/
END:VEVENT
BEGIN:VEVENT
DTSTART;TZID=UTC:20180925T000000
DTEND;TZID=UTC:20180925T000000
DTSTAMP:20260422T222144
CREATED:20230228T042527Z
LAST-MODIFIED:20230228T042527Z
UID:30045-1537833600-1537833600@aleliabundles.com
SUMMARY:September 25: The Rosenwald Legacy at the Woman’s National Democratic Club (Washington\, DC)
DESCRIPTION:September 25: The Rosenwald Legacy at the Woman’s National Democratic Club (Washington\, DC)
URL:https://aleliabundles.com/event/september-25-the-rosenwald-legacy-at-the-womans-national-democratic-club-washington-dc/
END:VEVENT
BEGIN:VEVENT
DTSTART;TZID=UTC:20180920T000000
DTEND;TZID=UTC:20180920T000000
DTSTAMP:20260422T222144
CREATED:20230228T042458Z
LAST-MODIFIED:20230228T042458Z
UID:30043-1537401600-1537401600@aleliabundles.com
SUMMARY:September 20: Constitution Day at the Eagleton Institute of Politics at Rutgers (New Brunswick\, NJ)
DESCRIPTION:September 20: Constitution Day at the Eagleton Institute of Politics at Rutgers (New Brunswick\, NJ)
URL:https://aleliabundles.com/event/september-20-constitution-day-at-the-eagleton-institute-of-politics-at-rutgers-new-brunswick-nj/
END:VEVENT
BEGIN:VEVENT
DTSTART;TZID=UTC:20180901T000000
DTEND;TZID=UTC:20180901T000000
DTSTAMP:20260422T222144
CREATED:20230228T042527Z
LAST-MODIFIED:20230228T042527Z
UID:30044-1535760000-1535760000@aleliabundles.com
SUMMARY:Video of Constitution Day Speech
DESCRIPTION:Video of Constitution Day Speech
URL:https://aleliabundles.com/event/video-of-constitution-day-speech/
END:VEVENT
BEGIN:VEVENT
DTSTART;TZID=UTC:20180825T000000
DTEND;TZID=UTC:20180825T000000
DTSTAMP:20260422T222144
CREATED:20230228T042458Z
LAST-MODIFIED:20230228T042458Z
UID:30042-1535155200-1535155200@aleliabundles.com
SUMMARY:August 25: “Faded Photographs\, Cherished Artifacts and Amazing Ancestors” at the Federation of Genealogical Societies (Ft. Wayne\, IN)
DESCRIPTION:August 25: “Faded Photographs\, Cherished Artifacts and Amazing Ancestors” at the Federation of Genealogical Societies (Ft. Wayne\, IN)
URL:https://aleliabundles.com/event/august-25-faded-photographs-cherished-artifacts-and-amazing-ancestors-at-the-federation-of-genealogical-societies-ft-wayne-in/
END:VEVENT
BEGIN:VEVENT
DTSTART;TZID=UTC:20180728T000000
DTEND;TZID=UTC:20180728T000000
DTSTAMP:20260422T222144
CREATED:20230228T042458Z
LAST-MODIFIED:20230228T042458Z
UID:30041-1532736000-1532736000@aleliabundles.com
SUMMARY:July 28: “Votes for Women Suffrage Centennial” Old State House (Little Rock\, AR)
DESCRIPTION:July 28: “Votes for Women Suffrage Centennial” Old State House (Little Rock\, AR)
URL:https://aleliabundles.com/event/july-28-votes-for-women-suffrage-centennial-old-state-house-little-rock-ar/
END:VEVENT
BEGIN:VEVENT
DTSTART;TZID=UTC:20180727T000000
DTEND;TZID=UTC:20180727T000000
DTSTAMP:20260422T222144
CREATED:20230228T042457Z
LAST-MODIFIED:20230228T042457Z
UID:30040-1532649600-1532649600@aleliabundles.com
SUMMARY:July 27: “Arkansas Roots: From Helena and Pine Bluff to the Mosaic Templars and Madam C. J. Walker” at Philander Smith College (Little Rock\, AR)
DESCRIPTION:July 27: “Arkansas Roots: From Helena and Pine Bluff to the Mosaic Templars and Madam C. J. Walker” at Philander Smith College (Little Rock\, AR)
URL:https://aleliabundles.com/event/july-27-arkansas-roots-from-helena-and-pine-bluff-to-the-mosaic-templars-and-madam-c-j-walker-at-philander-smith-college-little-rock-ar/
END:VEVENT
END:VCALENDAR