BEGIN:VCALENDAR
VERSION:2.0
PRODID:-//A&#039;Lelia Bundles - ECPv6.15.20//NONSGML v1.0//EN
CALSCALE:GREGORIAN
METHOD:PUBLISH
X-WR-CALNAME:A&#039;Lelia Bundles
X-ORIGINAL-URL:https://aleliabundles.com
X-WR-CALDESC:Events for A&#039;Lelia Bundles
REFRESH-INTERVAL;VALUE=DURATION:PT1H
X-Robots-Tag:noindex
X-PUBLISHED-TTL:PT1H
BEGIN:VTIMEZONE
TZID:UTC
BEGIN:STANDARD
TZOFFSETFROM:+0000
TZOFFSETTO:+0000
TZNAME:UTC
DTSTART:20140101T000000
END:STANDARD
END:VTIMEZONE
BEGIN:VEVENT
DTSTART;TZID=UTC:20161027T000000
DTEND;TZID=UTC:20161027T000000
DTSTAMP:20260422T215850
CREATED:20230228T043253Z
LAST-MODIFIED:20230228T043253Z
UID:30085-1477526400-1477526400@aleliabundles.com
SUMMARY:October 27: Albany Community Action Partnership Dinner (Albany\, NY)
DESCRIPTION:October 27: Albany Community Action Partnership Dinner (Albany\, NY)
URL:https://aleliabundles.com/event/october-27-albany-community-action-partnership-dinner-albany-ny/
END:VEVENT
BEGIN:VEVENT
DTSTART;TZID=UTC:20161019T000000
DTEND;TZID=UTC:20161019T000000
DTSTAMP:20260422T215850
CREATED:20230228T043252Z
LAST-MODIFIED:20230228T043252Z
UID:30084-1476835200-1476835200@aleliabundles.com
SUMMARY:October 19: Black Power and Black Lives Matter (National Archives/Washington\, DC)  YouTube Livestream on 10/19
DESCRIPTION:October 19: Black Power and Black Lives Matter (National Archives/Washington\, DC)  YouTube Livestream on 10/19
URL:https://aleliabundles.com/event/october-19-black-power-and-black-lives-matter-national-archives-washington-dc-youtube-livestream-on-10-19/
END:VEVENT
BEGIN:VEVENT
DTSTART;TZID=UTC:20161017T000000
DTEND;TZID=UTC:20161017T000000
DTSTAMP:20260422T215850
CREATED:20230228T043145Z
LAST-MODIFIED:20230228T043145Z
UID:30083-1476662400-1476662400@aleliabundles.com
SUMMARY:October 17: National Archives Foundation Signers Circle (National Archives/Washington\, DC)
DESCRIPTION:October 17: National Archives Foundation Signers Circle (National Archives/Washington\, DC)
URL:https://aleliabundles.com/event/october-17-national-archives-foundation-signers-circle-national-archives-washington-dc/
END:VEVENT
BEGIN:VEVENT
DTSTART;TZID=UTC:20161015T000000
DTEND;TZID=UTC:20161015T000000
DTSTAMP:20260422T215850
CREATED:20230228T043144Z
LAST-MODIFIED:20230228T043144Z
UID:30082-1476489600-1476489600@aleliabundles.com
SUMMARY:October 15: Indiana Bicentennial Torch Relay (Madam Walker Theatre Center/Indianapolis\, IN)
DESCRIPTION:October 15: Indiana Bicentennial Torch Relay (Madam Walker Theatre Center/Indianapolis\, IN)
URL:https://aleliabundles.com/event/october-15-indiana-bicentennial-torch-relay-madam-walker-theatre-center-indianapolis-in/
END:VEVENT
BEGIN:VEVENT
DTSTART;TZID=UTC:20161011T000000
DTEND;TZID=UTC:20161011T000000
DTSTAMP:20260422T215850
CREATED:20230228T043144Z
LAST-MODIFIED:20230228T043144Z
UID:30081-1476144000-1476144000@aleliabundles.com
SUMMARY:October 11: History & Heritage: The Family Collage (The Gantt Center/Charlotte\, NC)
DESCRIPTION:October 11: History & Heritage: The Family Collage (The Gantt Center/Charlotte\, NC)
URL:https://aleliabundles.com/event/october-11-history-heritage-the-family-collage-the-gantt-center-charlotte-nc/
END:VEVENT
BEGIN:VEVENT
DTSTART;TZID=UTC:20161001T000000
DTEND;TZID=UTC:20161001T000000
DTSTAMP:20260422T215850
CREATED:20230228T043144Z
LAST-MODIFIED:20230228T043144Z
UID:30079-1475280000-1475280000@aleliabundles.com
SUMMARY:October 1: Sister-to-Sister Annual Tea (Chevy Chase\, MD)
DESCRIPTION:October 1: Sister-to-Sister Annual Tea (Chevy Chase\, MD)
URL:https://aleliabundles.com/event/october-1-sister-to-sister-annual-tea-chevy-chase-md/
END:VEVENT
BEGIN:VEVENT
DTSTART;TZID=UTC:20160621T000000
DTEND;TZID=UTC:20160621T000000
DTSTAMP:20260422T215850
CREATED:20230228T042944Z
LAST-MODIFIED:20230228T042944Z
UID:30078-1466467200-1466467200@aleliabundles.com
SUMMARY:June 21: Harlem Link Charter School Graduation (New York\, NY)
DESCRIPTION:June 21: Harlem Link Charter School Graduation (New York\, NY)
URL:https://aleliabundles.com/event/june-21-harlem-link-charter-school-graduation-new-york-ny/
END:VEVENT
BEGIN:VEVENT
DTSTART;TZID=UTC:20160520T000000
DTEND;TZID=UTC:20160520T000000
DTSTAMP:20260422T215850
CREATED:20230228T042944Z
LAST-MODIFIED:20230228T042944Z
UID:30077-1463702400-1463702400@aleliabundles.com
SUMMARY:May 20: Maret School (Washington\, DC)
DESCRIPTION:May 20: Maret School (Washington\, DC)
URL:https://aleliabundles.com/event/may-20-maret-school-washington-dc/
END:VEVENT
BEGIN:VEVENT
DTSTART;TZID=UTC:20160515T000000
DTEND;TZID=UTC:20160515T000000
DTSTAMP:20260422T215850
CREATED:20230228T042944Z
LAST-MODIFIED:20230228T042944Z
UID:30076-1463270400-1463270400@aleliabundles.com
SUMMARY:May 15: Wilson College Commencement (Chambersburg\, PA)
DESCRIPTION:May 15: Wilson College Commencement (Chambersburg\, PA)
URL:https://aleliabundles.com/event/may-15-wilson-college-commencement-chambersburg-pa/
END:VEVENT
BEGIN:VEVENT
DTSTART;TZID=UTC:20160408T000000
DTEND;TZID=UTC:20160408T000000
DTSTAMP:20260422T215850
CREATED:20230228T042944Z
LAST-MODIFIED:20230228T042944Z
UID:30075-1460073600-1460073600@aleliabundles.com
SUMMARY:April 8: Bay Area National Coalition of 100 Black Women’s Annual Madam Walker Luncheon (San Francisco)
DESCRIPTION:April 8: Bay Area National Coalition of 100 Black Women’s Annual Madam Walker Luncheon (San Francisco)
URL:https://aleliabundles.com/event/april-8-bay-area-national-coalition-of-100-black-womens-annual-madam-walker-luncheon-san-francisco/
END:VEVENT
BEGIN:VEVENT
DTSTART;TZID=UTC:20160407T000000
DTEND;TZID=UTC:20160407T000000
DTSTAMP:20260422T215850
CREATED:20230228T042944Z
LAST-MODIFIED:20230228T042944Z
UID:30074-1459987200-1459987200@aleliabundles.com
SUMMARY:April 7: Chabot Community College (Hayward\, CA)
DESCRIPTION:April 7: Chabot Community College (Hayward\, CA)
URL:https://aleliabundles.com/event/april-7-chabot-community-college-hayward-ca/
END:VEVENT
BEGIN:VEVENT
DTSTART;TZID=UTC:20160322T000000
DTEND;TZID=UTC:20160322T000000
DTSTAMP:20260422T215850
CREATED:20230228T042744Z
LAST-MODIFIED:20230228T042744Z
UID:30073-1458604800-1458604800@aleliabundles.com
SUMMARY:March 22: Contemporary Club of Indianapolis (Indianapolis\, IN)
DESCRIPTION:March 22: Contemporary Club of Indianapolis (Indianapolis\, IN)
URL:https://aleliabundles.com/event/march-22-contemporary-club-of-indianapolis-indianapolis-in/
END:VEVENT
BEGIN:VEVENT
DTSTART;TZID=UTC:20160319T000000
DTEND;TZID=UTC:20160319T000000
DTSTAMP:20260422T215850
CREATED:20230228T042744Z
LAST-MODIFIED:20230228T042744Z
UID:30072-1458345600-1458345600@aleliabundles.com
SUMMARY:March 19: Philadelphia National Coalition of 100 Black Women’s 30th Annual Madam Walker Luncheon (Philadelphia)
DESCRIPTION:March 19: Philadelphia National Coalition of 100 Black Women’s 30th Annual Madam Walker Luncheon (Philadelphia)
URL:https://aleliabundles.com/event/march-19-philadelphia-national-coalition-of-100-black-womens-30th-annual-madam-walker-luncheon-philadelphia/
END:VEVENT
BEGIN:VEVENT
DTSTART;TZID=UTC:20160220T000000
DTEND;TZID=UTC:20160220T000000
DTSTAMP:20260422T215850
CREATED:20230228T042744Z
LAST-MODIFIED:20230228T042744Z
UID:30071-1455926400-1455926400@aleliabundles.com
SUMMARY:February 20: MC at 90th annual ASALH Black History Luncheon (Renaissance Hotel/Washington\, DC)
DESCRIPTION:February 20: MC at 90th annual ASALH Black History Luncheon (Renaissance Hotel/Washington\, DC)
URL:https://aleliabundles.com/event/february-20-mc-at-90th-annual-asalh-black-history-luncheon-renaissance-hotel-washington-dc/
END:VEVENT
BEGIN:VEVENT
DTSTART;TZID=UTC:20160218T000000
DTEND;TZID=UTC:20160218T000000
DTSTAMP:20260422T215850
CREATED:20230228T042744Z
LAST-MODIFIED:20230228T042744Z
UID:30070-1455753600-1455753600@aleliabundles.com
SUMMARY:February 18:  Black Lives Matter: Past\, Present and Future (Cal State University\, Fullerton\, CA)
DESCRIPTION:February 18:  Black Lives Matter: Past\, Present and Future (Cal State University\, Fullerton\, CA)
URL:https://aleliabundles.com/event/february-18-black-lives-matter-past-present-and-future-cal-state-university-fullerton-ca/
END:VEVENT
BEGIN:VEVENT
DTSTART;TZID=UTC:20160209T000000
DTEND;TZID=UTC:20160209T000000
DTSTAMP:20260422T215850
CREATED:20230228T042744Z
LAST-MODIFIED:20230228T042744Z
UID:30069-1454976000-1454976000@aleliabundles.com
SUMMARY:February 9: A Conversation with Columbia Dean Alondra Nelson (National Archives/Washington\, DC)
DESCRIPTION:February 9: A Conversation with Columbia Dean Alondra Nelson (National Archives/Washington\, DC)
URL:https://aleliabundles.com/event/february-9-a-conversation-with-columbia-dean-alondra-nelson-national-archives-washington-dc/
END:VEVENT
BEGIN:VEVENT
DTSTART;TZID=UTC:20160208T000000
DTEND;TZID=UTC:20160208T000000
DTSTAMP:20260422T215850
CREATED:20230228T042729Z
LAST-MODIFIED:20230228T042729Z
UID:30068-1454889600-1454889600@aleliabundles.com
SUMMARY:February 8: Professor Samuel Freedman’s Class at Columbia Graduate School of Journalism (New York\, NY)
DESCRIPTION:February 8: Professor Samuel Freedman’s Class at Columbia Graduate School of Journalism (New York\, NY)
URL:https://aleliabundles.com/event/february-8-professor-samuel-freedmans-class-at-columbia-graduate-school-of-journalism-new-york-ny/
END:VEVENT
BEGIN:VEVENT
DTSTART;TZID=UTC:20160204T000000
DTEND;TZID=UTC:20160204T000000
DTSTAMP:20260422T215850
CREATED:20230228T042729Z
LAST-MODIFIED:20230228T042729Z
UID:30067-1454544000-1454544000@aleliabundles.com
SUMMARY:February 4: A Conversation with Filmmaker Aviva Kempner (National Archives/Washington\, DC)
DESCRIPTION:February 4: A Conversation with Filmmaker Aviva Kempner (National Archives/Washington\, DC)
URL:https://aleliabundles.com/event/february-4-a-conversation-with-filmmaker-aviva-kempner-national-archives-washington-dc/
END:VEVENT
BEGIN:VEVENT
DTSTART;TZID=UTC:20160116T000000
DTEND;TZID=UTC:20160116T000000
DTSTAMP:20260422T215850
CREATED:20230228T042729Z
LAST-MODIFIED:20230228T042729Z
UID:30066-1452902400-1452902400@aleliabundles.com
SUMMARY:January 16: Oxon Hill Chapter American Business Women’s Association (Oxon Hill\, MD)
DESCRIPTION:January 16: Oxon Hill Chapter American Business Women’s Association (Oxon Hill\, MD)
URL:https://aleliabundles.com/event/january-16-oxon-hill-chapter-american-business-womens-association-oxon-hill-md/
END:VEVENT
BEGIN:VEVENT
DTSTART;TZID=UTC:20151212T000000
DTEND;TZID=UTC:20151212T000000
DTSTAMP:20260422T215850
CREATED:20230228T043428Z
LAST-MODIFIED:20230228T043428Z
UID:30111-1449878400-1449878400@aleliabundles.com
SUMMARY:December 12: Metropolitan DC Links Annual Christmas Luncheon MC (Columbia Country Club/Chevy Chase\, MD)
DESCRIPTION:December 12: Metropolitan DC Links Annual Christmas Luncheon MC (Columbia Country Club/Chevy Chase\, MD)
URL:https://aleliabundles.com/event/december-12-metropolitan-dc-links-annual-christmas-luncheon-mc-columbia-country-club-chevy-chase-md/
END:VEVENT
BEGIN:VEVENT
DTSTART;TZID=UTC:20151202T000000
DTEND;TZID=UTC:20151202T000000
DTSTAMP:20260422T215850
CREATED:20230228T043428Z
LAST-MODIFIED:20230228T043428Z
UID:30110-1449014400-1449014400@aleliabundles.com
SUMMARY:December 2: Professor Shatima Jones’s NYU Class: (De)Tangling the Business of Black Women’s Hair (New York)
DESCRIPTION:December 2: Professor Shatima Jones’s NYU Class: (De)Tangling the Business of Black Women’s Hair (New York)
URL:https://aleliabundles.com/event/december-2-professor-shatima-joness-nyu-class-detangling-the-business-of-black-womens-hair-new-york/
END:VEVENT
BEGIN:VEVENT
DTSTART;TZID=UTC:20151106T000000
DTEND;TZID=UTC:20151106T000000
DTSTAMP:20260422T215850
CREATED:20230228T043427Z
LAST-MODIFIED:20230228T043427Z
UID:30109-1446768000-1446768000@aleliabundles.com
SUMMARY:November 6: Madam Walker/Frederick Douglass Lecture  “A Legacy\, A Life and a Landmark” (Jewel Center/Indianapolis\, IN)
DESCRIPTION:November 6: Madam Walker/Frederick Douglass Lecture  “A Legacy\, A Life and a Landmark” (Jewel Center/Indianapolis\, IN)
URL:https://aleliabundles.com/event/november-6-madam-walker-frederick-douglass-lecture-a-legacy-a-life-and-a-landmark-jewel-center-indianapolis-in/
END:VEVENT
BEGIN:VEVENT
DTSTART;TZID=UTC:20151024T000000
DTEND;TZID=UTC:20151024T000000
DTSTAMP:20260422T215850
CREATED:20230228T043413Z
LAST-MODIFIED:20230228T043413Z
UID:30108-1445644800-1445644800@aleliabundles.com
SUMMARY:October 24: DC Author Festival (MLK Library/Washington\, DC)
DESCRIPTION:October 24: DC Author Festival (MLK Library/Washington\, DC)
URL:https://aleliabundles.com/event/october-24-dc-author-festival-mlk-library-washington-dc/
END:VEVENT
BEGIN:VEVENT
DTSTART;TZID=UTC:20151016T000000
DTEND;TZID=UTC:20151016T000000
DTSTAMP:20260422T215850
CREATED:20230228T043413Z
LAST-MODIFIED:20230228T043413Z
UID:30107-1444953600-1444953600@aleliabundles.com
SUMMARY:October 16: American Business Women’s Association National Convention (Albuquerque\, NM)
DESCRIPTION:October 16: American Business Women’s Association National Convention (Albuquerque\, NM)
URL:https://aleliabundles.com/event/october-16-american-business-womens-association-national-convention-albuquerque-nm/
END:VEVENT
BEGIN:VEVENT
DTSTART;TZID=UTC:20150925T000000
DTEND;TZID=UTC:20150925T000000
DTSTAMP:20260422T215850
CREATED:20230228T043413Z
LAST-MODIFIED:20230228T043413Z
UID:30106-1443139200-1443139200@aleliabundles.com
SUMMARY:September 25: HistoryMakers Back to School (Wilson SHS/Washington\, DC)
DESCRIPTION:September 25: HistoryMakers Back to School (Wilson SHS/Washington\, DC)
URL:https://aleliabundles.com/event/september-25-historymakers-back-to-school-wilson-shs-washington-dc/
END:VEVENT
BEGIN:VEVENT
DTSTART;TZID=UTC:20150826T000000
DTEND;TZID=UTC:20150826T000000
DTSTAMP:20260422T215850
CREATED:20230228T043413Z
LAST-MODIFIED:20230228T043413Z
UID:30105-1440547200-1440547200@aleliabundles.com
SUMMARY:August 26: Women’s Equality Day (Redstone Arsenal/Huntsville\, AL)
DESCRIPTION:August 26: Women’s Equality Day (Redstone Arsenal/Huntsville\, AL)
URL:https://aleliabundles.com/event/august-26-womens-equality-day-redstone-arsenal-huntsville-al/
END:VEVENT
BEGIN:VEVENT
DTSTART;TZID=UTC:20150716T000000
DTEND;TZID=UTC:20150716T000000
DTSTAMP:20260422T215850
CREATED:20230228T043412Z
LAST-MODIFIED:20230228T043412Z
UID:30104-1437004800-1437004800@aleliabundles.com
SUMMARY:July 16: March on Washington Film Festival Authors & Scholars Panel (National Archives/Wasington\, DC)
DESCRIPTION:July 16: March on Washington Film Festival Authors & Scholars Panel (National Archives/Wasington\, DC)
URL:https://aleliabundles.com/event/july-16-march-on-washington-film-festival-authors-scholars-panel-national-archives-wasington-dc/
END:VEVENT
BEGIN:VEVENT
DTSTART;TZID=UTC:20150711T000000
DTEND;TZID=UTC:20150711T000000
DTSTAMP:20260422T215850
CREATED:20230228T043340Z
LAST-MODIFIED:20230228T043340Z
UID:30103-1436572800-1436572800@aleliabundles.com
SUMMARY:July 11: Idlewild Music Fest  Women’s Empowerment Luncheon (Idlewild\, MI)
DESCRIPTION:July 11: Idlewild Music Fest  Women’s Empowerment Luncheon (Idlewild\, MI)
URL:https://aleliabundles.com/event/july-11-idlewild-music-fest-womens-empowerment-luncheon-idlewild-mi/
END:VEVENT
BEGIN:VEVENT
DTSTART;TZID=UTC:20150701T000000
DTEND;TZID=UTC:20150701T000000
DTSTAMP:20260422T215850
CREATED:20230228T043340Z
LAST-MODIFIED:20230228T043340Z
UID:30102-1435708800-1435708800@aleliabundles.com
SUMMARY:July 1: A Conversation with Author Pamela Newkirk about Newkirk’s new book\, Spectacle: The Astonishing Life of Ota Benga (Busboys & Poets /Washington\, DC)
DESCRIPTION:July 1: A Conversation with Author Pamela Newkirk about Newkirk’s new book\, Spectacle: The Astonishing Life of Ota Benga (Busboys & Poets /Washington\, DC)
URL:https://aleliabundles.com/event/july-1-a-conversation-with-author-pamela-newkirk-about-newkirks-new-book-spectacle-the-astonishing-life-of-ota-benga-busboys-poets-washington-dc/
END:VEVENT
BEGIN:VEVENT
DTSTART;TZID=UTC:20150617T000000
DTEND;TZID=UTC:20150617T000000
DTSTAMP:20260422T215850
CREATED:20230228T043339Z
LAST-MODIFIED:20230228T043339Z
UID:30101-1434499200-1434499200@aleliabundles.com
SUMMARY:June 17: Hurston/Wright Foundation’s Juneteenth Celebration (Eatonville Restaurant/Washington\, DC)
DESCRIPTION:June 17: Hurston/Wright Foundation’s Juneteenth Celebration (Eatonville Restaurant/Washington\, DC)
URL:https://aleliabundles.com/event/june-17-hurston-wright-foundations-juneteenth-celebration-eatonville-restaurant-washington-dc/
END:VEVENT
END:VCALENDAR