BEGIN:VCALENDAR
VERSION:2.0
PRODID:-//A&#039;Lelia Bundles - ECPv6.15.20//NONSGML v1.0//EN
CALSCALE:GREGORIAN
METHOD:PUBLISH
X-WR-CALNAME:A&#039;Lelia Bundles
X-ORIGINAL-URL:https://aleliabundles.com
X-WR-CALDESC:Events for A&#039;Lelia Bundles
REFRESH-INTERVAL;VALUE=DURATION:PT1H
X-Robots-Tag:noindex
X-PUBLISHED-TTL:PT1H
BEGIN:VTIMEZONE
TZID:UTC
BEGIN:STANDARD
TZOFFSETFROM:+0000
TZOFFSETTO:+0000
TZNAME:UTC
DTSTART:20130101T000000
END:STANDARD
END:VTIMEZONE
BEGIN:VEVENT
DTSTART;TZID=UTC:20151106T000000
DTEND;TZID=UTC:20151106T000000
DTSTAMP:20260422T222104
CREATED:20230228T043427Z
LAST-MODIFIED:20230228T043427Z
UID:30109-1446768000-1446768000@aleliabundles.com
SUMMARY:November 6: Madam Walker/Frederick Douglass Lecture  “A Legacy\, A Life and a Landmark” (Jewel Center/Indianapolis\, IN)
DESCRIPTION:November 6: Madam Walker/Frederick Douglass Lecture  “A Legacy\, A Life and a Landmark” (Jewel Center/Indianapolis\, IN)
URL:https://aleliabundles.com/event/november-6-madam-walker-frederick-douglass-lecture-a-legacy-a-life-and-a-landmark-jewel-center-indianapolis-in/
END:VEVENT
BEGIN:VEVENT
DTSTART;TZID=UTC:20151024T000000
DTEND;TZID=UTC:20151024T000000
DTSTAMP:20260422T222104
CREATED:20230228T043413Z
LAST-MODIFIED:20230228T043413Z
UID:30108-1445644800-1445644800@aleliabundles.com
SUMMARY:October 24: DC Author Festival (MLK Library/Washington\, DC)
DESCRIPTION:October 24: DC Author Festival (MLK Library/Washington\, DC)
URL:https://aleliabundles.com/event/october-24-dc-author-festival-mlk-library-washington-dc/
END:VEVENT
BEGIN:VEVENT
DTSTART;TZID=UTC:20151016T000000
DTEND;TZID=UTC:20151016T000000
DTSTAMP:20260422T222104
CREATED:20230228T043413Z
LAST-MODIFIED:20230228T043413Z
UID:30107-1444953600-1444953600@aleliabundles.com
SUMMARY:October 16: American Business Women’s Association National Convention (Albuquerque\, NM)
DESCRIPTION:October 16: American Business Women’s Association National Convention (Albuquerque\, NM)
URL:https://aleliabundles.com/event/october-16-american-business-womens-association-national-convention-albuquerque-nm/
END:VEVENT
BEGIN:VEVENT
DTSTART;TZID=UTC:20150925T000000
DTEND;TZID=UTC:20150925T000000
DTSTAMP:20260422T222104
CREATED:20230228T043413Z
LAST-MODIFIED:20230228T043413Z
UID:30106-1443139200-1443139200@aleliabundles.com
SUMMARY:September 25: HistoryMakers Back to School (Wilson SHS/Washington\, DC)
DESCRIPTION:September 25: HistoryMakers Back to School (Wilson SHS/Washington\, DC)
URL:https://aleliabundles.com/event/september-25-historymakers-back-to-school-wilson-shs-washington-dc/
END:VEVENT
BEGIN:VEVENT
DTSTART;TZID=UTC:20150826T000000
DTEND;TZID=UTC:20150826T000000
DTSTAMP:20260422T222104
CREATED:20230228T043413Z
LAST-MODIFIED:20230228T043413Z
UID:30105-1440547200-1440547200@aleliabundles.com
SUMMARY:August 26: Women’s Equality Day (Redstone Arsenal/Huntsville\, AL)
DESCRIPTION:August 26: Women’s Equality Day (Redstone Arsenal/Huntsville\, AL)
URL:https://aleliabundles.com/event/august-26-womens-equality-day-redstone-arsenal-huntsville-al/
END:VEVENT
BEGIN:VEVENT
DTSTART;TZID=UTC:20150716T000000
DTEND;TZID=UTC:20150716T000000
DTSTAMP:20260422T222104
CREATED:20230228T043412Z
LAST-MODIFIED:20230228T043412Z
UID:30104-1437004800-1437004800@aleliabundles.com
SUMMARY:July 16: March on Washington Film Festival Authors & Scholars Panel (National Archives/Wasington\, DC)
DESCRIPTION:July 16: March on Washington Film Festival Authors & Scholars Panel (National Archives/Wasington\, DC)
URL:https://aleliabundles.com/event/july-16-march-on-washington-film-festival-authors-scholars-panel-national-archives-wasington-dc/
END:VEVENT
BEGIN:VEVENT
DTSTART;TZID=UTC:20150711T000000
DTEND;TZID=UTC:20150711T000000
DTSTAMP:20260422T222104
CREATED:20230228T043340Z
LAST-MODIFIED:20230228T043340Z
UID:30103-1436572800-1436572800@aleliabundles.com
SUMMARY:July 11: Idlewild Music Fest  Women’s Empowerment Luncheon (Idlewild\, MI)
DESCRIPTION:July 11: Idlewild Music Fest  Women’s Empowerment Luncheon (Idlewild\, MI)
URL:https://aleliabundles.com/event/july-11-idlewild-music-fest-womens-empowerment-luncheon-idlewild-mi/
END:VEVENT
BEGIN:VEVENT
DTSTART;TZID=UTC:20150701T000000
DTEND;TZID=UTC:20150701T000000
DTSTAMP:20260422T222104
CREATED:20230228T043340Z
LAST-MODIFIED:20230228T043340Z
UID:30102-1435708800-1435708800@aleliabundles.com
SUMMARY:July 1: A Conversation with Author Pamela Newkirk about Newkirk’s new book\, Spectacle: The Astonishing Life of Ota Benga (Busboys & Poets /Washington\, DC)
DESCRIPTION:July 1: A Conversation with Author Pamela Newkirk about Newkirk’s new book\, Spectacle: The Astonishing Life of Ota Benga (Busboys & Poets /Washington\, DC)
URL:https://aleliabundles.com/event/july-1-a-conversation-with-author-pamela-newkirk-about-newkirks-new-book-spectacle-the-astonishing-life-of-ota-benga-busboys-poets-washington-dc/
END:VEVENT
BEGIN:VEVENT
DTSTART;TZID=UTC:20150617T000000
DTEND;TZID=UTC:20150617T000000
DTSTAMP:20260422T222104
CREATED:20230228T043339Z
LAST-MODIFIED:20230228T043339Z
UID:30101-1434499200-1434499200@aleliabundles.com
SUMMARY:June 17: Hurston/Wright Foundation’s Juneteenth Celebration (Eatonville Restaurant/Washington\, DC)
DESCRIPTION:June 17: Hurston/Wright Foundation’s Juneteenth Celebration (Eatonville Restaurant/Washington\, DC)
URL:https://aleliabundles.com/event/june-17-hurston-wright-foundations-juneteenth-celebration-eatonville-restaurant-washington-dc/
END:VEVENT
BEGIN:VEVENT
DTSTART;TZID=UTC:20150520T000000
DTEND;TZID=UTC:20150520T000000
DTSTAMP:20260422T222104
CREATED:20230228T043339Z
LAST-MODIFIED:20230228T043339Z
UID:30100-1432080000-1432080000@aleliabundles.com
SUMMARY:May 20: Leadership: A Conversation with Congressman John Lewis (Office of the Comptroller of the Currency/Washington\, DC)
DESCRIPTION:May 20: Leadership: A Conversation with Congressman John Lewis (Office of the Comptroller of the Currency/Washington\, DC)
URL:https://aleliabundles.com/event/may-20-leadership-a-conversation-with-congressman-john-lewis-office-of-the-comptroller-of-the-currency-washington-dc/
END:VEVENT
BEGIN:VEVENT
DTSTART;TZID=UTC:20150414T000000
DTEND;TZID=UTC:20150414T000000
DTSTAMP:20260422T222104
CREATED:20230228T043339Z
LAST-MODIFIED:20230228T043339Z
UID:30099-1428969600-1428969600@aleliabundles.com
SUMMARY:April 14: A Conversation with Miss Jessie’s co-founder Miko Branch (Barnes & Noble/New York)
DESCRIPTION:April 14: A Conversation with Miss Jessie’s co-founder Miko Branch (Barnes & Noble/New York)
URL:https://aleliabundles.com/event/april-14-a-conversation-with-miss-jessies-co-founder-miko-branch-barnes-noble-new-york/
END:VEVENT
BEGIN:VEVENT
DTSTART;TZID=UTC:20150411T000000
DTEND;TZID=UTC:20150411T000000
DTSTAMP:20260422T222104
CREATED:20230228T043325Z
LAST-MODIFIED:20230228T043325Z
UID:30098-1428710400-1428710400@aleliabundles.com
SUMMARY:April 11: Metropolitan Links Young Black Writers Awards Ceremony (Washington\, DC)
DESCRIPTION:April 11: Metropolitan Links Young Black Writers Awards Ceremony (Washington\, DC)
URL:https://aleliabundles.com/event/april-11-metropolitan-links-young-black-writers-awards-ceremony-washington-dc/
END:VEVENT
BEGIN:VEVENT
DTSTART;TZID=UTC:20150329T000000
DTEND;TZID=UTC:20150329T000000
DTSTAMP:20260422T222104
CREATED:20230228T043325Z
LAST-MODIFIED:20230228T043325Z
UID:30097-1427587200-1427587200@aleliabundles.com
SUMMARY:March 29: Toledo-Lucas County Public Library (McMaster Center-Main Library/Toledo\, OH)
DESCRIPTION:March 29: Toledo-Lucas County Public Library (McMaster Center-Main Library/Toledo\, OH)
URL:https://aleliabundles.com/event/march-29-toledo-lucas-county-public-library-mcmaster-center-main-library-toledo-oh/
END:VEVENT
BEGIN:VEVENT
DTSTART;TZID=UTC:20150228T000000
DTEND;TZID=UTC:20150228T000000
DTSTAMP:20260422T222104
CREATED:20230228T043324Z
LAST-MODIFIED:20230228T043324Z
UID:30096-1425081600-1425081600@aleliabundles.com
SUMMARY:February 28: ASALH Centennial Celebration Luncheon (Wardman Marriott/Washington\, DC)
DESCRIPTION:February 28: ASALH Centennial Celebration Luncheon (Wardman Marriott/Washington\, DC)
URL:https://aleliabundles.com/event/february-28-asalh-centennial-celebration-luncheon-wardman-marriott-washington-dc/
END:VEVENT
BEGIN:VEVENT
DTSTART;TZID=UTC:20150224T000000
DTEND;TZID=UTC:20150224T000000
DTSTAMP:20260422T222104
CREATED:20230228T043324Z
LAST-MODIFIED:20230228T043324Z
UID:30095-1424736000-1424736000@aleliabundles.com
SUMMARY:February 24: Rosenwald Schools Lunchtime Talk with Filmmaker Aviva Kempner (Library of Congress/Washington\, DC)
DESCRIPTION:February 24: Rosenwald Schools Lunchtime Talk with Filmmaker Aviva Kempner (Library of Congress/Washington\, DC)
URL:https://aleliabundles.com/event/february-24-rosenwald-schools-lunchtime-talk-with-filmmaker-aviva-kempner-library-of-congress-washington-dc/
END:VEVENT
BEGIN:VEVENT
DTSTART;TZID=UTC:20150220T000000
DTEND;TZID=UTC:20150220T000000
DTSTAMP:20260422T222104
CREATED:20230228T043324Z
LAST-MODIFIED:20230228T043324Z
UID:30094-1424390400-1424390400@aleliabundles.com
SUMMARY:February 20: “Giving Back: The Soul of Philanthropy Reframed and Exhibited” (Johnson C. Smith University/Charlotte\, NC)
DESCRIPTION:February 20: “Giving Back: The Soul of Philanthropy Reframed and Exhibited” (Johnson C. Smith University/Charlotte\, NC)
URL:https://aleliabundles.com/event/february-20-giving-back-the-soul-of-philanthropy-reframed-and-exhibited-johnson-c-smith-university-charlotte-nc/
END:VEVENT
BEGIN:VEVENT
DTSTART;TZID=UTC:20150219T000000
DTEND;TZID=UTC:20150219T000000
DTSTAMP:20260422T222104
CREATED:20230228T043308Z
LAST-MODIFIED:20230228T043308Z
UID:30093-1424304000-1424304000@aleliabundles.com
SUMMARY:February 19: “A Century of Black Life\, History and Culture”/Black History Month/FDIC (Washington\, DC)
DESCRIPTION:February 19: “A Century of Black Life\, History and Culture”/Black History Month/FDIC (Washington\, DC)
URL:https://aleliabundles.com/event/february-19-a-century-of-black-life-history-and-culture-black-history-month-fdic-washington-dc/
END:VEVENT
BEGIN:VEVENT
DTSTART;TZID=UTC:20150213T000000
DTEND;TZID=UTC:20150213T000000
DTSTAMP:20260422T222104
CREATED:20230228T043308Z
LAST-MODIFIED:20230228T043308Z
UID:30092-1423785600-1423785600@aleliabundles.com
SUMMARY:February 13: Denver Links/Hallett Fundamental Academy (Skype)
DESCRIPTION:February 13: Denver Links/Hallett Fundamental Academy (Skype)
URL:https://aleliabundles.com/event/february-13-denver-links-hallett-fundamental-academy-skype/
END:VEVENT
BEGIN:VEVENT
DTSTART;TZID=UTC:20150212T000000
DTEND;TZID=UTC:20150212T000000
DTSTAMP:20260422T222104
CREATED:20230228T043308Z
LAST-MODIFIED:20230228T043308Z
UID:30091-1423699200-1423699200@aleliabundles.com
SUMMARY:February 12: USPS Robert Robinson Taylor Black Heritage Stamp First Day of Issue Ceremony (National Postal Museum/Washington\, DC)
DESCRIPTION:February 12: USPS Robert Robinson Taylor Black Heritage Stamp First Day of Issue Ceremony (National Postal Museum/Washington\, DC)
URL:https://aleliabundles.com/event/february-12-usps-robert-robinson-taylor-black-heritage-stamp-first-day-of-issue-ceremony-national-postal-museum-washington-dc/
END:VEVENT
BEGIN:VEVENT
DTSTART;TZID=UTC:20150211T000000
DTEND;TZID=UTC:20150211T000000
DTSTAMP:20260422T222104
CREATED:20230228T043308Z
LAST-MODIFIED:20230228T043308Z
UID:30090-1423612800-1423612800@aleliabundles.com
SUMMARY:February 11: “A Century of Black Life\, History and Culture”/Black History Month (U. S. Government Accountability Office/Washington\, DC)
DESCRIPTION:February 11: “A Century of Black Life\, History and Culture”/Black History Month (U. S. Government Accountability Office/Washington\, DC)
URL:https://aleliabundles.com/event/february-11-a-century-of-black-life-history-and-culture-black-history-month-u-s-government-accountability-office-washington-dc/
END:VEVENT
BEGIN:VEVENT
DTSTART;TZID=UTC:20150210T000000
DTEND;TZID=UTC:20150210T000000
DTSTAMP:20260422T222104
CREATED:20230228T043307Z
LAST-MODIFIED:20230228T043307Z
UID:30089-1423526400-1423526400@aleliabundles.com
SUMMARY:February 10: “A Century of Black Life\, History and Culture”/Black History Month (Defense Logistics Agency/Philadelphia)
DESCRIPTION:February 10: “A Century of Black Life\, History and Culture”/Black History Month (Defense Logistics Agency/Philadelphia)
URL:https://aleliabundles.com/event/february-10-a-century-of-black-life-history-and-culture-black-history-month-defense-logistics-agency-philadelphia/
END:VEVENT
BEGIN:VEVENT
DTSTART;TZID=UTC:20150120T000000
DTEND;TZID=UTC:20150120T000000
DTSTAMP:20260422T222104
CREATED:20230228T043253Z
LAST-MODIFIED:20230228T043253Z
UID:30088-1421712000-1421712000@aleliabundles.com
SUMMARY:January 20: Between the Lines Interview with Vintage Black Glamour author Nichelle Gainer (Schomburg Center/New York) VIDEO LINK
DESCRIPTION:January 20: Between the Lines Interview with Vintage Black Glamour author Nichelle Gainer (Schomburg Center/New York) VIDEO LINK
URL:https://aleliabundles.com/event/january-20-between-the-lines-interview-with-vintage-black-glamour-author-nichelle-gainer-schomburg-center-new-york-video-link/
END:VEVENT
BEGIN:VEVENT
DTSTART;TZID=UTC:20141021T000000
DTEND;TZID=UTC:20141021T000000
DTSTAMP:20260422T222104
CREATED:20230228T044134Z
LAST-MODIFIED:20230228T044134Z
UID:30133-1413849600-1413849600@aleliabundles.com
SUMMARY:October 21: Indiana Governor’s Conference for Women/Indianapolis\, IN
DESCRIPTION:October 21: Indiana Governor’s Conference for Women/Indianapolis\, IN
URL:https://aleliabundles.com/event/october-21-indiana-governors-conference-for-women-indianapolis-in/
END:VEVENT
BEGIN:VEVENT
DTSTART;TZID=UTC:20141001T000000
DTEND;TZID=UTC:20141001T000000
DTSTAMP:20260422T222104
CREATED:20230228T044134Z
LAST-MODIFIED:20230228T044134Z
UID:30132-1412121600-1412121600@aleliabundles.com
SUMMARY:Oct 1: Phyllis Wheatley YWCA/Washington\, DC
DESCRIPTION:Oct 1: Phyllis Wheatley YWCA/Washington\, DC
URL:https://aleliabundles.com/event/oct-1-phyllis-wheatley-ywca-washington-dc/
END:VEVENT
BEGIN:VEVENT
DTSTART;TZID=UTC:20140924T000000
DTEND;TZID=UTC:20140924T000000
DTSTAMP:20260422T222104
CREATED:20230228T044133Z
LAST-MODIFIED:20230228T044133Z
UID:30131-1411516800-1411516800@aleliabundles.com
SUMMARY:Sept 24: Congressional Black Caucus Screening of “Breath of Freedom”/Washington\, DC
DESCRIPTION:Sept 24: Congressional Black Caucus Screening of “Breath of Freedom”/Washington\, DC
URL:https://aleliabundles.com/event/sept-24-congressional-black-caucus-screening-of-breath-of-freedom-washington-dc/
END:VEVENT
BEGIN:VEVENT
DTSTART;TZID=UTC:20140923T000000
DTEND;TZID=UTC:20140923T000000
DTSTAMP:20260422T222104
CREATED:20230228T044133Z
LAST-MODIFIED:20230228T044133Z
UID:30129-1411430400-1411430400@aleliabundles.com
SUMMARY:Sept 23: Walker’s Legacy Honoring Admiral Michelle Howard/Washington\, DC
DESCRIPTION:Sept 23: Walker’s Legacy Honoring Admiral Michelle Howard/Washington\, DC
URL:https://aleliabundles.com/event/sept-23-walkers-legacy-honoring-admiral-michelle-howard-washington-dc/
END:VEVENT
BEGIN:VEVENT
DTSTART;TZID=UTC:20140923T000000
DTEND;TZID=UTC:20140923T000000
DTSTAMP:20260422T222104
CREATED:20230228T044133Z
LAST-MODIFIED:20230228T044133Z
UID:30130-1411430400-1411430400@aleliabundles.com
SUMMARY:Sept 23: DC Fashion Week at the National Archives/Washington\, DC
DESCRIPTION:Sept 23: DC Fashion Week at the National Archives/Washington\, DC
URL:https://aleliabundles.com/event/sept-23-dc-fashion-week-at-the-national-archives-washington-dc/
END:VEVENT
BEGIN:VEVENT
DTSTART;TZID=UTC:20140920T000000
DTEND;TZID=UTC:20140920T000000
DTSTAMP:20260422T222104
CREATED:20230228T043934Z
LAST-MODIFIED:20230228T043934Z
UID:30128-1411171200-1411171200@aleliabundles.com
SUMMARY:Sept 20: “On Books and Writing” at the Harvard/Radcliffe 40th Reunion/Cambridge\, MA
DESCRIPTION:Sept 20: “On Books and Writing” at the Harvard/Radcliffe 40th Reunion/Cambridge\, MA
URL:https://aleliabundles.com/event/sept-20-on-books-and-writing-at-the-harvard-radcliffe-40th-reunion-cambridge-ma/
END:VEVENT
BEGIN:VEVENT
DTSTART;TZID=UTC:20140518T000000
DTEND;TZID=UTC:20140518T000000
DTSTAMP:20260422T222104
CREATED:20230228T043934Z
LAST-MODIFIED:20230228T043934Z
UID:30127-1400371200-1400371200@aleliabundles.com
SUMMARY:May 18: Las Vegas National Coalition of 100 Black Women’s Tenth Anniversary Luncheon/Las Vegas
DESCRIPTION:May 18: Las Vegas National Coalition of 100 Black Women’s Tenth Anniversary Luncheon/Las Vegas
URL:https://aleliabundles.com/event/may-18-las-vegas-national-coalition-of-100-black-womens-tenth-anniversary-luncheon-las-vegas/
END:VEVENT
BEGIN:VEVENT
DTSTART;TZID=UTC:20140417T000000
DTEND;TZID=UTC:20140417T000000
DTSTAMP:20260422T222104
CREATED:20230228T043933Z
LAST-MODIFIED:20230228T043933Z
UID:30126-1397692800-1397692800@aleliabundles.com
SUMMARY:April 17: “Behind Downton Abbey’s Jack Ross: Jazz\, Romance and Harlem High Society”/Winterthur/Winterthur\, DE
DESCRIPTION:April 17: “Behind Downton Abbey’s Jack Ross: Jazz\, Romance and Harlem High Society”/Winterthur/Winterthur\, DE
URL:https://aleliabundles.com/event/april-17-behind-downton-abbeys-jack-ross-jazz-romance-and-harlem-high-society-winterthur-winterthur-de/
END:VEVENT
END:VCALENDAR