BEGIN:VCALENDAR
VERSION:2.0
PRODID:-//A&#039;Lelia Bundles - ECPv6.15.20//NONSGML v1.0//EN
CALSCALE:GREGORIAN
METHOD:PUBLISH
X-WR-CALNAME:A&#039;Lelia Bundles
X-ORIGINAL-URL:https://aleliabundles.com
X-WR-CALDESC:Events for A&#039;Lelia Bundles
REFRESH-INTERVAL;VALUE=DURATION:PT1H
X-Robots-Tag:noindex
X-PUBLISHED-TTL:PT1H
BEGIN:VTIMEZONE
TZID:UTC
BEGIN:STANDARD
TZOFFSETFROM:+0000
TZOFFSETTO:+0000
TZNAME:UTC
DTSTART:20230101T000000
END:STANDARD
END:VTIMEZONE
BEGIN:VTIMEZONE
TZID:America/Chicago
BEGIN:DAYLIGHT
TZOFFSETFROM:-0600
TZOFFSETTO:-0500
TZNAME:CDT
DTSTART:20240310T080000
END:DAYLIGHT
BEGIN:STANDARD
TZOFFSETFROM:-0500
TZOFFSETTO:-0600
TZNAME:CST
DTSTART:20241103T070000
END:STANDARD
BEGIN:DAYLIGHT
TZOFFSETFROM:-0600
TZOFFSETTO:-0500
TZNAME:CDT
DTSTART:20250309T080000
END:DAYLIGHT
BEGIN:STANDARD
TZOFFSETFROM:-0500
TZOFFSETTO:-0600
TZNAME:CST
DTSTART:20251102T070000
END:STANDARD
BEGIN:DAYLIGHT
TZOFFSETFROM:-0600
TZOFFSETTO:-0500
TZNAME:CDT
DTSTART:20260308T080000
END:DAYLIGHT
BEGIN:STANDARD
TZOFFSETFROM:-0500
TZOFFSETTO:-0600
TZNAME:CST
DTSTART:20261101T070000
END:STANDARD
END:VTIMEZONE
BEGIN:VTIMEZONE
TZID:Asia/Karachi
BEGIN:STANDARD
TZOFFSETFROM:+0500
TZOFFSETTO:+0500
TZNAME:PKT
DTSTART:20240101T000000
END:STANDARD
END:VTIMEZONE
BEGIN:VTIMEZONE
TZID:America/New_York
BEGIN:DAYLIGHT
TZOFFSETFROM:-0500
TZOFFSETTO:-0400
TZNAME:EDT
DTSTART:20240310T070000
END:DAYLIGHT
BEGIN:STANDARD
TZOFFSETFROM:-0400
TZOFFSETTO:-0500
TZNAME:EST
DTSTART:20241103T060000
END:STANDARD
BEGIN:DAYLIGHT
TZOFFSETFROM:-0500
TZOFFSETTO:-0400
TZNAME:EDT
DTSTART:20250309T070000
END:DAYLIGHT
BEGIN:STANDARD
TZOFFSETFROM:-0400
TZOFFSETTO:-0500
TZNAME:EST
DTSTART:20251102T060000
END:STANDARD
BEGIN:DAYLIGHT
TZOFFSETFROM:-0500
TZOFFSETTO:-0400
TZNAME:EDT
DTSTART:20260308T070000
END:DAYLIGHT
BEGIN:STANDARD
TZOFFSETFROM:-0400
TZOFFSETTO:-0500
TZNAME:EST
DTSTART:20261101T060000
END:STANDARD
END:VTIMEZONE
BEGIN:VEVENT
DTSTART;TZID=UTC:20250921T130000
DTEND;TZID=UTC:20250921T150000
DTSTAMP:20260421T220747
CREATED:20250920T170334Z
LAST-MODIFIED:20250920T170334Z
UID:30644-1758459600-1758466800@aleliabundles.com
SUMMARY:Dark Tower Day Party - March On! Fest in Washington\, DC
DESCRIPTION:Step into the glittering world of the Harlem Renaissance\, where art\, politics\, and pleasure converged in a swirl of brilliance and defiance. Inspired by the legendary gatherings at A’Lelia Walker’s Dark Tower salon—the top floor of her Harlem townhouse on 136th Street—this closing celebration channels the glamour\, intellect\, and audacity of an era that redefined Black creativity. The Dark Tower was the gathering space for the luminaries of the day—artists\, writers\, musicians\, poets\, their patrons\, and friends from Walker’s travels abroad. \nPoetry drifts through the crowd\, an aerialist twists gracefully overhead\, and the rhythms shift through an intellectual and emotional journey on the history of Black music—from the swing of the 1920s to the grooves of funk\, the pulse of hip hop\, and the global beat of Afro Beats. A spirited conversation between A’Lelia Bundles\, granddaughter of the original “Joy Goddess\,” and March On! Artistic Director Isisara Bey will bring to life the stories\, style\, and cultural impact of Walker’s famed salon\, connecting its legacy to the artistry and activism of today. \nThought-provoking dialogue intertwines with artistry\, as reflections on legacy mingle seamlessly with the thrill of the moment. Laughter mingles with the clink of glasses\, rich flavors tempt your palate\, and a table of carefully curated books invites you to take a piece of the experience home. \nMore than a party\, it’s a living tribute to a cultural awakening—an afternoon to be inspired\, to connect\, and to carry the spark forward. \nSpecial Guests: \nA’Lelia Bundles\, author of Joy Goddess: A’Lelia Walker and the Harlem Renaissance\, the vibrant biography of her great-grandmother and daughter of Madam C.J. Walker.\nDr. Msia Kibona Clark\, Associate Professor of African Studies\, College of Arts & Sciences\, Howard University\nChi Akano\, aerialist\nSoundscape by Vessel Studios\nDJ R WE ON THE AIR?!\nIsisara Bey\, Artistic Director\, March On!\nHoward University Alumni Actors\nBookstore Activation by Mahogany Books \nDoors open: 12:45pm \nEvent starts: 1:00pm \nAutoShop\n416 Morse St NE\, Washington\, DC\, 20002\nSeptember 21\, 2025\, 1:00 – 3:00 PM EDT
URL:https://aleliabundles.com/event/dark-tower-day-party-march-on-fest-in-washington-dc/
LOCATION:The Auto Shop\, 416 Morse Street NE\, Washington\, WA\, 20012\, United States
END:VEVENT
BEGIN:VEVENT
DTSTART;TZID=UTC:20250915T190000
DTEND;TZID=UTC:20250915T203000
DTSTAMP:20260421T220747
CREATED:20250920T170919Z
LAST-MODIFIED:20251016T142419Z
UID:30650-1757962800-1757968200@aleliabundles.com
SUMMARY:Joy Goddess at the National Archives - Washington\, DC (video link included)
DESCRIPTION:To watch the video of the program click here \nJoin author\, journalist\, and historian A’Lelia Bundles as she discusses her latest book\, Joy Goddess: A’Lelia Walker and the Harlem Renaissance\, with PBS NewsHour co-anchor Geoff Bennett. \nDubbed the “joy goddess of Harlem’s 1920s” by poet Langston Hughes\, A’Lelia Walker\, daughter of millionaire haircare entrepreneur Madam C.J. Walker\, is a fascinating figure whose legendary parties and Dark Tower salon helped define the Harlem Renaissance. Bundles\, Walker’s great-granddaughter and namesake\, explores her business savvy and love for the arts in a new biography\, leveraging extensive archival research to reveal Walker as a central changemaker in the Harlem Renaissance movement. \nFollowing the program\, guests are invited to join us for champagne\, dessert\, and a book signing with A’Lelia Bundles from 8:00 p.m. – 8:45 p.m. EDT. \nThis program is made possible in part by the National Archives Foundation through the Rightfully Hers Fund.
URL:https://aleliabundles.com/event/joy-goddess-at-the-national-archives-washington-dc/
LOCATION:National Archives\, 701 Constitution Avenue NW\, Washington\, DC\, 20408\, United States
END:VEVENT
BEGIN:VEVENT
DTSTART;TZID=UTC:20250909T200000
DTEND;TZID=UTC:20250909T200000
DTSTAMP:20260421T220747
CREATED:20250902T195835Z
LAST-MODIFIED:20250903T031237Z
UID:30618-1757448000-1757448000@aleliabundles.com
SUMMARY:IN-PERSON & VIRTUAL Joy Goddess at CUNY Graduate Center in NY 9/9
DESCRIPTION:This event is virtual on YouTube and in-person at the Segal Theatre at CUNY’s Graduate Center! So you have options! I hope you’ll join award-winning biographer Eric K. Washington and me for a deep dive into the people\, places and events of the Harlem Renaissance as we talk about my new book\, Joy Goddess: A’Lelia Walker and the Harlem Renaissance. It’s always fun to talk with Eric because my research and his research for his book\, Boss of the Grips: The Life of James H. Williams and the Red Caps of Grand Central Terminal have so many intersections and common themes. \nRegister at https://bit.ly/4gjgf7j \nScreenshot
URL:https://aleliabundles.com/event/joy-goddess-at-the-leon-levy-center-for-biography-at-cuny-9-9-at-630-pm-et/
LOCATION:Graduate Center at CUNY\, 365 Fifth Avenue\, New York\, NY\, 10016\, United States
END:VEVENT
BEGIN:VEVENT
DTSTART;TZID=UTC:20250905T190000
DTEND;TZID=UTC:20250905T200000
DTSTAMP:20260421T220747
CREATED:20250902T194633Z
LAST-MODIFIED:20250903T031925Z
UID:30611-1757098800-1757102400@aleliabundles.com
SUMMARY:VIRTUAL The Dark Tower Book Club IG Live on 9/5
DESCRIPTION:Please join me and Monifa Coffee\, the host of the newly formed Dark Tower Bookclub\, inspired by A’Lelia Walker’s Dark Tower cultural salon. I look forward to talking about how the Dark Tower came to be\, the impact it had on the social and cultural scene of the Harlem Renaissance and why those gatherings have lessons for us today. Tune in at 7 p.m. ET on IG Live @thedarktowerbookclub \n  \nDark Tower Book Club
URL:https://aleliabundles.com/event/virtual-dark-tower-book-club-ig-live-on-9-5-at-4-pm-et/
LOCATION:Dark Tower Book Club Tower Talks
END:VEVENT
BEGIN:VEVENT
DTSTART;TZID=UTC:20250904T190000
DTEND;TZID=UTC:20250904T200000
DTSTAMP:20260421T220747
CREATED:20250902T193433Z
LAST-MODIFIED:20251016T142540Z
UID:30604-1757012400-1757016000@aleliabundles.com
SUMMARY:Joy Goddess at Enoch Pratt Free Library in Baltimore (video link included)
DESCRIPTION:To watch my conversation with Pulitzer Prize winning columnist E. R. Shipp\, click here. \nI’m looking forward to my conversation at the Enoch Pratt Free Library in BALTIMORE on 9/4 at 7:00 p.m. ET with Pulitzer Prize-winning columnist and Morgan State multimedia journalism professor E. R. Shipp. While she was a New York Times reporter\, she wrote about and lived in Harlem\, so she knows the territory I cover in Joy Goddess: A’Lelia Walker and the Harlem Renaissance. Register for the in-person and virtual event at http://bit.ly/45KOlgM \n \n 
URL:https://aleliabundles.com/event/joy-goddess-at-enoch-pratt-free-library-in-baltimore/
LOCATION:Enoch Pratt Free Library\, 400 Cathedral Street\, Baltimore\, MD\, 2102\, United States
END:VEVENT
BEGIN:VEVENT
DTSTART;TZID=UTC:20250903T160000
DTEND;TZID=UTC:20250903T170000
DTSTAMP:20260421T220747
CREATED:20250902T174139Z
LAST-MODIFIED:20251016T142635Z
UID:30600-1756915200-1756918800@aleliabundles.com
SUMMARY:Preservation League of New York State Book Club (video link included)
DESCRIPTION:To watch A’Lelia’s virtual talk with PLNYS Book Club\, click here. \nPlease join me for an illustrated virtual talk about Madam C. J. Walker and A’Lelia Walker’s lives with vintage photos from my Madam Walker Family Archives. I’ll talk about architecture and preservation with a focus on Madam Walker’s Villa Lewaro in Irvington\, New York and A’Lelia Walker’s Harlem townhouse on 136th Street and her pied-a-terre on Edgecombe Avenue. I look forward to answering your questions about On Her Own Ground: The Life and Times of Madam C. J. Walker and my new book\, Joy Goddess: A’Lelia Walker and the Harlem Renaissance. Register at https://bit.ly/4n4jukV \nThis author talk is presented as part of the Preservation League of NYS’s Preservation Book Club sponsored by the Peggy N. & Roger G. Gerry Charitable Trust. \nScreenshot \n 
URL:https://aleliabundles.com/event/virtual-preservation-league-of-new-york-state/
LOCATION:Virtual
END:VEVENT
BEGIN:VEVENT
DTSTART;VALUE=DATE:20250801
DTEND;VALUE=DATE:20250804
DTSTAMP:20260421T220747
CREATED:20241220T142153Z
LAST-MODIFIED:20241220T142153Z
UID:30392-1754006400-1754265599@aleliabundles.com
SUMMARY:National Book Club Conference (Atlanta)
DESCRIPTION:A’Lelia will be a featured author at the annual National Book Club Conference at Atlanta.
URL:https://aleliabundles.com/event/national-book-club-conference-atlanta/
LOCATION:Westin Buckhead\, 3391 Peachtree Road\, NE\, Atlanta\, GA\, 30326\, United States
END:VEVENT
BEGIN:VEVENT
DTSTART;TZID=UTC:20250717T180000
DTEND;TZID=UTC:20250717T200000
DTSTAMP:20260421T220747
CREATED:20251016T140618Z
LAST-MODIFIED:20251016T142027Z
UID:30746-1752775200-1752782400@aleliabundles.com
SUMMARY:Library of Congress Talk with Glory Edim and Marita Golden (video link included)
DESCRIPTION:To watch A’Lelia’s conversation with authors Glory Edim and Marita Golden\, click here. \nAn evening celebrating Black women writers and literary heroes with A’Lelia Bundles (“Joy Goddess”)\, whose great-grandmother A’Lelia Walker was crucial to the Harlem Renaissance\, and Glory Edim\, whose new book is “Gather Me: A Memoir in Praise of the Books That Saved Me.” Marita Golden\, novelist and co-founder of the Hurston/Wright Foundation\, moderated. \n 
URL:https://aleliabundles.com/event/library-of-congress-talk-with-glory-edim-and-marita-golden/
LOCATION:Library of Congress Thomas Jefferson Building\, 10 First Street SE\, Washington\, DC\, United States
END:VEVENT
BEGIN:VEVENT
DTSTART;TZID=UTC:20250622T153000
DTEND;TZID=UTC:20250622T190000
DTSTAMP:20260421T220747
CREATED:20250417T003824Z
LAST-MODIFIED:20250607T183104Z
UID:30551-1750606200-1750618800@aleliabundles.com
SUMMARY:Joy Goddess in Indianapolis (Madam Walker Legacy Center)
DESCRIPTION:A’Lelia will be in conversation with CICF Women’s Fund president Tamara Winfrey-Harris at the Madam Walker Legacy Center \n3:30 p.m. – 5 p.m. VIP Reception in the Walker Ballroom \n5 p.m. – 7 p.m. Book Talk in the Walker Theatre \nRegister at https://madamwalkerlegacycenter.com/events/legacy-reception-talkback-an-afternoon-with-alelia-bundles/
URL:https://aleliabundles.com/event/joy-goddess-in-indianapolis-madam-walker-legacy-center/
LOCATION:Madam Walker Legacy Center\, 617 Indiana Avenue\, Indianapolis\, IN\, United States
END:VEVENT
BEGIN:VEVENT
DTSTART;TZID=UTC:20250617T190000
DTEND;TZID=UTC:20250617T203000
DTSTAMP:20260421T220747
CREATED:20250417T002929Z
LAST-MODIFIED:20250607T182643Z
UID:30543-1750186800-1750192200@aleliabundles.com
SUMMARY:Joy Goddess in New York (Harvard Club of New York)
DESCRIPTION:A’Lelia will be in conversation with Kenneth Ebie at the Harvard Club of New York. \nRegister at https://www.hcny.com/event/joy-goddess-alelia-walker-and-the-harlem-renaissance/
URL:https://aleliabundles.com/event/joy-goddess-in-new-york-harvard-club-of-new-york/
LOCATION:Harvard Club of New York\, 27 West 44th Street\, New York\, NY\, 10036\, United States
END:VEVENT
BEGIN:VEVENT
DTSTART;TZID=UTC:20250613T190000
DTEND;TZID=UTC:20250613T203000
DTSTAMP:20260421T220747
CREATED:20250404T232729Z
LAST-MODIFIED:20250404T232802Z
UID:30516-1749841200-1749846600@aleliabundles.com
SUMMARY:Joy Goddess in Cambridge (Harvard Book Store)
DESCRIPTION:A’Lelia looks forward to being in conversation with her good friend and former ABC News colleague Callie Crossley\, host of WGBH radio’s “Under the Radar.”
URL:https://aleliabundles.com/event/joy-goddess-in-cambridge-harvard-book-store/
LOCATION:Harvard Book Store\, 1256 Massachusetts Avenue\, Cambridge\, 01238\, United States
END:VEVENT
BEGIN:VEVENT
DTSTART;TZID=UTC:20250612T180000
DTEND;TZID=UTC:20250612T200000
DTSTAMP:20260421T220747
CREATED:20250404T231800Z
LAST-MODIFIED:20250513T232504Z
UID:30512-1749751200-1749758400@aleliabundles.com
SUMMARY:Joy Goddess in Phildelphia (Barnes & Noble)
DESCRIPTION:A’Lelia will talk about Joy Goddess: A’Lelia Walker and the Harlem Renaissance in conversation with Rutgers Professor Tiffany Gill at the Philadelphia Barnes & Noble.\nThe event is free but registration is recommended
URL:https://aleliabundles.com/event/joy-goddess-in-phildelphia-barnes-noble/
LOCATION:Barnes & Noble Philadelphia\, 1708 Chestnut Street\, Philadelphia\, PA\, 19103\, United States
END:VEVENT
BEGIN:VEVENT
DTSTART;TZID=UTC:20250611T190000
DTEND;TZID=UTC:20250611T203000
DTSTAMP:20260421T220747
CREATED:20250404T231247Z
LAST-MODIFIED:20251016T142311Z
UID:30508-1749668400-1749673800@aleliabundles.com
SUMMARY:Joy Goddess in Washington\, DC at MLK Library (video link included)
DESCRIPTION:To watch A’Lelia’s conversation with author Tracy Chiles McGhee\, click here. \nA’Lelia discussed her new book Joy Goddess: A’Lelia Walker and the Harlem Renaissance at 901 G Street\, NW at the Martin Luther King\, Jr. Memorial Library. \nRegister at Martin Luther King Library website and at Politics & Prose website
URL:https://aleliabundles.com/event/joy-goddess-in-washington-dc-mlk-library/
LOCATION:Martin Luther King\, Jr. Library\, 901 G Street\, NW\, Washington\, DC\, 20001\, United States
END:VEVENT
BEGIN:VEVENT
DTSTART;TZID=UTC:20250609T180000
DTEND;TZID=UTC:20250609T203000
DTSTAMP:20260421T220747
CREATED:20250404T224255Z
LAST-MODIFIED:20251016T142750Z
UID:30504-1749492000-1749501000@aleliabundles.com
SUMMARY:Joy Goddess Launch at the Schomburg Center (video link included)
DESCRIPTION:To watch A’Lelia’s conversation with Dr. Deborah Willis\, click here. \nA’Lelia launches the publication of her new book\, Joy Goddess: A’Lelia Walker and the Harlem Renaissance\, in a conversation with her dear friend Deborah Willis  They first met during the 1980s when A’Lelia was doing research about the Walker women and Deborah was on the staff of Harlem’s Schomburg Center for Research in Black Culture\, the storied institution now celebrating the centennial of its founding. It is fitting that this launch happens at the Schomburg\, which is located at the corner of Madam C. J. Walker and A’Lelia Walker Place and Lenox Avenue/Malcolm X Boulevard and that it is only steps away from the original site of A’Lelia Walker’s Harlem townhouse at 108-110 West 136th Street (now the home of the Countee Cullen Branch of the New York Public Library.) \nRegister at https://www.nypl.org/events/programs/2025/06/09/joy-goddess-book-launch-and-conversation
URL:https://aleliabundles.com/event/joy-goddess-launch-at-the-schomburg-center/
LOCATION:Schomburg Center for Research in Black Culture\, 515 Malcolm X Blvd\, New York\, NY\, 10037\, United States
END:VEVENT
BEGIN:VEVENT
DTSTART;TZID=UTC:20250605T150000
DTEND;TZID=UTC:20250605T163000
DTSTAMP:20260421T220747
CREATED:20250405T194206Z
LAST-MODIFIED:20250405T194658Z
UID:30532-1749135600-1749141000@aleliabundles.com
SUMMARY:Biographer's International Conference (BIO Members Presentations)
DESCRIPTION:A’Lelia will join other BIO members as they read excerpts from their most recent biographies. She’ll select a section from Joy Goddess: A’Lelia Walker and the Harlem Renaissance\, which will be published on June 10. Register for the conference at https://biographersinternational.org/conference/2025-bio-conference/#tab1
URL:https://aleliabundles.com/event/biographers-international-conference-bio-member-read-book-excerpts/
LOCATION:National Press Club\, 529 14th Street NW\, Washington\, DC\, 20045\, United States
END:VEVENT
BEGIN:VEVENT
DTSTART;TZID=UTC:20250529T190000
DTEND;TZID=UTC:20250529T200000
DTSTAMP:20260421T220747
CREATED:20250405T193400Z
LAST-MODIFIED:20250405T193400Z
UID:30528-1748545200-1748548800@aleliabundles.com
SUMMARY:BIO Virtual Roundtable: Writing Women's Lives
DESCRIPTION:A’Lelia will moderated a virtual roundtable discussion on biographies about women as part of BIO’s annual conference. Space is limited so register now at https://biographersinternational.org/conference/2025-bio-conference/#program
URL:https://aleliabundles.com/event/bio-virtual-roundtable-writing-womens-lives/
LOCATION:Virtual
END:VEVENT
BEGIN:VEVENT
DTSTART;TZID=UTC:20250505T180000
DTEND;TZID=UTC:20250505T230000
DTSTAMP:20260421T220747
CREATED:20250404T221839Z
LAST-MODIFIED:20250404T222018Z
UID:30498-1746468000-1746486000@aleliabundles.com
SUMMARY:World Bride Magazine Legacy Ball of Harlem
DESCRIPTION:A’Lelia joins World Bride Magazine founder Myrdith Leon-McCormack at the Renaissance New York Hotel for a celebration of the Harlem Renaissance and the neighborhood’s cultural impact. Click here for tickets.
URL:https://aleliabundles.com/event/world-bride-magazine-legacy-ball-of-harlem/
LOCATION:Renaissance Hotel New York\, 233 W 125th St\, New York\, NY\, 10027\, United States
END:VEVENT
BEGIN:VEVENT
DTSTART;TZID=UTC:20250425T180000
DTEND;TZID=UTC:20250425T200000
DTSTAMP:20260421T220747
CREATED:20250404T220437Z
LAST-MODIFIED:20250405T130127Z
UID:30496-1745604000-1745611200@aleliabundles.com
SUMMARY:Art and Beauty in the Black American Experience: A Panel Inspired by Artist Amy Sherald
DESCRIPTION:A’Lelia will join a distinguished panel of beauty innovators and influencers including Camille Rose founder Janell Stephens\, Harlem Candle and Perfume Company founder Teri Johnson\, Danessa Myricks Beauty founder and Robyn Atwater of Curldaze to reflect on artist Amy Sherald’s Whitney Museum exhibition\, “American Sublime.”
URL:https://aleliabundles.com/event/art-and-beauty-in-the-black-american-experience-a-panel-inspired-by-artist-amy-sherald/
LOCATION:The Whitney Museum of American Art\, 99 Gansevoort Street\, New York\, 10014\, United States
END:VEVENT
BEGIN:VEVENT
DTSTART;TZID=UTC:20250405T080000
DTEND;TZID=UTC:20250405T170000
DTSTAMP:20260421T220747
CREATED:20251016T143101Z
LAST-MODIFIED:20251016T143101Z
UID:30539-1743840000-1743872400@aleliabundles.com
SUMMARY:WGBH "Under the Radar with Callie Crossley"
DESCRIPTION:To hear A’Lelia’s interview with Under the Radar host Callie Crossley click here. \n 
URL:https://aleliabundles.com/event/wgbh-under-the-radar-with-callie-crossley/
LOCATION:DC
END:VEVENT
BEGIN:VEVENT
DTSTART;TZID=UTC:20250322T090000
DTEND;TZID=UTC:20250322T100000
DTSTAMP:20260421T220747
CREATED:20250405T182404Z
LAST-MODIFIED:20250405T192905Z
UID:30523-1742634000-1742637600@aleliabundles.com
SUMMARY:Telling the Stories of Black Lives through Biography (BIO Conference)
DESCRIPTION:In her keynote address — “Because the Ancestors Insist: Why I Write Biography” — A’Lelia discusses her research and writing about Madam C. J. Walker and A’Lelia Walker\, the long tradition of memoir and autobiography writing by Black authors\, and how the current efforts to erase and sanitize Black history mirror late 19th and early 20th century efforts by the United Daughters of the Confederacy and some white historians to promote white supremacy in school curriculum and public monuments.
URL:https://aleliabundles.com/event/telling-the-stories-of-black-lives-through-biography-bio-conference/
LOCATION:Troy University\, 231 Montgomery St\, Montgomery\, AL\, 36104\, United States
END:VEVENT
BEGIN:VEVENT
DTSTART;TZID=America/Chicago:20250322T090000
DTEND;TZID=America/Chicago:20250322T100000
DTSTAMP:20260421T220747
CREATED:20241220T140253Z
LAST-MODIFIED:20241220T142416Z
UID:30388-1742634000-1742637600@aleliabundles.com
SUMMARY:BIO Black Biography Conference (Montgomery\, AL)
DESCRIPTION:A’Lelia will deliver the keynote speech at the Telling Stories of Black Lives Through Biographies symposium hosted by Troy University and the Biographers International Organization in Montgomery\, Alabama.
URL:https://aleliabundles.com/event/bio-black-biography-conference-keynote/
LOCATION:Troy University\, 231 Montgomery St\, Montgomery\, AL\, 36104\, United States
END:VEVENT
BEGIN:VEVENT
DTSTART;TZID=Asia/Karachi:20250311T173000
DTEND;TZID=Asia/Karachi:20250311T190000
DTSTAMP:20260421T220747
CREATED:20250107T144138Z
LAST-MODIFIED:20250112T182410Z
UID:30406-1741714200-1741719600@aleliabundles.com
SUMMARY:Woman's National Democratic Club (Washington\, DC)
DESCRIPTION:A’Lelia will speak about Madam C. J. Walker and A’Lelia Walker’s political\, community and philanthropic activism at a Women’s History Month program at the Democratic Woman’s National Democratic Club in Washington\, DC.
URL:https://aleliabundles.com/event/democratic-womans-national-democratic-club-3-11-2025/
LOCATION:1526 New Hampshire Avenue\, NW\, Washington\, DC 20036
END:VEVENT
BEGIN:VEVENT
DTSTART;TZID=Asia/Karachi:20250306T180000
DTEND;TZID=Asia/Karachi:20250306T193000
DTSTAMP:20260421T220747
CREATED:20250107T145539Z
LAST-MODIFIED:20250112T182424Z
UID:30415-1741284000-1741289400@aleliabundles.com
SUMMARY:Montgomery County\, PA Women's Center International Women's Day (Virtual)
DESCRIPTION:A’Lelia will speak at the Montgomery County\, Pennsylvania Women’s Center’s annual International Women’s Day program
URL:https://aleliabundles.com/event/montgomery-county-pa-womens-center-international-womens-day-3-6-2025/
LOCATION:DC
END:VEVENT
BEGIN:VEVENT
DTSTART;TZID=Asia/Karachi:20250222T100000
DTEND;TZID=Asia/Karachi:20250222T120000
DTSTAMP:20260421T220747
CREATED:20250112T181352Z
LAST-MODIFIED:20250112T182433Z
UID:30417-1740218400-1740225600@aleliabundles.com
SUMMARY:ASALH Luncheon Authors Book Fair (Washington\, DC)
DESCRIPTION:A’Lelia will join several authors at Author’s Book Fair at the Association for the Study of African American Life and History’s Black History Month Luncheon
URL:https://aleliabundles.com/event/asalh-luncheon-authors-book-fair-2-22-2025/
LOCATION:Westin Washington\, DC\, 2350 M Street NW\, Washington\, DC\, 20016\, United States
END:VEVENT
BEGIN:VEVENT
DTSTART;TZID=UTC:20250211T190000
DTEND;TZID=UTC:20250211T200000
DTSTAMP:20260421T220747
CREATED:20250112T182032Z
LAST-MODIFIED:20250112T182444Z
UID:30423-1739300400-1739304000@aleliabundles.com
SUMMARY:Harlem Renaissance at Woodlawn Cemetery (Virtual)
DESCRIPTION:Join A’Lelia Bundles and Eric K. Washington for a talk on the best books to read to learn more about the Harlem Renaissance. This talk is sponsored by an American Cultural Heritage Action Fund grant from the National Trust for Historic Preservation.
URL:https://aleliabundles.com/event/harlem-renaissance-at-woodlawn-cemetery-2-11-2025-virtual/
LOCATION:DC
END:VEVENT
BEGIN:VEVENT
DTSTART;TZID=UTC:20250131T080000
DTEND;TZID=UTC:20250131T130000
DTSTAMP:20260421T220747
CREATED:20250203T125942Z
LAST-MODIFIED:20250203T130230Z
UID:30437-1738310400-1738328400@aleliabundles.com
SUMMARY:Harvard Business School “Changing the World: Life Choices of Influential Leaders"
DESCRIPTION:For the third year\, A’Lelia joins Professor Robert Simons’s Harvard Business School class — ““Changing the World: Life Choices of Influential Leaders” — to answers second year MBA students’ questions about Simons’s case study on Madam C. J. Walker’s life as an entrepreneur.
URL:https://aleliabundles.com/event/harvard-business-school-changing-the-world-life-choices-of-influential-leaders/
LOCATION:DC
END:VEVENT
BEGIN:VEVENT
DTSTART;TZID=Asia/Karachi:20250104T083000
DTEND;TZID=Asia/Karachi:20250104T100000
DTSTAMP:20260421T220747
CREATED:20250107T145024Z
LAST-MODIFIED:20250112T182456Z
UID:30413-1735979400-1735984800@aleliabundles.com
SUMMARY:AHA Black Women's Biography
DESCRIPTION:A’Lelia joins a panel with professors Barbara Savage (University of Pennsylvania)\, Thadious Davis (University of Pennsylvania)\, Farah Jasmine Griffin (Columbia University)\, Cheryl D. Hicks (University of Delaware) and Sharon Harley (University of Maryland College Park). Inspired by Savage’s Merze Tate: The Global Odyssey of a Black Woman Scholar (Yale\, 2023)\, this session explores questions of sources\, methodology\, and interpretation in biographies of African American women. Panelists will speak from their experiences as scholars whose work represents a rich variety of approaches to researching and writing the lives of a diverse group of Black women.
URL:https://aleliabundles.com/event/aha-black-womens-biography-1-4-2025/
LOCATION:New York Hilton\, 1335 Sixth Avenue\, New York\, NY
END:VEVENT
BEGIN:VEVENT
DTSTART;TZID=America/New_York:20250103T200000
DTEND;TZID=America/New_York:20250103T213000
DTSTAMP:20260421T220747
CREATED:20241220T135202Z
LAST-MODIFIED:20241230T144008Z
UID:30381-1735934400-1735939800@aleliabundles.com
SUMMARY:AHA Harlem Renaissance Plenary (NYC)
DESCRIPTION:In observation of the 100th anniversary of Alain Locke’s The New Negro\, A’Lelia will join a panel moderated by Columbia Journalism School dean Jelani Cobb with Gene Andrew Jarrett (Princeton)\, David Levering Lewis (NYU)\, Denise Murrell (The Met)\, and Jeffrey Stewart (UCSB) at the American Historical Association annual meeting.
URL:https://aleliabundles.com/event/aha-harlem-renaissance-plenary/
LOCATION:New York Hilton\, 1335 Sixth Avenue\, New York\, NY
END:VEVENT
BEGIN:VEVENT
DTSTART;VALUE=DATE:20240422
DTEND;VALUE=DATE:20240423
DTSTAMP:20260421T220747
CREATED:20231119T154544Z
LAST-MODIFIED:20231119T154544Z
UID:30315-1713744000-1713830399@aleliabundles.com
SUMMARY:Keller Williams Conference
DESCRIPTION:Indianapolis\, IN
URL:https://aleliabundles.com/event/keller-williams-conference/
LOCATION:DC
CATEGORIES:Events,Speeches & Appearances
END:VEVENT
BEGIN:VEVENT
DTSTART;TZID=UTC:20240306T130000
DTEND;TZID=UTC:20240306T140000
DTSTAMP:20260421T220747
CREATED:20231119T154452Z
LAST-MODIFIED:20231119T154452Z
UID:30313-1709730000-1709733600@aleliabundles.com
SUMMARY:Keynote: The Power of Aging (in person)
DESCRIPTION:PAA Community Forum on Aging \nwww.paainc.org
URL:https://aleliabundles.com/event/keynote-the-power-of-aging-in-person/
LOCATION:DC
END:VEVENT
END:VCALENDAR