BEGIN:VCALENDAR
VERSION:2.0
PRODID:-//A&#039;Lelia Bundles - ECPv6.15.20//NONSGML v1.0//EN
CALSCALE:GREGORIAN
METHOD:PUBLISH
X-ORIGINAL-URL:https://aleliabundles.com
X-WR-CALDESC:Events for A&#039;Lelia Bundles
REFRESH-INTERVAL;VALUE=DURATION:PT1H
X-Robots-Tag:noindex
X-PUBLISHED-TTL:PT1H
BEGIN:VTIMEZONE
TZID:UTC
BEGIN:STANDARD
TZOFFSETFROM:+0000
TZOFFSETTO:+0000
TZNAME:UTC
DTSTART:20240101T000000
END:STANDARD
END:VTIMEZONE
BEGIN:VEVENT
DTSTART;TZID=UTC:20251109T150000
DTEND;TZID=UTC:20251109T163000
DTSTAMP:20260420T163855
CREATED:20251028T204438Z
LAST-MODIFIED:20251029T221832Z
UID:30799-1762700400-1762705800@aleliabundles.com
SUMMARY:National Center for Civil & Human Rights in Atlanta
DESCRIPTION:A live conversation with author A’Lelia Bundles about her new book | Re-Opening Weekend \nCelebrate the return of the National Center for Civil and Human Rights with Cup of Truth\, featuring journalist and author A’Lelia Bundles in conversation about her new book Joy Goddess: A’Lelia Walker and the Harlem Renaissance. \nBundles brings to life her great-grandmother A’Lelia Walker — daughter of Madam C. J. Walker and a dazzling force of the 1920s Harlem Renaissance. Dubbed the “joy goddess of Harlem” by Langston Hughes\, Walker inherited her mother’s empire and transformed it into a cultural salon for legends like Zora Neale Hurston\, Paul Robeson\, and W. E. B. Du Bois. \nThis is more than a biography. It’s a story of joy as resistance\, legacy as power\, and one woman’s quest to define herself on her own terms. \nIncluded with museum admission. Held in the Center café. \nScreenshot
URL:https://aleliabundles.com/event/national-center-for-civil-human-rights-in-atlanta/
LOCATION:National Center for Civil and Human Rights\, 100 Ivan Allen Jr. Blvd\, Atlanta\, GA\, 30313\, United States
END:VEVENT
BEGIN:VEVENT
DTSTART;TZID=UTC:20251113T170000
DTEND;TZID=UTC:20251113T193000
DTSTAMP:20260420T163855
CREATED:20251029T222714Z
LAST-MODIFIED:20251029T222917Z
UID:30807-1763053200-1763062200@aleliabundles.com
SUMMARY:Joy Goddess at Woodson Regional Library in Chicago
DESCRIPTION:Click here to register
URL:https://aleliabundles.com/event/joy-goddess-at-woodson-regional-library-in-chicago/
LOCATION:Vivian Harsh Collection at Woodson Regional Library\, 9525 S. Halsted Street\, Chicago\, IL\, United States
END:VEVENT
BEGIN:VEVENT
DTSTART;TZID=UTC:20251115T110000
DTEND;TZID=UTC:20251115T140000
DTSTAMP:20260420T163855
CREATED:20251029T223851Z
LAST-MODIFIED:20251029T223851Z
UID:30815-1763204400-1763215200@aleliabundles.com
SUMMARY:Greater Miami Links Book & Author Luncheon
DESCRIPTION:Click here for more information
URL:https://aleliabundles.com/event/greater-miami-links-book-author-luncheon/
LOCATION:JW Marriott Turnberry Isle Resort\, 19999 W Country Club Drive\, Aventura\, FL\, United States
END:VEVENT
BEGIN:VEVENT
DTSTART;TZID=UTC:20251115T140000
DTEND;TZID=UTC:20251115T160000
DTSTAMP:20260420T163855
CREATED:20251029T233507Z
LAST-MODIFIED:20251029T233507Z
UID:30837-1763215200-1763222400@aleliabundles.com
SUMMARY:VIRTUAL Vivian Harsh Readers Circle
DESCRIPTION:Click here to register 
URL:https://aleliabundles.com/event/virtual-vivian-harsh-readers-circle/
LOCATION:WA
END:VEVENT
BEGIN:VEVENT
DTSTART;TZID=UTC:20251123T160000
DTEND;TZID=UTC:20251123T180000
DTSTAMP:20260420T163855
CREATED:20251029T224843Z
LAST-MODIFIED:20251029T224843Z
UID:30823-1763913600-1763920800@aleliabundles.com
SUMMARY:City Men Cook ThanksLiving Celebration in Dallas
DESCRIPTION:Click here to register \n 
URL:https://aleliabundles.com/event/city-men-cook-thanksliving-celebration-in-dallas/
LOCATION:Hall of State\, 3939 Grand Avenue\, Dallas\, TX\, United States
END:VEVENT
BEGIN:VEVENT
DTSTART;TZID=UTC:20251202T180000
DTEND;TZID=UTC:20251202T200000
DTSTAMP:20260420T163855
CREATED:20251028T203407Z
LAST-MODIFIED:20251028T203407Z
UID:30791-1764698400-1764705600@aleliabundles.com
SUMMARY:Joy Goddess at Columbia University School of Professional Studies in New York
DESCRIPTION:Click here to register (Eventbrite) \n \n  \n 
URL:https://aleliabundles.com/event/joy-goddess-at-columbia-university-school-of-professional-studies-in-new-york/
LOCATION:Columbia University Bollinger Forum\, 605 West 125th Street\, New York\, NY\, 10027\, United States
END:VEVENT
BEGIN:VEVENT
DTSTART;TZID=UTC:20251206T120000
DTEND;TZID=UTC:20251206T160000
DTSTAMP:20260420T163855
CREATED:20251029T230310Z
LAST-MODIFIED:20251029T230310Z
UID:30830-1765022400-1765036800@aleliabundles.com
SUMMARY:Indiana Historical Society Holiday Author Fair
DESCRIPTION:Click here to register
URL:https://aleliabundles.com/event/indiana-historical-society-holiday-author-fair/
LOCATION:Indiana Historical Society\, 450 West Ohio Street\, Indianapolis\, IN\, United States
END:VEVENT
BEGIN:VEVENT
DTSTART;TZID=UTC:20260203T183000
DTEND;TZID=UTC:20260203T193000
DTSTAMP:20260420T163855
CREATED:20251028T202021Z
LAST-MODIFIED:20251028T202021Z
UID:30785-1770143400-1770147000@aleliabundles.com
SUMMARY:Joy Goddess at Hillwood Museum in Washington\, DC
DESCRIPTION:This is the first program in Hillwood’s Great Homes and Gardens lecture series.\nA’Lelia Bundles returns to Hillwood to share vintage photographs and stories from Joy Goddess: A’Lelia Walker and the Harlem Renaissance\, the first major biography of her great-grandmother and namesake. Best known as the daughter of millionaire entrepreneur Madam C. J. Walker\, A’Lelia Walker was a charismatic influencer and arts patron in her own right who traveled internationally and hosted some of the Jazz Age’s most memorable soirees at her Westchester mansion\, Harlem townhouse and uptown pied-a-terre. \nA’Lelia will sign copies of  Joy Goddess: A’Lelia Walker and the Harlem Renaissance following the lecture.
URL:https://aleliabundles.com/event/joy-goddess-at-hillwood-museum-in-washington-dc/
LOCATION:Hillwood Estate\, Museum and Gardens\, 4155 Linnaean Street NW\, Washington\, DC\, 20016\, United States
END:VEVENT
BEGIN:VEVENT
DTSTART;TZID=UTC:20260218T180000
DTEND;TZID=UTC:20260218T190000
DTSTAMP:20260420T163855
CREATED:20260215T171401Z
LAST-MODIFIED:20260215T180151Z
UID:30882-1771437600-1771441200@aleliabundles.com
SUMMARY:VIRTUAL Everyday Yellow Book Talk
DESCRIPTION:Please join A’Lelia for a stimulating VIRTUAL conversation with coach Charisse Williams about Joy Goddess: A’Lelia Walker and the Harlem Renaissance and the importance of joy and resilience in these chaotic times.
URL:https://aleliabundles.com/event/virtual-everyday-yellow-book-talk/
LOCATION:WA
ATTACH;FMTTYPE=image/jpeg:https://aleliabundles.com/wp-content/uploads/2026/02/Everyday-Yellow-Book-Talk-2-18-2026.jpg
END:VEVENT
BEGIN:VEVENT
DTSTART;TZID=UTC:20260219T190000
DTEND;TZID=UTC:20260219T210000
DTSTAMP:20260420T163855
CREATED:20260215T170644Z
LAST-MODIFIED:20260215T180222Z
UID:30876-1771527600-1771534800@aleliabundles.com
SUMMARY:A'Lelia Interviews L. Michelle Smith at MLK Library in DC
DESCRIPTION:A’Lelia interviews L. Michelle Smith about L. Michelle’s new book “Call & Response: 10 Leadership Lessons from the Black Church” at MLK Library in Washington\, DC \n \nFrom the MLK website: \nThrough rich storytelling\, this keynote shares how powerful Black women (and men) in the Fortune 500\, education\, arts\, and entertainment trace their earliest leadership lessons back to the church. \nDid you know that humming a gospel tune before walking into a high-stakes meeting can rewire your brain to lead more effectively? The act triggers a release of dopamine\, oxytocin\, and serotonin—regulating emotions\, lowering anxiety\, and activating the reward center to halt fear from taking over your executive decision making..and not just any music can do this. It’s neuroscience. But for many Black professionals\, it’s simply ritual—a practice rooted in the traditions of the Black Church. \nWe’ve practiced powerful\, emotionally intelligent leadership for generations—without calling it that. Until now. \nWhat the Audience Will Take Away \n● A contemporary leadership framework rooted in both legacy and research\n● A reintroduction to the practices that shaped them—and the science that validates them\n● A call to lead with conviction\, cultural intelligence\, and heart—without apology
URL:https://aleliabundles.com/event/alelia-interviews-l-michelle-smith-at-mlk-library-in-dc/
LOCATION:Martin Luther King\, Jr. Library\, 901 G Street\, NW\, Washington\, DC\, 20001\, United States
ATTACH;FMTTYPE=image/png:https://aleliabundles.com/wp-content/uploads/2026/02/L-Michelle-Smith-CR-Flier-2-19-2026-at-MLK-6.png
END:VEVENT
BEGIN:VEVENT
DTSTART;TZID=UTC:20260221T160000
DTEND;TZID=UTC:20260221T180000
DTSTAMP:20260420T163855
CREATED:20260215T172519Z
LAST-MODIFIED:20260215T180259Z
UID:30887-1771689600-1771696800@aleliabundles.com
SUMMARY:Montclair Public Library Book Talk with Khalil Muhammad
DESCRIPTION:A’Lelia will be in conversation with historian and Princeton professor Khalil Muhammad at the Montclair Public Library \nRegister at https://bccls.libcal.com/event/15698895 \nFrom the MPL website \nOpen Book\, Open Mind; A’Lelia Bundles\, “Joy Goddess: A’Lelia Walker and the Harlem Renaissance”\nAward-winning television producer and author A’Lelia Bundles will be talking with Princeton professor Khalil Gibran Muhammad about her new biography of A’Lelia Walker\, her great grandmother\, the hair care heiress and patroness of the Harlem Renaissance whom Langston Hughes called “the joy goddess of Harlem.” Bundles will also show a PowerPoint presentation of historic images and rare archival family photos. \nDoors open at 3:30 p.m. The discussion will be followed by an audience Q&A and book sales and signing with Watchung Booksellers. \n \n 
URL:https://aleliabundles.com/event/montclair-public-library-book-talk-with-khalil-muhammad/
LOCATION:Montclair Public Library\, 50 S. Fullerton Avenue\, Montclair\, NJ\, 07402\, United States
ATTACH;FMTTYPE=image/jpeg:https://aleliabundles.com/wp-content/uploads/2026/02/Screenshot-AB-and-KM.jpg
END:VEVENT
BEGIN:VEVENT
DTSTART;TZID=UTC:20260222T140000
DTEND;TZID=UTC:20260222T153000
DTSTAMP:20260420T163855
CREATED:20260215T173720Z
LAST-MODIFIED:20260215T180447Z
UID:30899-1771768800-1771774200@aleliabundles.com
SUMMARY:VIRTUAL High Point\, NC Library Book Talk
DESCRIPTION:Join A’Lelia for High Point Public Library’s “Taste of Harlem” discussion about Joy Goddess: A’Lelia Walker and the Harlem Renaissance hosted by librarian Maxine Days and Sisters Connected. \nClick here for the registration link \n \nHere’s the registration link
URL:https://aleliabundles.com/event/virtual-high-point-nc-library-book-talk/
LOCATION:High Point Public Library\, High Point\, NC\, United States
ATTACH;FMTTYPE=image/jpeg:https://aleliabundles.com/wp-content/uploads/2026/02/High-Point-Flier-jpg.jpg
END:VEVENT
BEGIN:VEVENT
DTSTART;TZID=UTC:20260301T180000
DTEND;TZID=UTC:20260301T200000
DTSTAMP:20260420T163855
CREATED:20260215T175042Z
LAST-MODIFIED:20260215T180402Z
UID:30907-1772388000-1772395200@aleliabundles.com
SUMMARY:Sarasota ASALH and Links Joy Goddess Book Talk
DESCRIPTION:A’Lelia Bundles will chat with Renee Gilmore\, host of Empowering Voices on ABC7 Sarasota at West Coast Black Theatre\, at a Joy Goddess talk hosted by the Manasota Branch of ASALH and the Bradenton/Sarasota Chapter of The Links\, Inc. \nHere’s the registration link \n\nFrom the website \n\n\nDive into the life of A’Lelia Walker\, the Heiress of the Harlem Renaissnace. \n\n\n\n\nA’Lelia Bundles will discuss her new book\, “Joy Goddess\,” and share the scintillating story of the pioneering glamour and cultural patronage of her great-grandmother\, after whom she was named\, the hair-care heiress and Harlem Renaissance socialite A’Lelia Walker. \n\n\n  \n 
URL:https://aleliabundles.com/event/sarasota-asalh-and-links-joy-goddess-book-talk/
LOCATION:Westcoast Black Theatre\, 1012 N. Orange Avenue\, Sarasota\, FL\, 34236\, United States
ATTACH;FMTTYPE=image/jpeg:https://aleliabundles.com/wp-content/uploads/2026/02/Screenshot-Eventbrite.jpg
END:VEVENT
BEGIN:VEVENT
DTSTART;TZID=UTC:20260308T133000
DTEND;TZID=UTC:20260308T163000
DTSTAMP:20260420T163855
CREATED:20260215T175923Z
LAST-MODIFIED:20260215T223508Z
UID:30917-1772976600-1772987400@aleliabundles.com
SUMMARY:International Women's Day at MLK Library in DC
DESCRIPTION:A’Lelia will talk about the importance and urgent necessity of researching\, writing about and preserving family legacy during these times of erasure and book banning. \nFrom Unerased Black Women Speak\nAuthors\, Activists\, Artists Speak! Writing Our Story\, Righting Our History Join Unerased | Black Women Speak to celebrate Women’s History Month and International Women’s Day. We’ll honor architects of American memory\, imagination\, and change. At this pivotal moment\, we convene authors\, activists\, artists\, writers and readers to affirm Black women’s voices through Herstory—past and present.
URL:https://aleliabundles.com/event/international-womens-day-at-mlk-library-in-dc/
LOCATION:Martin Luther King\, Jr. Library\, 901 G Street\, NW\, Washington\, DC\, 20001\, United States
ATTACH;FMTTYPE=image/png:https://aleliabundles.com/wp-content/uploads/2026/02/Authors-Activists-Artists-Eventbrite-Banner-scaled.png
END:VEVENT
BEGIN:VEVENT
DTSTART;TZID=UTC:20260316T190000
DTEND;TZID=UTC:20260316T203000
DTSTAMP:20260420T163855
CREATED:20260215T181158Z
LAST-MODIFIED:20260215T181158Z
UID:30923-1773687600-1773693000@aleliabundles.com
SUMMARY:Atlanta History Center "Joy Goddess" Talk
DESCRIPTION:Click this link to register \n \nFrom the AHC website: Drawing on extensive research and personal correspondence\, A’Lelia Bundles presents a nuanced biography of a woman navigating life as a wife\, mother\, businesswoman\, and patron outside the shadow of her famous mother’s legacy. \nWith vivid detail\, Joy Goddess brings to life A’Lelia’s radiant personality\, fashion-forward influence\, and role as one of the most important cultural icons of Harlem\, offering a fresh and unforgettable portrait of the woman who embodied the spirit of a new Black cultural era.
URL:https://aleliabundles.com/event/atlanta-history-center-joy-goddess-talk/
LOCATION:Atlanta History Center\, 130 West Paces Ferry Road\, Atlanta\, GA\, 30305\, United States
ATTACH;FMTTYPE=image/jpeg:https://aleliabundles.com/wp-content/uploads/2026/02/AHC-Screenshot.jpg
END:VEVENT
BEGIN:VEVENT
DTSTART;TZID=UTC:20260321T100000
DTEND;TZID=UTC:20260321T170000
DTSTAMP:20260420T163855
CREATED:20260215T182202Z
LAST-MODIFIED:20260215T182347Z
UID:30928-1774087200-1774112400@aleliabundles.com
SUMMARY:Spelman Black Beauty STEMinist Summit
DESCRIPTION:A’Lelia will talk about Madam C. J. Walker and A’Lelia Walker at Spelman’s Black Beauty STEMinist Summit \nClick here for detailed agenda of the day \nFrom the Spelman website: The Black Beauty STEMinist is a platform for celebrating Black women in the cosmetics and personal care industry by creating a space to connect\, learn\, and thrive. We provide opportunities to engage with like-minded individuals\, gain insights from industry experts\, and grow within a supportive\, empowering community.
URL:https://aleliabundles.com/event/spelman-black-beauty-steminist-summit/
LOCATION:Spelman College\, 350 Spelman Lane\, Atlanta\, GA\, United States
ATTACH;FMTTYPE=image/jpeg:https://aleliabundles.com/wp-content/uploads/2026/02/Spelman-Screen-Shot-scaled.jpg
END:VEVENT
BEGIN:VEVENT
DTSTART;TZID=UTC:20260328T130000
DTEND;TZID=UTC:20260328T143000
DTSTAMP:20260420T163855
CREATED:20260404T203943Z
LAST-MODIFIED:20260404T203943Z
UID:31046-1774702800-1774708200@aleliabundles.com
SUMMARY:Bethune House in Washington\, DC
DESCRIPTION:In celebration of Women’s History Month\, join us as journalist and author A’Lelia Bundles discusses her latest book—Joy Goddess: A’Lelia Walker and the Harlem Renaissance.  During the 1920s\, A’Lelia Walker (daughter of Madam C.J. Walker) was an internationally famous heiress whose glamorous soirees were so memorable that poet Langston Hughes dubbed her “the joy goddess of Harlem’s 1920s.”  Long overshadowed by her mother’s legacy\, A’Lelia Walker’s radiant personality\, impresario instincts and international travels are brought to life through her voluminous personal correspondence and a trove of archival research.  Books will be available for purchase in the site bookstore. \nReservations are required. Email BethuneNHS@nps.gov. \nScreenshot
URL:https://aleliabundles.com/event/bethune-house-in-washington-dc/
LOCATION:Mary McLeod Bethune Council House\, 1318 Vermont Avenue\, NW\, Washington\, DC\, United States
ATTACH;FMTTYPE=image/jpeg:https://aleliabundles.com/wp-content/uploads/2026/04/Screenshot-APB-at-Bethune-House-2.jpg
END:VEVENT
BEGIN:VEVENT
DTSTART;TZID=UTC:20260428T170000
DTEND;TZID=UTC:20260428T181500
DTSTAMP:20260420T163855
CREATED:20260216T212750Z
LAST-MODIFIED:20260404T222750Z
UID:30936-1777395600-1777400100@aleliabundles.com
SUMMARY:Family Ties Panel at Massachusetts Historical Society (IN PERSON & VIRTUAL)
DESCRIPTION:A’Lelia will join biographers Jeffrey Boutwell and Hester Kaplan — who also have written about family members — on a panel moderated by Pulitzer Prize winner Megan Marshall.\nThe event is hybrid and free of charge. An in-person reception will begin at 4:15 PM.\nClick here to register \nFrom the MHS website: This panel discussion brings together three American subjects from different eras and professions:  George Boutwell\, 19th century Massachusetts politician; A’Lelia Walker\, Progressive Era business woman and arts patron; Justin Kaplan\, prize-winning 20th century biographer of Twain and Whitman.  What do their biographies have in common?  Boutwell: Radical Republican and Champion of Democracy was written by a distant cousin; Joy Goddess: A’Lelia Walker and the Harlem Renaissance by a great-granddaughter; and Twice Born: Finding My Father in the Margins of Biography by a daughter.  How does the “necessary entwinement”—Hester Kaplan’s phrase for the binding of biographer to subject—alter\, how does it feel\, when the subject is a family member?  Learn about three remarkable\, impactful lives\, and the writing lives of their biographer relatives.\n \n 
URL:https://aleliabundles.com/event/family-ties-panel-at-massachusetts-historical-society-in-person-virtual/
LOCATION:Massachusetts Historical Society\, 1154 Boylston Street\, Boston\, MA\, 02215\, United States
ATTACH;FMTTYPE=image/jpeg:https://aleliabundles.com/wp-content/uploads/2026/02/Screenshot-MHS-Images-only.jpg
END:VEVENT
BEGIN:VEVENT
DTSTART;TZID=UTC:20260502T150000
DTEND;TZID=UTC:20260502T160000
DTSTAMP:20260420T163855
CREATED:20260404T213629Z
LAST-MODIFIED:20260404T213811Z
UID:31052-1777734000-1777737600@aleliabundles.com
SUMMARY:Washington Writers Conference in Bethesda\, MD
DESCRIPTION:Panel: “Your Story\, Your Way”\nYou have a tale to tell\, your own or one that’s been in your family for years\, but how should you tell it? In this panel\, moderator Tre Johnson (Black Genius) talks to A’Lelia Bundles (Joy Goddess: A’Lelia Walker and the Harlem Renaissance)\, Jeannie Vanasco (The Glass Eye)\, and Jennifer Bort Yacovissi (Up the Hill to Home) about finding the right genre for your unique project. \nDon’t miss your chance to hear from these and other pros during the 2026 Washington Writers Conference on May 1-2 in Rockville\, MD. Click here to REGISTER NOW!
URL:https://aleliabundles.com/event/washington-writers-conference-in-bethesda-md/
LOCATION:Bethesda North Marriott Hotel\, 5701 Marinelli Road\, Rockville\, DC\, United States
ATTACH;FMTTYPE=image/jpeg:https://aleliabundles.com/wp-content/uploads/2026/04/Screenshot-WIWR-Writers-Conf-5-2-2026.jpg
END:VEVENT
BEGIN:VEVENT
DTSTART;TZID=UTC:20260521T173000
DTEND;TZID=UTC:20260521T193000
DTSTAMP:20260420T163855
CREATED:20260404T215338Z
LAST-MODIFIED:20260404T215528Z
UID:31061-1779384600-1779391800@aleliabundles.com
SUMMARY:Joy Goddess at Kansas City Public Library (In Person & on YouTube)
DESCRIPTION:Join the Kansas City Public Library for an inspiring evening celebrating the life and legacy of A’Lelia Walker\, the “Joy Goddess of Harlem’s 1920s.”\nAuthor A’Lelia Bundles will share insights from her latest biography\, exploring the lasting influence of the Walker family from St. Louis to the Harlem Renaissance and their impact on the arts\, civil rights\, and women’s suffrage.\nReception: 5:30 p.m.\nProgram: 6:00 p.m.\nBook signing to follow\nFree validated parking available\nAttend in person or watch live at youtube.com/kclibrary.\nThis program is cosponsored by the Greater Kansas City Chapters of Alpha Kappa Alpha Sorority\, Incorporated\, the Greater Kansas City Black History Study Group (ASALH)\, and E La Mars Cosmetology and Barber College\, with funding support from the Health Forward Foundation.
URL:https://aleliabundles.com/event/joy-goddess-at-kansas-city-public-library-in-person-on-youtube/
LOCATION:Kansas City Public Library\, 14 W. 10th Street\, Kansas City\, MO\, United States
ATTACH;FMTTYPE=image/jpeg:https://aleliabundles.com/wp-content/uploads/2026/04/Screenshot-KCPL-Save-the-Date-from-AKA-Facebook-page-on-3-25-for-5-21-2026.jpg
END:VEVENT
BEGIN:VEVENT
DTSTART;TZID=UTC:20260529T100000
DTEND;TZID=UTC:20260529T113000
DTSTAMP:20260420T163855
CREATED:20260404T221600Z
LAST-MODIFIED:20260404T221600Z
UID:31066-1780048800-1780054200@aleliabundles.com
SUMMARY:Biographers International Conference in New York
DESCRIPTION:PANEL: In the Right Hands: Biographers as Collectors\nBiographers can support their research by collecting important related material often overlooked on the market or in storerooms and unavailable in any repository or online. This panel will explore what authors have purchased\, inherited\, or been given\, whether books\, manuscripts\, periodicals\, ephemera\, artworks\, textiles\, or objects\, produced or owned by or pertaining to the biography subjects. The panelists will illustrate and illuminate the value of what they acquired\, sometimes in the most unexpected places and at the last minute\, and will discuss how items shaped their biography narratives and shed light on pivotal moments in their subjects’ lives and careers. The session will also cover how those materials can be transferred to institutional collections for safekeeping.\nModerator \nA’Lelia Bundles is the author of Joy Goddess: A’Lelia Walker and the Harlem Renaissance\, a biography of her great-grandmother\, and On Her Own Ground: The Life and Times of Madam C.J. Walker\, a New York Times Notable Book about her entrepreneurial great-great-grandmother. Her books have benefited from the voluminous Walker Company documents that her family donated to the Indiana Historical Society in the early 1980s. To organize and preserve another trove of materials inherited from her grandparents\, she founded the Madam Walker Family Archives\, the largest private collection of Walker ephemera\, photographs\, and correspondence. She serves on several nonprofit boards and was a producer and executive during her 30-year career in network television news. \nPanelists \nEve M. Kahn\, an independent scholar and regular New York Times contributor\, has written two biographies that have resulted in boxfuls of important primary source material tucked away in her home. She has thousands of pages of circa-1900 correspondence that inspired her 2019 book about the forgotten artist Mary Rogers Williams (1857-1907)\, as well as rare periodicals\, inscribed books\, photos\, ephemera\, and even restaurant cutlery related her 2025 book about the writer\, publisher and social justice activist Zoe Anderson Norris (1860-1914). \nRichard Kopley\, Distinguished Professor emeritus of English at Penn State DuBois\, is the author of Edgar Allan Poe: A Life (University of Virginia Press\, 2025). The book is informed by Kopley’s extraordinary archive of letters about Poe by Flora Lapham Mack\, the stepdaughter of Poe’s best friend\, John H. Mackenzie. Kopley is also the author of The Threads of “The Scarlet Letter”: A Study of Hawthorne’s Transformative Art (University of Delaware Press\, 2003)\, Edgar Allan Poe and the Dupin Mysteries (Palgrave Macmillan\, 2008)\, and The Formal Center in Literature: Explorations from Poe to the Present (Camden House\, 2018). Former president of the Nathaniel Hawthorne Society and the Poe Studies Association\, he is the first recipient of the PSA’s Lifetime Achievement Award. Kopley served as a Fulbright Specialist and a Virginia Humanities Fellow\, and he recently became a member of the American Antiquarian Society. \nJared Stearns is the author of Pure: The Sexual Revolutions of Marilyn Chambers (Headpress\, 2024). He has built the largest known collection of Chambers memorabilia\, spanning personal papers\, photographs\, contracts\, film\, periodicals\, ephemera\, and even clothing. He has written about Chambers for publications such as Cineaste\, The Dark Side\, and The San Franciscan. His work has also appeared in The Boston Globe\, San Francisco Chronicle\, and other publications. He is a graduate of Emerson College in Boston. He’s working on his next biography.
URL:https://aleliabundles.com/event/biographers-international-conference-in-new-york/
LOCATION:Leon Levy Center for Biography at CUNY\, 365 Fifth Avenue\, New York\, NY\, United States
ATTACH;FMTTYPE=image/jpeg:https://aleliabundles.com/wp-content/uploads/2026/04/Screenshot-BIO-do-over.jpg
END:VEVENT
BEGIN:VEVENT
DTSTART;TZID=UTC:20260617T093000
DTEND;TZID=UTC:20260617T110000
DTSTAMP:20260420T163855
CREATED:20260404T222453Z
LAST-MODIFIED:20260405T124227Z
UID:31073-1781688600-1781694000@aleliabundles.com
SUMMARY:Wednesday Morning Group in Bethesda
DESCRIPTION:A’Lelia Bundles returns to WMG to discuss her biography of her charismatic great-grandmother\,\nJoy Goddess: A’Lelia Walker and the Harlem Renaissance. A‘Lelia Walker\, best known as the\nonly daughter of hair care entrepreneur\, Madam C. J. Walker (whom Bundles memorialized\nearlier in On Her Own Ground)\, was a businesswoman and convener in her own right\, whose\nglamorous soirees were so memorable that poet Langston Hughes dubbed her “the joy goddess\nof Harlem’s 1920s.” This illustrated presentation features archival family photographs and stories of the Dark Tower cultural salon where celebrities such as Zora Neale Hurston\, Paul Robeson and Alberta Hunter gathered. \nMembers only event
URL:https://aleliabundles.com/event/wednesday-morning-group-in-bethesda/
LOCATION:Cedar Lane Unitarian Universalist Church\, Bethesda\, MD\, United States
ATTACH;FMTTYPE=image/jpeg:https://aleliabundles.com/wp-content/uploads/2026/04/Screenshot-WMG.jpg
END:VEVENT
BEGIN:VEVENT
DTSTART;TZID=UTC:20260801T120000
DTEND;TZID=UTC:20260801T170000
DTSTAMP:20260420T163855
CREATED:20260405T125523Z
LAST-MODIFIED:20260405T125523Z
UID:31081-1785585600-1785603600@aleliabundles.com
SUMMARY:Sag Harbor Black Authors Festival
DESCRIPTION:A’Lelia will receive a lifetime achievement award at the 2026 Sag Harbor Black Authors Festival.
URL:https://aleliabundles.com/event/sag-harbor-black-authors-festival/
LOCATION:Breakwater Yacht Club\, 51 Bay Street\, Sag Harbor\, NY\, United States
ATTACH;FMTTYPE=image/jpeg:https://aleliabundles.com/wp-content/uploads/2026/04/Screenshot-Flier-Sag-Harbor-8-1-2026.jpg
END:VEVENT
BEGIN:VEVENT
DTSTART;VALUE=DATE:20260808
DTEND;VALUE=DATE:20260810
DTSTAMP:20260420T163855
CREATED:20260405T132209Z
LAST-MODIFIED:20260405T132209Z
UID:31088-1786147200-1786319999@aleliabundles.com
SUMMARY:Peoria Riverfront Museum
DESCRIPTION:As part of the Joyful Resistance exhibition\, A’Lelia will talk about Joy Goddess: A’Lelia Walker and the Harlem Renaissance and the items from her Madam Walker Family Archives that are on display in the exhibition at a Saturday Members Only session and on Sunday in a public talk. \n \n 
URL:https://aleliabundles.com/event/peoria-riverfront-museum/
LOCATION:Peoria Riverfront Museum\, 222 SW Water St\, Peoria\, IL\, United States
ATTACH;FMTTYPE=image/jpeg:https://aleliabundles.com/wp-content/uploads/2026/04/00-Jacket-in-display-case-PXL_20251121_222526442-scaled.jpg
END:VEVENT
BEGIN:VEVENT
DTSTART;TZID=UTC:20260815T120000
DTEND;TZID=UTC:20260815T170000
DTSTAMP:20260420T163855
CREATED:20260405T132901Z
LAST-MODIFIED:20260405T132901Z
UID:31096-1786795200-1786813200@aleliabundles.com
SUMMARY:Martha's Vineyard Black Book Festival
DESCRIPTION:A’Lelia will talk about Joy Goddess: A’Lelia Walker and the Harlem Renaissance at the Martha’s Vineyard Black Book Festival.
URL:https://aleliabundles.com/event/marthas-vineyard-black-book-festival/
LOCATION:Island Conference Center\, 30 Island Inn Road\, Oak Bluffs\, MA\, United States
ATTACH;FMTTYPE=image/jpeg:https://aleliabundles.com/wp-content/uploads/2026/04/Screenshot-Flier-MVBBF-8-15-2026.jpg
END:VEVENT
END:VCALENDAR